PDS_VERSION_ID = PDS3
/* FILE DATA ELEMENTS */
RECORD_TYPE = UNDEFINED
/* POINTERS TO DATA OBJECTS */
^IMAGE = ("H4340_0010_BL4.TIF")
/* IDENTIFICATION DATA ELEMENTS */
DATA_SET_ID = "MEX-M-HRSC-4-REFDR-MAPPROJECT-EXT1-V4.0"
DATA_SET_NAME = "MARS EXPRESS HRSC MAP PROJECTED REFDR EXTENSION1 V4.0"
DETECTOR_ID = MEX_HRSC_BLUE
EVENT_TYPE = "MARS-REGIONAL-MAPPING-Vo-Te"
INSTRUMENT_HOST_ID = MEX
INSTRUMENT_HOST_NAME = "MARS EXPRESS"
INSTRUMENT_ID = HRSC
INSTRUMENT_NAME = "HIGH RESOLUTION STEREO CAMERA"
MISSION_NAME = "MARS EXPRESS"
MISSION_PHASE_NAME = ME_Phase_7
PROCESSING_LEVEL_ID = 4
PRODUCT_CREATION_TIME = 2023-02-10T03:49:22.000Z
PRODUCT_ID = "H4340_0010_BL4.TIF"
RELEASE_ID = 0006
REVISION_ID = 0000
/* QUALITY DATA ELEMENTS */
DATA_QUALITY_ID = 1
DATA_QUALITY_DESC = "Data calculated based on original SPICE kernels"
/* TIME DATA ELEMENTS */
SPACECRAFT_CLOCK_START_COUNT = "1/0127953197.07299"
SPACECRAFT_CLOCK_STOP_COUNT = "1/0127953341.38101"
START_TIME = 2007-05-22T22:33:49.334Z
STOP_TIME = 2007-05-22T22:34:53.228Z
/* ORBITAL DATA ELEMENTS */
ASCENDING_NODE_LONGITUDE = 137.43
MAXIMUM_RESOLUTION = 0.1206
FOOTPRINT_POINT_LATITUDE = (-24.1572,-24.1563,-24.1554,-24.1543, -24.1532,-24.152,-24.1507,-24.1493, -24.1478,-24.1462,-24.1445,-24.1427, -24.1409,-24.1387,-24.1384,-24.1409, -24.0204,-23.8597,-23.6992,-23.5388, -23.3785,-23.2584,-23.0583,-22.8985, -22.6587,-22.4991,-22.3794,-22.1801, -22.0607,-21.8617,-21.7027,-21.5438, -21.4624,-21.3808,-21.2993,-21.2178, -21.1364,-21.055,-20.9736,-20.8923, -20.7703,-20.6891,-20.6079,-20.5258, -20.4425,-20.3593,-20.2761,-20.1929, -20.1513,-20.1139,-20.1155,-20.1166, -20.1181,-20.1189,-20.1197,-20.1204, -20.1215,-20.1224,-20.1231,-20.1239, -20.1245,-20.1249,-20.1252,-20.1252, -20.1273,-20.2106,-20.2939,-20.3773, -20.4607,-20.5855,-20.6668,-20.7482, -20.8296,-20.9111,-20.9926,-21.0741, -21.1558,-21.2782,-21.3598,-21.4415, -21.5637,-21.7229,-21.8822,-22.0416, -22.2012,-22.3609,-22.5207,-22.6406, -22.8006,-22.9608,-23.1211,-23.2814, -23.482,-23.6426,-23.8033,-23.8837, -23.9642,-24.0849,-24.1251,-24.1572)
FOOTPRINT_POINT_LONGITUDE = (258.207,258.101,257.994,257.886, 257.779,257.671,257.562,257.454,257.345 ,257.236,257.127,257.017,256.907, 256.783,256.769,256.775,256.775,256.775 ,256.774,256.774,256.774,256.773, 256.772,256.772,256.771,256.77,256.769, 256.768,256.768,256.766,256.765,256.764 ,256.764,256.763,256.762,256.762, 256.761,256.76,256.759,256.759,256.758, 256.757,256.756,256.755,256.754,256.754 ,256.753,256.752,256.751,256.751,256.88 ,256.982,257.127,257.214,257.3,257.387, 257.545,257.66,257.774,257.932,258.046, 258.159,258.259,258.273,258.282,258.281 ,258.279,258.278,258.276,258.274, 258.273,258.271,258.27,258.268,258.267, 258.265,258.264,258.261,258.26,258.258, 258.256,258.253,258.25,258.247,258.244, 258.241,258.238,258.236,258.233,258.229 ,258.226,258.223,258.219,258.216, 258.213,258.211,258.209,258.207,258.206 ,258.207)
ORBIT_NUMBER = 4340
ORBITAL_ECCENTRICITY = 0.571
ORBITAL_INCLINATION = 86.69
ORBITAL_SEMIMAJOR_AXIS = 8577.03
PERIAPSIS_ALTITUDE = 292.3
PERIAPSIS_ARGUMENT_ANGLE = 313.63
PERIAPSIS_TIME = 2007-05-22T22:28:17.000Z
SPACECRAFT_ORIENTATION = (0.0,1.0,0.0)
^MEX_ORIENTATION_DESC = "MEX_ORIENTATION_DESC.TXT"
SPACECRAFT_POINTING_MODE = ACROSSTRACK
^MEX_POINTING_DESC = "MEX_POINTING_DESC.TXT"
RIGHT_ASCENSION = -1e+32
DECLINATION = -1e+32
OFFSET_ANGLE = 0.48
SPACECRAFT_SOLAR_DISTANCE = 2.06838e+08
TARGET_NAME = MARS
/* CAMERA DATA ELEMENTS */
DETECTOR_TEMPERATURE = 20.2056
FOCAL_PLANE_TEMPERATURE = 10.0106
INST_CMPRS_NAME = "DISCRETE COSINE TRANSFORMATION (DCT)"
INST_CMPRS_RATIO = 21.48
INST_CMPRS_QUALITY = 0
INST_CMPRS_QUANTZ_TBL_ID = 0
INSTRUMENT_TEMPERATURE = 14.0886
LENS_TEMPERATURE = 10.4184
MACROPIXEL_SIZE = 8
MISSING_FRAMES = 0
PIXEL_SUBSAMPLING_FLAG = N
SIGNAL_CHAIN_ID = 2
/* RADIOMETRIC DATA ELEMENTS */
BANDWIDTH = 76.0
CENTER_FILTER_WAVELENGTH = 444.0
RADIANCE_OFFSET = 0.9928
RADIANCE_SCALING_FACTOR = 0.0015658
REFLECTANCE_SCALING_FACTOR = 6.88252e-05
MEX:REFLECTANCE_OFFSET = 0.0436389
/* IMAGE OBJECT DEFINITIONS */
OBJECT = IMAGE
  INTERCHANGE_FORMAT = BINARY
  LINES = 2409
  LINE_SAMPLES = 874
  SAMPLE_TYPE = UNSIGNED_INTEGER
  SAMPLE_BITS = 8
  BANDS = 1
  BAND_STORAGE_TYPE = BAND_SEQUENTIAL
  MAXIMUM = 255
  MEAN = 140.299
  MINIMUM = 2
  STANDARD_DEVIATION = 15.9336
END_OBJECT = IMAGE
/* MAP OBJECT DEFINITIONS */
OBJECT = IMAGE_MAP_PROJECTION
  ^DATA_SET_MAP_PROJECTION_CATALOG= "DSMAP.CAT"
  A_AXIS_RADIUS = 3396.0
  B_AXIS_RADIUS = 3396.0
  C_AXIS_RADIUS = 3396.0
  CENTER_LATITUDE = 0.0
  CENTER_LONGITUDE = 258.0
  COORDINATE_SYSTEM_NAME = PLANETOGRAPHIC
  COORDINATE_SYSTEM_TYPE = "BODY-FIXED ROTATING"
  EASTERNMOST_LONGITUDE = 258.282
  FIRST_STANDARD_PARALLEL = "N/A"
  LINE_FIRST_PIXEL = 1
  LINE_LAST_PIXEL = 2409
  LINE_PROJECTION_OFFSET = -11915.8125
  MAP_PROJECTION_ROTATION = 0.0
  MAP_PROJECTION_TYPE = SINUSOIDAL
  MAP_RESOLUTION = 592.713803866667
  MAP_SCALE = 0.1
  MAXIMUM_LATITUDE = -20.1139
  MINIMUM_LATITUDE = -24.1572
  POSITIVE_LONGITUDE_DIRECTION = EAST
  REFERENCE_LATITUDE = "N/A"
  REFERENCE_LONGITUDE = "N/A"
  SAMPLE_FIRST_PIXEL = 1
  SAMPLE_LAST_PIXEL = 874
  SAMPLE_PROJECTION_OFFSET = 710.9375
  SECOND_STANDARD_PARALLEL = "N/A"
  WESTERNMOST_LONGITUDE = 256.751
END_OBJECT = IMAGE_MAP_PROJECTION
END
