PDS_VERSION_ID = PDS3
/* FILE DATA ELEMENTS */
RECORD_TYPE = UNDEFINED
/* POINTERS TO DATA OBJECTS */
^IMAGE = ("H4337_0000_S24.TIF")
/* IDENTIFICATION DATA ELEMENTS */
DATA_SET_ID = "MEX-M-HRSC-4-REFDR-MAPPROJECT-EXT1-V4.0"
DATA_SET_NAME = "MARS EXPRESS HRSC MAP PROJECTED REFDR EXTENSION1 V4.0"
DETECTOR_ID = MEX_HRSC_S2
EVENT_TYPE = "MARS-REGIONAL-MAPPING-Vo-Te-Im"
INSTRUMENT_HOST_ID = MEX
INSTRUMENT_HOST_NAME = "MARS EXPRESS"
INSTRUMENT_ID = HRSC
INSTRUMENT_NAME = "HIGH RESOLUTION STEREO CAMERA"
MISSION_NAME = "MARS EXPRESS"
MISSION_PHASE_NAME = ME_Phase_7
PROCESSING_LEVEL_ID = 4
PRODUCT_CREATION_TIME = 2023-02-10T03:49:22.000Z
PRODUCT_ID = "H4337_0000_S24.TIF"
RELEASE_ID = 0006
REVISION_ID = 0000
/* QUALITY DATA ELEMENTS */
DATA_QUALITY_ID = 1
DATA_QUALITY_DESC = "Data calculated based on original SPICE kernels"
/* TIME DATA ELEMENTS */
SPACECRAFT_CLOCK_START_COUNT = "1/0127880179.08423"
SPACECRAFT_CLOCK_STOP_COUNT = "1/0127880406.24636"
START_TIME = 2007-05-22T02:16:23.274Z
STOP_TIME = 2007-05-22T02:19:16.249Z
/* ORBITAL DATA ELEMENTS */
ASCENDING_NODE_LONGITUDE = 137.48
MAXIMUM_RESOLUTION = 0.0247
FOOTPRINT_POINT_LATITUDE = (-53.1133,-53.082,-53.0471,-53.0006, -52.9993,-52.9265,-52.7043,-52.4727, -52.2417,-52.0092,-51.7753,-51.5424, -51.3087,-51.0742,-50.8414,-50.6086, -50.3835,-50.1585,-49.9333,-49.7079, -49.4822,-49.1438,-48.9178,-48.691, -48.351,-48.0114,-47.6711,-47.4442, -47.104,-46.8769,-46.5362,-46.3156, -45.9737,-45.7446,-45.5229,-45.1924, -44.9692,-44.7486,-44.4169,-44.1959, -43.9744,-43.6411,-43.1993,-42.9769, -42.6436,-42.4215,-42.2004,-41.9775, -41.7555,-41.6442,-41.6361,-41.6782, -41.7148,-41.7154,-41.716,-41.9376, -42.1606,-42.4954,-42.7186,-42.9416, -43.1625,-43.4963,-43.72,-43.9424, -44.1639,-44.3863,-44.7185,-45.0461, -45.3826,-45.8254,-46.0563,-46.3965, -46.6245,-46.85,-47.078,-47.3061, -47.5332,-47.7594,-47.9863,-48.2139, -48.4413,-48.7822,-49.1228,-49.4633, -49.69,-49.9165,-50.2561,-50.4827, -50.7089,-50.9452,-51.1844,-51.5426, -51.7686,-52.0005,-52.2318,-52.4615, -52.6968,-52.9275,-53.0424,-53.1133)
FOOTPRINT_POINT_LONGITUDE = (191.848,191.309,190.763,190.107,190.09 ,190.031,190.071,190.104,190.137, 190.169,190.199,190.23,190.259,190.288, 190.318,190.347,190.375,190.402,190.429 ,190.456,190.482,190.52,190.546,190.57, 190.606,190.642,190.677,190.7,190.734, 190.756,190.789,190.815,190.846,190.865 ,190.883,190.911,190.927,190.945, 190.971,190.988,191.005,191.029,191.062 ,191.077,191.1,191.115,191.13,191.144, 191.159,191.165,191.166,191.841,192.53, 192.543,192.548,192.538,192.528,192.513 ,192.503,192.492,192.482,192.466, 192.455,192.445,192.434,192.423,192.406 ,192.389,192.371,192.347,192.334, 192.316,192.303,192.29,192.277,192.263, 192.25,192.236,192.223,192.208,192.194, 192.172,192.15,192.128,192.112,192.097, 192.073,192.057,192.041,192.023,192.005 ,191.978,191.961,191.943,191.925, 191.907,191.887,191.869,191.859, 191.848)
ORBIT_NUMBER = 4337
ORBITAL_ECCENTRICITY = 0.571
ORBITAL_INCLINATION = 86.7
ORBITAL_SEMIMAJOR_AXIS = 8573.61
PERIAPSIS_ALTITUDE = 292.99
PERIAPSIS_ARGUMENT_ANGLE = 314.18
PERIAPSIS_TIME = 2007-05-22T02:18:42.000Z
SPACECRAFT_ORIENTATION = (0.0,1.0,0.0)
^MEX_ORIENTATION_DESC = "MEX_ORIENTATION_DESC.TXT"
SPACECRAFT_POINTING_MODE = ACROSSTRACK
^MEX_POINTING_DESC = "MEX_POINTING_DESC.TXT"
RIGHT_ASCENSION = -1e+32
DECLINATION = -1e+32
OFFSET_ANGLE = 0.45
SPACECRAFT_SOLAR_DISTANCE = 2.06861e+08
TARGET_NAME = MARS
/* CAMERA DATA ELEMENTS */
DETECTOR_TEMPERATURE = 18.7783
FOCAL_PLANE_TEMPERATURE = 8.7872
INST_CMPRS_NAME = "DISCRETE COSINE TRANSFORMATION (DCT)"
INST_CMPRS_RATIO = 9.55696
INST_CMPRS_QUALITY = 0
INST_CMPRS_QUANTZ_TBL_ID = 0
INSTRUMENT_TEMPERATURE = 11.4379
LENS_TEMPERATURE = 8.9911
MACROPIXEL_SIZE = 2
MISSING_FRAMES = 0
PIXEL_SUBSAMPLING_FLAG = N
SIGNAL_CHAIN_ID = 1
/* RADIOMETRIC DATA ELEMENTS */
BANDWIDTH = 178.0
CENTER_FILTER_WAVELENGTH = 679.0
RADIANCE_OFFSET = 6.50446
RADIANCE_SCALING_FACTOR = 0.0170754
REFLECTANCE_SCALING_FACTOR = 0.000386954
MEX:REFLECTANCE_OFFSET = 0.147401
/* IMAGE OBJECT DEFINITIONS */
OBJECT = IMAGE
  INTERCHANGE_FORMAT = BINARY
  LINES = 26959
  LINE_SAMPLES = 3756
  SAMPLE_TYPE = UNSIGNED_INTEGER
  SAMPLE_BITS = 8
  BANDS = 1
  BAND_STORAGE_TYPE = BAND_SEQUENTIAL
  MAXIMUM = 255
  MEAN = 127.492
  MINIMUM = 1
  STANDARD_DEVIATION = 37.316
END_OBJECT = IMAGE
/* MAP OBJECT DEFINITIONS */
OBJECT = IMAGE_MAP_PROJECTION
  ^DATA_SET_MAP_PROJECTION_CATALOG= "DSMAP.CAT"
  A_AXIS_RADIUS = 3396.0
  B_AXIS_RADIUS = 3396.0
  C_AXIS_RADIUS = 3396.0
  CENTER_LATITUDE = 0.0
  CENTER_LONGITUDE = 192.0
  COORDINATE_SYSTEM_NAME = PLANETOGRAPHIC
  COORDINATE_SYSTEM_TYPE = "BODY-FIXED ROTATING"
  EASTERNMOST_LONGITUDE = 192.548
  FIRST_STANDARD_PARALLEL = "N/A"
  LINE_FIRST_PIXEL = 1
  LINE_LAST_PIXEL = 26959
  LINE_PROJECTION_OFFSET = -98739.25
  MAP_PROJECTION_ROTATION = 0.0
  MAP_PROJECTION_TYPE = SINUSOIDAL
  MAP_RESOLUTION = 2370.85521546667
  MAP_SCALE = 0.025
  MAXIMUM_LATITUDE = -41.6361
  MINIMUM_LATITUDE = -53.1133
  POSITIVE_LONGITUDE_DIRECTION = EAST
  REFERENCE_LATITUDE = "N/A"
  REFERENCE_LONGITUDE = "N/A"
  SAMPLE_FIRST_PIXEL = 1
  SAMPLE_LAST_PIXEL = 3756
  SAMPLE_PROJECTION_OFFSET = 2778.75
  SECOND_STANDARD_PARALLEL = "N/A"
  WESTERNMOST_LONGITUDE = 190.031
END_OBJECT = IMAGE_MAP_PROJECTION
END
