PDS_VERSION_ID = PDS3
/* FILE DATA ELEMENTS */
RECORD_TYPE = UNDEFINED
/* POINTERS TO DATA OBJECTS */
^IMAGE = ("H4330_0000_S14.TIF")
/* IDENTIFICATION DATA ELEMENTS */
DATA_SET_ID = "MEX-M-HRSC-4-REFDR-MAPPROJECT-EXT1-V4.0"
DATA_SET_NAME = "MARS EXPRESS HRSC MAP PROJECTED REFDR EXTENSION1 V4.0"
DETECTOR_ID = MEX_HRSC_S1
EVENT_TYPE = "MARS-REGIONAL-MAPPING-Vo-Im-Fl"
INSTRUMENT_HOST_ID = MEX
INSTRUMENT_HOST_NAME = "MARS EXPRESS"
INSTRUMENT_ID = HRSC
INSTRUMENT_NAME = "HIGH RESOLUTION STEREO CAMERA"
MISSION_NAME = "MARS EXPRESS"
MISSION_PHASE_NAME = ME_Phase_7
PROCESSING_LEVEL_ID = 4
PRODUCT_CREATION_TIME = 2023-02-10T03:49:22.000Z
PRODUCT_ID = "H4330_0000_S14.TIF"
RELEASE_ID = 0006
REVISION_ID = 0000
/* QUALITY DATA ELEMENTS */
DATA_QUALITY_ID = 1
DATA_QUALITY_DESC = "Data calculated based on original SPICE kernels"
/* TIME DATA ELEMENTS */
SPACECRAFT_CLOCK_START_COUNT = "1/0127710953.07297"
SPACECRAFT_CLOCK_STOP_COUNT = "1/0127711192.14347"
START_TIME = 2007-05-20T03:16:49.003Z
STOP_TIME = 2007-05-20T03:19:54.358Z
/* ORBITAL DATA ELEMENTS */
ASCENDING_NODE_LONGITUDE = 137.63
MAXIMUM_RESOLUTION = 0.0249
FOOTPRINT_POINT_LATITUDE = (-44.5042,-44.4916,-44.4823,-44.4695, -44.4691,-44.5163,-44.1692,-43.8217, -43.59,-43.1288,-42.6669,-42.3203, -42.0882,-41.8547,-41.613,-41.374, -41.1322,-40.8916,-40.6547,-40.3016, -40.0615,-39.7034,-39.4708,-39.2357, -38.9989,-38.7627,-38.5263,-38.289, -38.0528,-37.8175,-37.5829,-37.3395, -36.975,-36.7314,-36.4892,-36.2466, -36.002,-35.6365,-35.3913,-35.149, -34.908,-34.5376,-34.2902,-34.0426, -33.7947,-33.4232,-33.1754,-32.9282, -32.677,-32.5496,-32.5182,-32.5245, -32.527,-32.5363,-32.5364,-32.5368, -32.9183,-33.1673,-33.5376,-33.7872, -34.036,-34.4089,-34.6583,-34.9124, -35.1493,-35.5126,-35.7547,-36.1181, -36.3609,-36.6033,-36.8465,-37.0897, -37.3331,-37.6956,-37.9309,-38.1665, -38.4026,-38.6388,-38.8754,-39.1117, -39.3474,-39.5843,-39.821,-40.0603, -40.4151,-40.6537,-41.0114,-41.3699, -41.7318,-41.972,-42.2094,-42.6715, -42.903,-43.134,-43.4807,-43.8287, -44.1779,-44.4107,-44.5271,-44.5042)
FOOTPRINT_POINT_LONGITUDE = (160.99,160.435,160.071,159.611,159.598 ,159.57,159.592,159.613,159.627,159.653 ,159.679,159.698,159.71,159.72,159.732, 159.744,159.757,159.769,159.779,159.793 ,159.805,159.82,159.828,159.836,159.846 ,159.854,159.863,159.872,159.88,159.888 ,159.896,159.903,159.914,159.922, 159.929,159.935,159.943,159.953,159.961 ,159.967,159.973,159.98,159.984,159.989 ,159.994,160.001,160.005,160.009, 160.013,160.015,160.016,160.292,160.727 ,161.361,161.375,161.379,161.371, 161.366,161.356,161.351,161.345,161.335 ,161.329,161.324,161.316,161.307, 161.301,161.291,161.284,161.278,161.271 ,161.264,161.257,161.246,161.239, 161.232,161.225,161.218,161.211,161.203 ,161.195,161.188,161.18,161.173,161.16, 161.153,161.141,161.128,161.116,161.108 ,161.099,161.083,161.074,161.065, 161.052,161.038,161.025,161.016,161.011 ,160.99)
ORBIT_NUMBER = 4330
ORBITAL_ECCENTRICITY = 0.571
ORBITAL_INCLINATION = 86.69
ORBITAL_SEMIMAJOR_AXIS = 8577.22
PERIAPSIS_ALTITUDE = 293.71
PERIAPSIS_ARGUMENT_ANGLE = 315.42
PERIAPSIS_TIME = 2007-05-20T03:16:25.000Z
SPACECRAFT_ORIENTATION = (0.0,1.0,0.0)
^MEX_ORIENTATION_DESC = "MEX_ORIENTATION_DESC.TXT"
SPACECRAFT_POINTING_MODE = NADIR
^MEX_POINTING_DESC = "MEX_POINTING_DESC.TXT"
RIGHT_ASCENSION = -1e+32
DECLINATION = -1e+32
OFFSET_ANGLE = -1e+32
SPACECRAFT_SOLAR_DISTANCE = 2.06922e+08
TARGET_NAME = MARS
/* CAMERA DATA ELEMENTS */
DETECTOR_TEMPERATURE = 17.7588
FOCAL_PLANE_TEMPERATURE = 9.195
INST_CMPRS_NAME = "DISCRETE COSINE TRANSFORMATION (DCT)"
INST_CMPRS_RATIO = 8.24251
INST_CMPRS_QUALITY = 0
INST_CMPRS_QUANTZ_TBL_ID = 0
INSTRUMENT_TEMPERATURE = 11.234
LENS_TEMPERATURE = 9.195
MACROPIXEL_SIZE = 2
MISSING_FRAMES = 1
PIXEL_SUBSAMPLING_FLAG = N
SIGNAL_CHAIN_ID = 1
/* RADIOMETRIC DATA ELEMENTS */
BANDWIDTH = 180.0
CENTER_FILTER_WAVELENGTH = 677.0
RADIANCE_OFFSET = 6.76851
RADIANCE_SCALING_FACTOR = 0.0162314
REFLECTANCE_SCALING_FACTOR = 0.000362587
MEX:REFLECTANCE_OFFSET = 0.151199
/* IMAGE OBJECT DEFINITIONS */
OBJECT = IMAGE
  INTERCHANGE_FORMAT = BINARY
  LINES = 28570
  LINE_SAMPLES = 3127
  SAMPLE_TYPE = UNSIGNED_INTEGER
  SAMPLE_BITS = 8
  BANDS = 1
  BAND_STORAGE_TYPE = BAND_SEQUENTIAL
  MAXIMUM = 255
  MEAN = 123.351
  MINIMUM = 1
  STANDARD_DEVIATION = 39.3405
END_OBJECT = IMAGE
/* MAP OBJECT DEFINITIONS */
OBJECT = IMAGE_MAP_PROJECTION
  ^DATA_SET_MAP_PROJECTION_CATALOG= "DSMAP.CAT"
  A_AXIS_RADIUS = 3396.0
  B_AXIS_RADIUS = 3396.0
  C_AXIS_RADIUS = 3396.0
  CENTER_LATITUDE = 0.0
  CENTER_LONGITUDE = 161.0
  COORDINATE_SYSTEM_NAME = PLANETOGRAPHIC
  COORDINATE_SYSTEM_TYPE = "BODY-FIXED ROTATING"
  EASTERNMOST_LONGITUDE = 161.379
  FIRST_STANDARD_PARALLEL = "N/A"
  LINE_FIRST_PIXEL = 1
  LINE_LAST_PIXEL = 28570
  LINE_PROJECTION_OFFSET = -77101.75
  MAP_PROJECTION_ROTATION = 0.0
  MAP_PROJECTION_TYPE = SINUSOIDAL
  MAP_RESOLUTION = 2370.85521546667
  MAP_SCALE = 0.025
  MAXIMUM_LATITUDE = -32.5182
  MINIMUM_LATITUDE = -44.5271
  POSITIVE_LONGITUDE_DIRECTION = EAST
  REFERENCE_LATITUDE = "N/A"
  REFERENCE_LONGITUDE = "N/A"
  SAMPLE_FIRST_PIXEL = 1
  SAMPLE_LAST_PIXEL = 3127
  SAMPLE_PROJECTION_OFFSET = 2414.75
  SECOND_STANDARD_PARALLEL = "N/A"
  WESTERNMOST_LONGITUDE = 159.57
END_OBJECT = IMAGE_MAP_PROJECTION
END
