PDS_VERSION_ID = PDS3
/* FILE DATA ELEMENTS */
RECORD_TYPE = UNDEFINED
/* POINTERS TO DATA OBJECTS */
^IMAGE = ("H4327_0000_RE4.TIF")
/* IDENTIFICATION DATA ELEMENTS */
DATA_SET_ID = "MEX-M-HRSC-4-REFDR-MAPPROJECT-EXT1-V4.0"
DATA_SET_NAME = "MARS EXPRESS HRSC MAP PROJECTED REFDR EXTENSION1 V4.0"
DETECTOR_ID = MEX_HRSC_RED
EVENT_TYPE = "MARS-REGIONAL-MAPPING-Vo-Te-Im"
INSTRUMENT_HOST_ID = MEX
INSTRUMENT_HOST_NAME = "MARS EXPRESS"
INSTRUMENT_ID = HRSC
INSTRUMENT_NAME = "HIGH RESOLUTION STEREO CAMERA"
MISSION_NAME = "MARS EXPRESS"
MISSION_PHASE_NAME = ME_Phase_7
PROCESSING_LEVEL_ID = 4
PRODUCT_CREATION_TIME = 2023-02-10T03:49:22.000Z
PRODUCT_ID = "H4327_0000_RE4.TIF"
RELEASE_ID = 0006
REVISION_ID = 0000
/* QUALITY DATA ELEMENTS */
DATA_QUALITY_ID = 1
DATA_QUALITY_DESC = "Data calculated based on original SPICE kernels"
/* TIME DATA ELEMENTS */
SPACECRAFT_CLOCK_START_COUNT = "1/0127638122.09062"
SPACECRAFT_CLOCK_STOP_COUNT = "1/0127638349.09623"
START_TIME = 2007-05-19T07:02:12.421Z
STOP_TIME = 2007-05-19T07:05:02.702Z
/* ORBITAL DATA ELEMENTS */
ASCENDING_NODE_LONGITUDE = 137.69
MAXIMUM_RESOLUTION = 0.051
FOOTPRINT_POINT_LATITUDE = (-60.4556,-60.4233,-60.3967,-60.3538, -60.3212,-60.3197,-60.2518,-59.9337, -59.6052,-59.2709,-59.053,-58.8346, -58.5077,-58.2896,-58.0705,-57.742, -57.5225,-57.3015,-57.0763,-56.742, -56.5226,-56.3078,-55.9878,-55.7675, -55.4434,-55.2312,-55.0176,-54.8006, -54.5734,-54.3571,-54.1468,-53.8316, -53.6207,-53.3041,-53.093,-52.8816, -52.565,-52.3539,-51.9511,-51.748, -51.3434,-51.133,-50.9201,-50.7181, -50.5061,-50.1923,-49.8822,-49.6772, -49.5775,-49.5194,-49.5475,-49.5704, -49.5979,-49.5985,-49.599,-50.0074, -50.2141,-50.4274,-50.7452,-50.9604, -51.1642,-51.4674,-51.6709,-51.8784, -52.2824,-52.4892,-52.7026,-52.9165, -53.2352,-53.4481,-53.6616,-53.8727, -54.0862,-54.2965,-54.505,-54.7229, -54.9436,-55.1599,-55.38,-55.6999, -55.9143,-56.1312,-56.3548,-56.6899, -57.0245,-57.2475,-57.4702,-57.6992, -57.9234,-58.1439,-58.365,-58.5848, -58.9086,-59.1267,-59.3464,-59.6777, -59.8956,-60.2226,-60.3316,-60.4556)
FOOTPRINT_POINT_LONGITUDE = (94.2658,93.5748,93.0665,92.3258,91.814 ,91.7907,91.7363,91.823,91.9008,91.9729 ,92.0238,92.0738,92.1482,92.1969, 92.2444,92.3147,92.3606,92.4049,92.4457 ,92.5084,92.5521,92.5987,92.6637, 92.6988,92.7552,92.795,92.8335,92.8692, 92.8972,92.9312,92.9642,93.0133,93.0451 ,93.092,93.1229,93.1532,93.1985,93.228, 93.2881,93.3165,93.3738,93.3964,93.4171 ,93.445,93.4658,93.4994,93.5351,93.5582 ,93.5694,93.5759,94.1014,94.5631, 95.2049,95.2202,95.2254,95.2009,95.1886 ,95.1737,95.1517,95.1355,95.1233, 95.1056,95.0929,95.0785,95.0534,95.039, 95.0236,95.0078,94.9845,94.9684,94.9518 ,94.9359,94.9186,94.9024,94.8867, 94.8691,94.85,94.8325,94.8129,94.7875, 94.7696,94.7502,94.7282,94.6973,94.6656 ,94.644,94.622,94.5964,94.5726,94.5504, 94.5273,94.5044,94.4724,94.4492,94.4247 ,94.3858,94.3609,94.3224,94.3093, 94.2658)
ORBIT_NUMBER = 4327
ORBITAL_ECCENTRICITY = 0.571
ORBITAL_INCLINATION = 86.69
ORBITAL_SEMIMAJOR_AXIS = 8581.51
PERIAPSIS_ALTITUDE = 292.43
PERIAPSIS_ARGUMENT_ANGLE = 315.91
PERIAPSIS_TIME = 2007-05-19T07:06:50.000Z
SPACECRAFT_ORIENTATION = (0.0,1.0,0.0)
^MEX_ORIENTATION_DESC = "MEX_ORIENTATION_DESC.TXT"
SPACECRAFT_POINTING_MODE = ACROSSTRACK
^MEX_POINTING_DESC = "MEX_POINTING_DESC.TXT"
RIGHT_ASCENSION = -1e+32
DECLINATION = -1e+32
OFFSET_ANGLE = 0.25
SPACECRAFT_SOLAR_DISTANCE = 2.0695e+08
TARGET_NAME = MARS
/* CAMERA DATA ELEMENTS */
DETECTOR_TEMPERATURE = 18.7783
FOCAL_PLANE_TEMPERATURE = 9.3989
INST_CMPRS_NAME = "DISCRETE COSINE TRANSFORMATION (DCT)"
INST_CMPRS_RATIO = 27.2967
INST_CMPRS_QUALITY = 0
INST_CMPRS_QUANTZ_TBL_ID = 0
INSTRUMENT_TEMPERATURE = 11.4379
LENS_TEMPERATURE = 9.6028
MACROPIXEL_SIZE = 4
MISSING_FRAMES = 0
PIXEL_SUBSAMPLING_FLAG = N
SIGNAL_CHAIN_ID = 2
/* RADIOMETRIC DATA ELEMENTS */
BANDWIDTH = 48.0
CENTER_FILTER_WAVELENGTH = 748.0
RADIANCE_OFFSET = 2.10908
RADIANCE_SCALING_FACTOR = 0.00409752
REFLECTANCE_SCALING_FACTOR = 0.000400481
MEX:REFLECTANCE_OFFSET = 0.206136
/* IMAGE OBJECT DEFINITIONS */
OBJECT = IMAGE
  INTERCHANGE_FORMAT = BINARY
  LINES = 12853
  LINE_SAMPLES = 2238
  SAMPLE_TYPE = UNSIGNED_INTEGER
  SAMPLE_BITS = 8
  BANDS = 1
  BAND_STORAGE_TYPE = BAND_SEQUENTIAL
  MAXIMUM = 255
  MEAN = 92.3092
  MINIMUM = 1
  STANDARD_DEVIATION = 35.5041
END_OBJECT = IMAGE
/* MAP OBJECT DEFINITIONS */
OBJECT = IMAGE_MAP_PROJECTION
  ^DATA_SET_MAP_PROJECTION_CATALOG= "DSMAP.CAT"
  A_AXIS_RADIUS = 3396.0
  B_AXIS_RADIUS = 3396.0
  C_AXIS_RADIUS = 3396.0
  CENTER_LATITUDE = 0.0
  CENTER_LONGITUDE = 94.0
  COORDINATE_SYSTEM_NAME = PLANETOGRAPHIC
  COORDINATE_SYSTEM_TYPE = "BODY-FIXED ROTATING"
  EASTERNMOST_LONGITUDE = 95.22539999999999
  FIRST_STANDARD_PARALLEL = "N/A"
  LINE_FIRST_PIXEL = 1
  LINE_LAST_PIXEL = 12853
  LINE_PROJECTION_OFFSET = -58711.125
  MAP_PROJECTION_ROTATION = 0.0
  MAP_PROJECTION_TYPE = SINUSOIDAL
  MAP_RESOLUTION = 1185.42760773333
  MAP_SCALE = 0.05
  MAXIMUM_LATITUDE = -49.5194
  MINIMUM_LATITUDE = -60.4556
  POSITIVE_LONGITUDE_DIRECTION = EAST
  REFERENCE_LATITUDE = "N/A"
  REFERENCE_LONGITUDE = "N/A"
  SAMPLE_FIRST_PIXEL = 1
  SAMPLE_LAST_PIXEL = 2238
  SAMPLE_PROJECTION_OFFSET = 1304.375
  SECOND_STANDARD_PARALLEL = "N/A"
  WESTERNMOST_LONGITUDE = 91.7363
END_OBJECT = IMAGE_MAP_PROJECTION
END
