PDS_VERSION_ID = PDS3
/* FILE DATA ELEMENTS */
RECORD_TYPE = UNDEFINED
/* POINTERS TO DATA OBJECTS */
^IMAGE = ("H4325_0000_S14.TIF")
/* IDENTIFICATION DATA ELEMENTS */
DATA_SET_ID = "MEX-M-HRSC-4-REFDR-MAPPROJECT-EXT1-V4.0"
DATA_SET_NAME = "MARS EXPRESS HRSC MAP PROJECTED REFDR EXTENSION1 V4.0"
DETECTOR_ID = MEX_HRSC_S1
EVENT_TYPE = "MARS-REGIONAL-MAPPING-Vo-Te-Fl"
INSTRUMENT_HOST_ID = MEX
INSTRUMENT_HOST_NAME = "MARS EXPRESS"
INSTRUMENT_ID = HRSC
INSTRUMENT_NAME = "HIGH RESOLUTION STEREO CAMERA"
MISSION_NAME = "MARS EXPRESS"
MISSION_PHASE_NAME = ME_Phase_7
PROCESSING_LEVEL_ID = 4
PRODUCT_CREATION_TIME = 2023-02-10T03:49:22.000Z
PRODUCT_ID = "H4325_0000_S14.TIF"
RELEASE_ID = 0006
REVISION_ID = 0000
/* QUALITY DATA ELEMENTS */
DATA_QUALITY_ID = 1
DATA_QUALITY_DESC = "Data calculated based on original SPICE kernels"
/* TIME DATA ELEMENTS */
SPACECRAFT_CLOCK_START_COUNT = "1/0127590139.08425"
SPACECRAFT_CLOCK_STOP_COUNT = "1/0127590333.57940"
START_TIME = 2007-05-18T17:43:52.757Z
STOP_TIME = 2007-05-18T17:45:36.034Z
/* ORBITAL DATA ELEMENTS */
ASCENDING_NODE_LONGITUDE = 137.73
MAXIMUM_RESOLUTION = 0.0274
FOOTPRINT_POINT_LATITUDE = (-32.0474,-32.0389,-32.0326,-32.0261, -32.0196,-32.0129,-32.006,-32.0056, -32.0126,-31.8868,-31.6983,-31.5726, -31.4464,-31.2584,-31.0704,-30.8779, -30.625,-30.4375,-30.1873,-30.0573, -29.9291,-29.8014,-29.6079,-29.4783, -29.3507,-29.222,-28.9727,-28.7827, -28.6559,-28.5289,-28.4024,-28.2756, -28.0859,-27.9595,-27.8329,-27.7046, -27.5781,-27.4515,-27.3252,-27.136, -26.9468,-26.6953,-26.569,-26.3799, -26.0665,-25.8523,-25.703,-25.6285, -25.6257,-25.631,-25.6377,-25.6432, -25.6473,-25.6547,-25.6604,-25.6607, -25.6612,-25.8115,-25.9596,-26.0993, -26.3508,-26.4766,-26.6027,-26.7918, -26.9177,-27.1076,-27.2342,-27.424, -27.5515,-27.6772,-27.8042,-27.9312, -28.1225,-28.251,-28.5033,-28.6938, -28.8211,-28.9481,-29.0749,-29.2012, -29.4527,-29.6464,-29.7786,-29.9071, -30.0345,-30.1628,-30.2915,-30.4803, -30.6062,-30.7372,-30.8637,-30.9911, -31.1171,-31.3693,-31.5577,-31.6838, -31.8098,-31.9986,-32.0606,-32.0474)
FOOTPRINT_POINT_LONGITUDE = (293.244,292.955,292.747,292.54,292.334 ,292.129,291.925,291.912,291.907, 291.908,291.91,291.911,291.912,291.913, 291.914,291.916,291.917,291.918,291.919 ,291.92,291.92,291.921,291.921,291.922, 291.922,291.922,291.922,291.922,291.922 ,291.922,291.921,291.921,291.921, 291.921,291.92,291.92,291.92,291.92, 291.919,291.919,291.918,291.917,291.916 ,291.915,291.914,291.912,291.911, 291.911,291.911,292.13,292.393,292.615, 292.782,293.091,293.331,293.345,293.351 ,293.349,293.346,293.344,293.34,293.339 ,293.337,293.334,293.332,293.329, 293.328,293.325,293.323,293.321,293.319 ,293.317,293.314,293.313,293.307, 293.304,293.302,293.299,293.296,293.293 ,293.286,293.284,293.284,293.282, 293.279,293.276,293.275,293.273,293.271 ,293.273,293.271,293.271,293.269, 293.265,293.262,293.26,293.258,293.255, 293.254,293.244)
ORBIT_NUMBER = 4325
ORBITAL_ECCENTRICITY = 0.571
ORBITAL_INCLINATION = 86.68
ORBITAL_SEMIMAJOR_AXIS = 8580.02
PERIAPSIS_ALTITUDE = 293.33
PERIAPSIS_ARGUMENT_ANGLE = 316.29
PERIAPSIS_TIME = 2007-05-18T17:40:29.000Z
SPACECRAFT_ORIENTATION = (0.0,1.0,0.0)
^MEX_ORIENTATION_DESC = "MEX_ORIENTATION_DESC.TXT"
SPACECRAFT_POINTING_MODE = ACROSSTRACK
^MEX_POINTING_DESC = "MEX_POINTING_DESC.TXT"
RIGHT_ASCENSION = -1e+32
DECLINATION = -1e+32
OFFSET_ANGLE = -0.4
SPACECRAFT_SOLAR_DISTANCE = 2.0697e+08
TARGET_NAME = MARS
/* CAMERA DATA ELEMENTS */
DETECTOR_TEMPERATURE = 19.5939
FOCAL_PLANE_TEMPERATURE = 9.8067
INST_CMPRS_NAME = "DISCRETE COSINE TRANSFORMATION (DCT)"
INST_CMPRS_RATIO = 10.5364
INST_CMPRS_QUALITY = 0
INST_CMPRS_QUANTZ_TBL_ID = 0
INSTRUMENT_TEMPERATURE = 14.2925
LENS_TEMPERATURE = 10.0106
MACROPIXEL_SIZE = 2
MISSING_FRAMES = 0
PIXEL_SUBSAMPLING_FLAG = N
SIGNAL_CHAIN_ID = 1
/* RADIOMETRIC DATA ELEMENTS */
BANDWIDTH = 180.0
CENTER_FILTER_WAVELENGTH = 677.0
RADIANCE_OFFSET = 5.87064
RADIANCE_SCALING_FACTOR = 0.0198827
REFLECTANCE_SCALING_FACTOR = 0.000444359
MEX:REFLECTANCE_OFFSET = 0.131203
/* IMAGE OBJECT DEFINITIONS */
OBJECT = IMAGE
  INTERCHANGE_FORMAT = BINARY
  LINES = 10654
  LINE_SAMPLES = 2924
  SAMPLE_TYPE = UNSIGNED_INTEGER
  SAMPLE_BITS = 8
  BANDS = 1
  BAND_STORAGE_TYPE = BAND_SEQUENTIAL
  MAXIMUM = 253
  MEAN = 84.5896
  MINIMUM = 1
  STANDARD_DEVIATION = 22.5717
END_OBJECT = IMAGE
/* MAP OBJECT DEFINITIONS */
OBJECT = IMAGE_MAP_PROJECTION
  ^DATA_SET_MAP_PROJECTION_CATALOG= "DSMAP.CAT"
  A_AXIS_RADIUS = 3396.0
  B_AXIS_RADIUS = 3396.0
  C_AXIS_RADIUS = 3396.0
  CENTER_LATITUDE = 0.0
  CENTER_LONGITUDE = 293.0
  COORDINATE_SYSTEM_NAME = PLANETOGRAPHIC
  COORDINATE_SYSTEM_TYPE = "BODY-FIXED ROTATING"
  EASTERNMOST_LONGITUDE = 293.351
  FIRST_STANDARD_PARALLEL = "N/A"
  LINE_FIRST_PIXEL = 1
  LINE_LAST_PIXEL = 10654
  LINE_PROJECTION_OFFSET = -60839.75
  MAP_PROJECTION_ROTATION = 0.0
  MAP_PROJECTION_TYPE = SINUSOIDAL
  MAP_RESOLUTION = 2370.85521546667
  MAP_SCALE = 0.025
  MAXIMUM_LATITUDE = -25.6257
  MINIMUM_LATITUDE = -32.0606
  POSITIVE_LONGITUDE_DIRECTION = EAST
  REFERENCE_LATITUDE = "N/A"
  REFERENCE_LONGITUDE = "N/A"
  SAMPLE_FIRST_PIXEL = 1
  SAMPLE_LAST_PIXEL = 2924
  SAMPLE_PROJECTION_OFFSET = 2263.25
  SECOND_STANDARD_PARALLEL = "N/A"
  WESTERNMOST_LONGITUDE = 291.907
END_OBJECT = IMAGE_MAP_PROJECTION
END
