PDS_VERSION_ID = PDS3
/* FILE DATA ELEMENTS */
RECORD_TYPE = UNDEFINED
/* POINTERS TO DATA OBJECTS */
^IMAGE = ("H4325_0000_GR4.TIF")
/* IDENTIFICATION DATA ELEMENTS */
DATA_SET_ID = "MEX-M-HRSC-4-REFDR-MAPPROJECT-EXT1-V4.0"
DATA_SET_NAME = "MARS EXPRESS HRSC MAP PROJECTED REFDR EXTENSION1 V4.0"
DETECTOR_ID = MEX_HRSC_GREEN
EVENT_TYPE = "MARS-REGIONAL-MAPPING-Vo-Te-Fl"
INSTRUMENT_HOST_ID = MEX
INSTRUMENT_HOST_NAME = "MARS EXPRESS"
INSTRUMENT_ID = HRSC
INSTRUMENT_NAME = "HIGH RESOLUTION STEREO CAMERA"
MISSION_NAME = "MARS EXPRESS"
MISSION_PHASE_NAME = ME_Phase_7
PROCESSING_LEVEL_ID = 4
PRODUCT_CREATION_TIME = 2023-02-10T03:49:22.000Z
PRODUCT_ID = "H4325_0000_GR4.TIF"
RELEASE_ID = 0006
REVISION_ID = 0000
/* QUALITY DATA ELEMENTS */
DATA_QUALITY_ID = 1
DATA_QUALITY_DESC = "Data calculated based on original SPICE kernels"
/* TIME DATA ELEMENTS */
SPACECRAFT_CLOCK_START_COUNT = "1/0127590139.08425"
SPACECRAFT_CLOCK_STOP_COUNT = "1/0127590333.57940"
START_TIME = 2007-05-18T17:43:51.962Z
STOP_TIME = 2007-05-18T17:45:07.531Z
/* ORBITAL DATA ELEMENTS */
ASCENDING_NODE_LONGITUDE = 137.73
MAXIMUM_RESOLUTION = 0.0513
FOOTPRINT_POINT_LATITUDE = (-30.5301,-30.5291,-30.5273,-30.5253, -30.523,-30.5204,-30.5176,-30.5145, -30.5143,-30.5132,-30.3675,-30.1783, -29.8951,-29.7536,-29.5647,-29.3292, -29.1406,-29.0004,-28.8126,-28.6248, -28.4799,-28.383,-28.2861,-28.1408, -28.044,-27.9472,-27.8021,-27.6567, -27.56,-27.4633,-27.3666,-27.2701, -27.1736,-27.077,-26.9806,-26.8841, -26.7395,-26.6433,-26.5467,-26.4024, -26.3062,-26.21,-26.1139,-26.0178, -25.8736,-25.7297,-25.6817,-25.6607, -25.6634,-25.6654,-25.6668,-25.6682, -25.6689,-25.6696,-25.6703,-25.6707, -25.6708,-25.6717,-25.7679,-25.9118, -26.0561,-26.2005,-26.2968,-26.3931, -26.4895,-26.5859,-26.6824,-26.7788, -26.8753,-26.9719,-27.0685,-27.1652, -27.2619,-27.3586,-27.4553,-27.5523, -27.649,-27.7458,-27.8427,-27.9395, -28.0366,-28.1823,-28.3276,-28.4247, -28.5217,-28.6659,-28.854,-29.0421, -29.2301,-29.3712,-29.5597,-29.6544, -29.7493,-29.9382,-30.0797,-30.2218, -30.3166,-30.4647,-30.5105,-30.5301)
FOOTPRINT_POINT_LONGITUDE = (293.243,293.119,292.923,292.727, 292.532,292.339,292.147,291.955,291.943 ,291.94,291.941,291.942,291.944,291.944 ,291.945,291.946,291.947,291.947, 291.947,291.947,291.947,291.947,291.947 ,291.947,291.947,291.947,291.947, 291.947,291.947,291.947,291.947,291.947 ,291.947,291.947,291.947,291.946, 291.946,291.946,291.946,291.945,291.945 ,291.944,291.944,291.944,291.943, 291.942,291.942,291.942,292.206,292.409 ,292.587,292.779,292.895,293.011, 293.179,293.295,293.309,293.313,293.312 ,293.31,293.308,293.306,293.305,293.304 ,293.303,293.302,293.3,293.299,293.298, 293.297,293.295,293.294,293.293,293.292 ,293.29,293.29,293.288,293.287,293.285, 293.284,293.283,293.282,293.279,293.277 ,293.276,293.273,293.27,293.266,293.262 ,293.259,293.255,293.255,293.255, 293.252,293.249,293.248,293.247,293.246 ,293.245,293.243)
ORBIT_NUMBER = 4325
ORBITAL_ECCENTRICITY = 0.571
ORBITAL_INCLINATION = 86.68
ORBITAL_SEMIMAJOR_AXIS = 8580.02
PERIAPSIS_ALTITUDE = 293.33
PERIAPSIS_ARGUMENT_ANGLE = 316.29
PERIAPSIS_TIME = 2007-05-18T17:40:29.000Z
SPACECRAFT_ORIENTATION = (0.0,1.0,0.0)
^MEX_ORIENTATION_DESC = "MEX_ORIENTATION_DESC.TXT"
SPACECRAFT_POINTING_MODE = ACROSSTRACK
^MEX_POINTING_DESC = "MEX_POINTING_DESC.TXT"
RIGHT_ASCENSION = -1e+32
DECLINATION = -1e+32
OFFSET_ANGLE = -0.4
SPACECRAFT_SOLAR_DISTANCE = 2.0697e+08
TARGET_NAME = MARS
/* CAMERA DATA ELEMENTS */
DETECTOR_TEMPERATURE = 20.2056
FOCAL_PLANE_TEMPERATURE = 9.8067
INST_CMPRS_NAME = "DISCRETE COSINE TRANSFORMATION (DCT)"
INST_CMPRS_RATIO = 13.038
INST_CMPRS_QUALITY = 0
INST_CMPRS_QUANTZ_TBL_ID = 0
INSTRUMENT_TEMPERATURE = 14.2925
LENS_TEMPERATURE = 10.0106
MACROPIXEL_SIZE = 4
MISSING_FRAMES = 1
PIXEL_SUBSAMPLING_FLAG = N
SIGNAL_CHAIN_ID = 2
/* RADIOMETRIC DATA ELEMENTS */
BANDWIDTH = 88.0
CENTER_FILTER_WAVELENGTH = 538.0
RADIANCE_OFFSET = 2.14344
RADIANCE_SCALING_FACTOR = 0.00383559
REFLECTANCE_SCALING_FACTOR = 0.000141461
MEX:REFLECTANCE_OFFSET = 0.0790526
/* IMAGE OBJECT DEFINITIONS */
OBJECT = IMAGE
  INTERCHANGE_FORMAT = BINARY
  LINES = 5327
  LINE_SAMPLES = 1462
  SAMPLE_TYPE = UNSIGNED_INTEGER
  SAMPLE_BITS = 8
  BANDS = 1
  BAND_STORAGE_TYPE = BAND_SEQUENTIAL
  MAXIMUM = 255
  MEAN = 118.792
  MINIMUM = 1
  STANDARD_DEVIATION = 22.0677
END_OBJECT = IMAGE
/* MAP OBJECT DEFINITIONS */
OBJECT = IMAGE_MAP_PROJECTION
  ^DATA_SET_MAP_PROJECTION_CATALOG= "DSMAP.CAT"
  A_AXIS_RADIUS = 3396.0
  B_AXIS_RADIUS = 3396.0
  C_AXIS_RADIUS = 3396.0
  CENTER_LATITUDE = 0.0
  CENTER_LONGITUDE = 293.0
  COORDINATE_SYSTEM_NAME = PLANETOGRAPHIC
  COORDINATE_SYSTEM_TYPE = "BODY-FIXED ROTATING"
  EASTERNMOST_LONGITUDE = 293.313
  FIRST_STANDARD_PARALLEL = "N/A"
  LINE_FIRST_PIXEL = 1
  LINE_LAST_PIXEL = 5327
  LINE_PROJECTION_OFFSET = -30420.125
  MAP_PROJECTION_ROTATION = 0.0
  MAP_PROJECTION_TYPE = SINUSOIDAL
  MAP_RESOLUTION = 1185.42760773333
  MAP_SCALE = 0.05
  MAXIMUM_LATITUDE = -25.6607
  MINIMUM_LATITUDE = -30.5301
  POSITIVE_LONGITUDE_DIRECTION = EAST
  REFERENCE_LATITUDE = "N/A"
  REFERENCE_LONGITUDE = "N/A"
  SAMPLE_FIRST_PIXEL = 1
  SAMPLE_LAST_PIXEL = 1462
  SAMPLE_PROJECTION_OFFSET = 1131.375
  SECOND_STANDARD_PARALLEL = "N/A"
  WESTERNMOST_LONGITUDE = 291.94
END_OBJECT = IMAGE_MAP_PROJECTION
END
