PDS_VERSION_ID = PDS3
/* FILE DATA ELEMENTS */
RECORD_TYPE = UNDEFINED
/* POINTERS TO DATA OBJECTS */
^IMAGE = ("H4317_0000_RE4.TIF")
/* IDENTIFICATION DATA ELEMENTS */
DATA_SET_ID = "MEX-M-HRSC-4-REFDR-MAPPROJECT-EXT1-V4.0"
DATA_SET_NAME = "MARS EXPRESS HRSC MAP PROJECTED REFDR EXTENSION1 V4.0"
DETECTOR_ID = MEX_HRSC_RED
EVENT_TYPE = "MARS-REGIONAL-MAPPING-Vo-Im"
INSTRUMENT_HOST_ID = MEX
INSTRUMENT_HOST_NAME = "MARS EXPRESS"
INSTRUMENT_ID = HRSC
INSTRUMENT_NAME = "HIGH RESOLUTION STEREO CAMERA"
MISSION_NAME = "MARS EXPRESS"
MISSION_PHASE_NAME = ME_Phase_7
PROCESSING_LEVEL_ID = 4
PRODUCT_CREATION_TIME = 2023-02-10T03:49:22.000Z
PRODUCT_ID = "H4317_0000_RE4.TIF"
RELEASE_ID = 0006
REVISION_ID = 0000
/* QUALITY DATA ELEMENTS */
DATA_QUALITY_ID = 1
DATA_QUALITY_DESC = "Data calculated based on original SPICE kernels"
/* TIME DATA ELEMENTS */
SPACECRAFT_CLOCK_START_COUNT = "1/0127396480.08253"
SPACECRAFT_CLOCK_STOP_COUNT = "1/0127396754.25216"
START_TIME = 2007-05-16T11:54:48.868Z
STOP_TIME = 2007-05-16T11:57:01.464Z
/* ORBITAL DATA ELEMENTS */
ASCENDING_NODE_LONGITUDE = 137.9
MAXIMUM_RESOLUTION = 0.0975
FOOTPRINT_POINT_LATITUDE = (-41.3249,-41.3186,-41.3099,-41.2969, -41.2965,-41.2579,-41.0022,-40.6617, -40.4913,-40.321,-40.1505,-39.9798, -39.8087,-39.5524,-39.2961,-39.1252, -38.9543,-38.7831,-38.5265,-38.3555, -38.0987,-37.9275,-37.757,-37.5852, -37.4143,-37.2424,-37.0707,-36.8132, -36.6418,-36.4646,-36.2863,-36.019, -35.8409,-35.6626,-35.3951,-35.2166, -34.9492,-34.7706,-34.5923,-34.4142, -34.2361,-34.0574,-33.7897,-33.6112, -33.3432,-33.0751,-32.8963,-32.7176, -32.5389,-32.4495,-32.4311,-32.4359, -32.4405,-32.4445,-32.4469,-32.447, -32.4486,-32.7131,-32.9852,-33.1637, -33.3425,-33.6104,-33.8789,-34.147, -34.3259,-34.5044,-34.7721,-34.9519, -35.1307,-35.3988,-35.6673,-35.9355, -36.2027,-36.3812,-36.5578,-36.8191, -37.0766,-37.2489,-37.4209,-37.593, -37.7647,-37.9369,-38.1087,-38.4488, -38.6204,-38.7938,-39.051,-39.3069, -39.4773,-39.6484,-39.8192,-39.9903, -40.1615,-40.3325,-40.5036,-40.6744, -41.0155,-41.1864,-41.2716,-41.3249)
FOOTPRINT_POINT_LONGITUDE = (358.798,358.414,357.993,357.5,357.487, 357.468,357.481,357.498,357.506,357.514 ,357.522,357.53,357.538,357.549,357.56, 357.567,357.574,357.581,357.592,357.599 ,357.609,357.615,357.622,357.628, 357.634,357.64,357.646,357.654,357.66, 357.666,357.672,357.68,357.685,357.691, 357.699,357.704,357.711,357.716,357.72, 357.725,357.73,357.734,357.741,357.745, 357.751,357.756,357.76,357.764,357.767, 357.769,357.769,358.037,358.376,358.751 ,358.997,359.009,359.017,359.014, 359.007,359.004,359.001,358.996,358.991 ,358.986,358.982,358.979,358.974, 358.969,358.966,358.96,358.954,358.949, 358.943,358.939,358.936,358.93,358.925, 358.92,358.916,358.912,358.908,358.904, 358.9,358.893,358.889,358.883,358.877, 358.871,358.867,358.862,358.858,358.853 ,358.849,358.844,358.839,358.835, 358.825,358.82,358.818,358.798)
ORBIT_NUMBER = 4317
ORBITAL_ECCENTRICITY = 0.571
ORBITAL_INCLINATION = 86.69
ORBITAL_SEMIMAJOR_AXIS = 8581.24
PERIAPSIS_ALTITUDE = 293.65
PERIAPSIS_ARGUMENT_ANGLE = 317.66
PERIAPSIS_TIME = 2007-05-16T11:54:56.000Z
SPACECRAFT_ORIENTATION = (0.0,1.0,0.0)
^MEX_ORIENTATION_DESC = "MEX_ORIENTATION_DESC.TXT"
SPACECRAFT_POINTING_MODE = ACROSSTRACK
^MEX_POINTING_DESC = "MEX_POINTING_DESC.TXT"
RIGHT_ASCENSION = -1e+32
DECLINATION = -1e+32
OFFSET_ANGLE = -0.05
SPACECRAFT_SOLAR_DISTANCE = 2.07056e+08
TARGET_NAME = MARS
/* CAMERA DATA ELEMENTS */
DETECTOR_TEMPERATURE = 18.3705
FOCAL_PLANE_TEMPERATURE = 9.6028
INST_CMPRS_NAME = "DISCRETE COSINE TRANSFORMATION (DCT)"
INST_CMPRS_RATIO = 21.637
INST_CMPRS_QUALITY = 0
INST_CMPRS_QUANTZ_TBL_ID = 0
INSTRUMENT_TEMPERATURE = 10.6223
LENS_TEMPERATURE = 9.8067
MACROPIXEL_SIZE = 8
MISSING_FRAMES = 0
PIXEL_SUBSAMPLING_FLAG = N
SIGNAL_CHAIN_ID = 2
/* RADIOMETRIC DATA ELEMENTS */
BANDWIDTH = 48.0
CENTER_FILTER_WAVELENGTH = 748.0
RADIANCE_OFFSET = 1.95856
RADIANCE_SCALING_FACTOR = 0.0026015
REFLECTANCE_SCALING_FACTOR = 0.000254523
MEX:REFLECTANCE_OFFSET = 0.19162
/* IMAGE OBJECT DEFINITIONS */
OBJECT = IMAGE
  INTERCHANGE_FORMAT = BINARY
  LINES = 4418
  LINE_SAMPLES = 734
  SAMPLE_TYPE = UNSIGNED_INTEGER
  SAMPLE_BITS = 8
  BANDS = 1
  BAND_STORAGE_TYPE = BAND_SEQUENTIAL
  MAXIMUM = 254
  MEAN = 171.443
  MINIMUM = 25
  STANDARD_DEVIATION = 20.6067
END_OBJECT = IMAGE
/* MAP OBJECT DEFINITIONS */
OBJECT = IMAGE_MAP_PROJECTION
  ^DATA_SET_MAP_PROJECTION_CATALOG= "DSMAP.CAT"
  A_AXIS_RADIUS = 3396.0
  B_AXIS_RADIUS = 3396.0
  C_AXIS_RADIUS = 3396.0
  CENTER_LATITUDE = 0.0
  CENTER_LONGITUDE = 358.0
  COORDINATE_SYSTEM_NAME = PLANETOGRAPHIC
  COORDINATE_SYSTEM_TYPE = "BODY-FIXED ROTATING"
  EASTERNMOST_LONGITUDE = 359.017
  FIRST_STANDARD_PARALLEL = "N/A"
  LINE_FIRST_PIXEL = 1
  LINE_LAST_PIXEL = 4418
  LINE_PROJECTION_OFFSET = -20060.6875
  MAP_PROJECTION_ROTATION = 0.0
  MAP_PROJECTION_TYPE = SINUSOIDAL
  MAP_RESOLUTION = 592.713803866667
  MAP_SCALE = 0.1
  MAXIMUM_LATITUDE = -32.4311
  MINIMUM_LATITUDE = -41.3249
  POSITIVE_LONGITUDE_DIRECTION = EAST
  REFERENCE_LATITUDE = "N/A"
  REFERENCE_LONGITUDE = "N/A"
  SAMPLE_FIRST_PIXEL = 1
  SAMPLE_LAST_PIXEL = 734
  SAMPLE_PROJECTION_OFFSET = 241.6875
  SECOND_STANDARD_PARALLEL = "N/A"
  WESTERNMOST_LONGITUDE = 357.468
END_OBJECT = IMAGE_MAP_PROJECTION
END
