PDS_VERSION_ID = PDS3
/* FILE DATA ELEMENTS */
RECORD_TYPE = UNDEFINED
/* POINTERS TO DATA OBJECTS */
^IMAGE = ("H4317_0000_ND4.TIF")
/* IDENTIFICATION DATA ELEMENTS */
DATA_SET_ID = "MEX-M-HRSC-4-REFDR-MAPPROJECT-EXT1-V4.0"
DATA_SET_NAME = "MARS EXPRESS HRSC MAP PROJECTED REFDR EXTENSION1 V4.0"
DETECTOR_ID = MEX_HRSC_NADIR
EVENT_TYPE = "MARS-REGIONAL-MAPPING-Vo-Im"
INSTRUMENT_HOST_ID = MEX
INSTRUMENT_HOST_NAME = "MARS EXPRESS"
INSTRUMENT_ID = HRSC
INSTRUMENT_NAME = "HIGH RESOLUTION STEREO CAMERA"
MISSION_NAME = "MARS EXPRESS"
MISSION_PHASE_NAME = ME_Phase_7
PROCESSING_LEVEL_ID = 4
PRODUCT_CREATION_TIME = 2023-02-10T03:49:22.000Z
PRODUCT_ID = "H4317_0000_ND4.TIF"
RELEASE_ID = 0006
REVISION_ID = 0000
/* QUALITY DATA ELEMENTS */
DATA_QUALITY_ID = 1
DATA_QUALITY_DESC = "Data calculated based on original SPICE kernels"
/* TIME DATA ELEMENTS */
SPACECRAFT_CLOCK_START_COUNT = "1/0127396480.08253"
SPACECRAFT_CLOCK_STOP_COUNT = "1/0127396754.25216"
START_TIME = 2007-05-16T11:55:10.002Z
STOP_TIME = 2007-05-16T11:57:02.208Z
/* ORBITAL DATA ELEMENTS */
ASCENDING_NODE_LONGITUDE = 137.9
MAXIMUM_RESOLUTION = 0.0117
FOOTPRINT_POINT_LATITUDE = (-41.2982,-41.294,-41.2859,-41.2811, -41.2748,-41.2688,-41.2684,-41.2669, -40.9028,-40.6116,-40.3204,-40.0292, -39.738,-39.4468,-39.2285,-38.9374, -38.6463,-38.3554,-38.0644,-37.9142, -37.7631,-37.6121,-37.3857,-37.2347, -37.0838,-36.9329,-36.782,-36.6312, -36.4803,-36.3295,-36.1788,-36.028, -35.8773,-35.7266,-35.5759,-35.4253, -35.2747,-35.1241,-34.9735,-34.823, -34.6726,-34.5221,-34.3717,-34.2214, -34.071,-33.9207,-33.8456,-33.8445, -33.8503,-33.8538,-33.8582,-33.8605, -33.8631,-33.8632,-33.8635,-34.0139, -34.1645,-34.315,-34.4656,-34.6163, -34.7669,-34.9176,-35.0684,-35.2192, -35.37,-35.5208,-35.7472,-35.8981, -36.049,-36.2,-36.351,-36.5776,-36.7286 ,-36.8797,-37.0309,-37.182,-37.3332, -37.4844,-37.6356,-37.7869,-37.9381, -38.0887,-38.38,-38.6715,-38.8173, -39.1088,-39.4004,-39.6921,-39.8379, -39.9837,-40.1296,-40.2755,-40.4943, -40.6402,-40.786,-40.9319,-41.0778, -41.2237,-41.2967,-41.2982)
FOOTPRINT_POINT_LONGITUDE = (358.796,358.561,358.169,357.96,357.713 ,357.491,357.478,357.457,357.474, 357.488,357.502,357.515,357.528,357.541 ,357.55,357.562,357.573,357.585,357.595 ,357.601,357.606,357.611,357.62,357.625 ,357.63,357.635,357.64,357.645,357.649, 357.654,357.659,357.663,357.668,357.672 ,357.676,357.68,357.684,357.689,357.692 ,357.696,357.7,357.704,357.708,357.712, 357.715,357.718,357.72,357.72,358.034, 358.248,358.55,358.74,358.979,358.992, 358.998,358.995,358.992,358.989,358.986 ,358.983,358.98,358.976,358.973,358.969 ,358.966,358.963,358.957,358.954, 358.951,358.948,358.944,358.94,358.936, 358.932,358.929,358.925,358.921,358.918 ,358.914,358.91,358.906,358.902,358.896 ,358.888,358.883,358.876,358.869, 358.861,358.857,358.853,358.849,358.845 ,358.838,358.834,358.83,358.826,358.821 ,358.817,358.815,358.796)
ORBIT_NUMBER = 4317
ORBITAL_ECCENTRICITY = 0.571
ORBITAL_INCLINATION = 86.69
ORBITAL_SEMIMAJOR_AXIS = 8581.24
PERIAPSIS_ALTITUDE = 293.65
PERIAPSIS_ARGUMENT_ANGLE = 317.66
PERIAPSIS_TIME = 2007-05-16T11:54:56.000Z
SPACECRAFT_ORIENTATION = (0.0,1.0,0.0)
^MEX_ORIENTATION_DESC = "MEX_ORIENTATION_DESC.TXT"
SPACECRAFT_POINTING_MODE = ACROSSTRACK
^MEX_POINTING_DESC = "MEX_POINTING_DESC.TXT"
RIGHT_ASCENSION = -1e+32
DECLINATION = -1e+32
OFFSET_ANGLE = -0.05
SPACECRAFT_SOLAR_DISTANCE = 2.07056e+08
TARGET_NAME = MARS
/* CAMERA DATA ELEMENTS */
DETECTOR_TEMPERATURE = 18.1666
FOCAL_PLANE_TEMPERATURE = 9.6028
INST_CMPRS_NAME = "DISCRETE COSINE TRANSFORMATION (DCT)"
INST_CMPRS_RATIO = 6.95026
INST_CMPRS_QUALITY = 0
INST_CMPRS_QUANTZ_TBL_ID = 0
INSTRUMENT_TEMPERATURE = 10.6223
LENS_TEMPERATURE = 9.8067
MACROPIXEL_SIZE = 1
MISSING_FRAMES = 0
PIXEL_SUBSAMPLING_FLAG = N
SIGNAL_CHAIN_ID = 0
/* RADIOMETRIC DATA ELEMENTS */
BANDWIDTH = 177.0
CENTER_FILTER_WAVELENGTH = 677.5
RADIANCE_OFFSET = 6.71712
RADIANCE_SCALING_FACTOR = 0.00892568
REFLECTANCE_SCALING_FACTOR = 0.000203284
MEX:REFLECTANCE_OFFSET = 0.152984
/* IMAGE OBJECT DEFINITIONS */
OBJECT = IMAGE
  INTERCHANGE_FORMAT = BINARY
  LINES = 35342
  LINE_SAMPLES = 5868
  SAMPLE_TYPE = UNSIGNED_INTEGER
  SAMPLE_BITS = 8
  BANDS = 1
  BAND_STORAGE_TYPE = BAND_SEQUENTIAL
  MAXIMUM = 255
  MEAN = 160.969
  MINIMUM = 1
  STANDARD_DEVIATION = 20.6134
END_OBJECT = IMAGE
/* MAP OBJECT DEFINITIONS */
OBJECT = IMAGE_MAP_PROJECTION
  ^DATA_SET_MAP_PROJECTION_CATALOG= "DSMAP.CAT"
  A_AXIS_RADIUS = 3396.0
  B_AXIS_RADIUS = 3396.0
  C_AXIS_RADIUS = 3396.0
  CENTER_LATITUDE = 0.0
  CENTER_LONGITUDE = 358.0
  COORDINATE_SYSTEM_NAME = PLANETOGRAPHIC
  COORDINATE_SYSTEM_TYPE = "BODY-FIXED ROTATING"
  EASTERNMOST_LONGITUDE = 358.998
  FIRST_STANDARD_PARALLEL = "N/A"
  LINE_FIRST_PIXEL = 1
  LINE_LAST_PIXEL = 35342
  LINE_PROJECTION_OFFSET = -160482.0
  MAP_PROJECTION_ROTATION = 0.0
  MAP_PROJECTION_TYPE = SINUSOIDAL
  MAP_RESOLUTION = 4741.71043093333
  MAP_SCALE = 0.0125
  MAXIMUM_LATITUDE = -33.8445
  MINIMUM_LATITUDE = -41.2982
  POSITIVE_LONGITUDE_DIRECTION = EAST
  REFERENCE_LATITUDE = "N/A"
  REFERENCE_LONGITUDE = "N/A"
  SAMPLE_FIRST_PIXEL = 1
  SAMPLE_LAST_PIXEL = 5868
  SAMPLE_PROJECTION_OFFSET = 1937.0
  SECOND_STANDARD_PARALLEL = "N/A"
  WESTERNMOST_LONGITUDE = 357.457
END_OBJECT = IMAGE_MAP_PROJECTION
END
