PDS_VERSION_ID = PDS3
/* FILE DATA ELEMENTS */
RECORD_TYPE = UNDEFINED
/* POINTERS TO DATA OBJECTS */
^IMAGE = ("H4315_0000_ND4.TIF")
/* IDENTIFICATION DATA ELEMENTS */
DATA_SET_ID = "MEX-M-HRSC-4-REFDR-MAPPROJECT-EXT1-V4.0"
DATA_SET_NAME = "MARS EXPRESS HRSC MAP PROJECTED REFDR EXTENSION1 V4.0"
DETECTOR_ID = MEX_HRSC_NADIR
EVENT_TYPE = "MARS-REGIONAL-MAPPING-Vo-Te-Im"
INSTRUMENT_HOST_ID = MEX
INSTRUMENT_HOST_NAME = "MARS EXPRESS"
INSTRUMENT_ID = HRSC
INSTRUMENT_NAME = "HIGH RESOLUTION STEREO CAMERA"
MISSION_NAME = "MARS EXPRESS"
MISSION_PHASE_NAME = ME_Phase_7
PROCESSING_LEVEL_ID = 4
PRODUCT_CREATION_TIME = 2023-02-10T03:49:22.000Z
PRODUCT_ID = "H4315_0000_ND4.TIF"
RELEASE_ID = 0006
REVISION_ID = 0000
/* QUALITY DATA ELEMENTS */
DATA_QUALITY_ID = 1
DATA_QUALITY_DESC = "Data calculated based on original SPICE kernels"
/* TIME DATA ELEMENTS */
SPACECRAFT_CLOCK_START_COUNT = "1/0127347787.08418"
SPACECRAFT_CLOCK_STOP_COUNT = "1/0127348159.16238"
START_TIME = 2007-05-15T22:23:47.499Z
STOP_TIME = 2007-05-15T22:28:55.517Z
/* ORBITAL DATA ELEMENTS */
ASCENDING_NODE_LONGITUDE = 137.94
MAXIMUM_RESOLUTION = 0.0116
FOOTPRINT_POINT_LATITUDE = (-60.599,-60.5353,-60.4829,-60.4815, -60.4754,-59.7396,-59.3146,-58.8888, -58.462,-58.0346,-57.6059,-57.1765, -56.7466,-56.3158,-55.8839,-55.4529, -55.0342,-54.6145,-54.1943,-53.5665, -53.1589,-52.7508,-52.3423,-51.9329, -51.3252,-50.9287,-50.5321,-50.1352, -49.7379,-49.1414,-48.7436,-48.3596, -47.9752,-47.5906,-47.206,-46.821, -46.4355,-46.05,-45.6641,-45.2781, -44.8921,-44.5058,-43.9306,-43.186, -42.4411,-41.3234,-40.5782,-40.3919, -40.3908,-40.41,-40.4247,-40.4249, -40.4252,-40.9852,-41.3586,-41.732, -42.1054,-42.4787,-43.2253,-43.9716, -44.5483,-44.9356,-45.3227,-45.7097, -46.0965,-46.4832,-46.8698,-47.2561, -47.6422,-48.0281,-48.4138,-48.7992, -49.1983,-49.797,-50.1957,-50.5942, -50.9922,-51.3899,-52.0005,-52.4115, -52.822,-53.2321,-53.6417,-54.2727, -54.6952,-55.1171,-55.5385,-55.9721, -56.4063,-56.8398,-57.2727,-57.7049, -58.1364,-58.5672,-58.9972,-59.4266, -59.8551,-60.3424,-60.5972,-60.599)
FOOTPRINT_POINT_LONGITUDE = (193.609,192.114,191.11,191.085,191.006 ,191.194,191.297,191.399,191.496, 191.591,191.679,191.765,191.85,191.932, 192.007,192.084,192.16,192.229,192.297, 192.393,192.454,192.514,192.573,192.624 ,192.708,192.751,192.797,192.843, 192.888,192.954,192.996,193.036,193.076 ,193.114,193.155,193.191,193.224, 193.259,193.288,193.319,193.349,193.379 ,193.421,193.473,193.521,193.589, 193.631,193.64,193.64,194.32,194.964, 194.978,194.984,194.965,194.952,194.939 ,194.925,194.91,194.881,194.852,194.827 ,194.809,194.792,194.775,194.757, 194.737,194.718,194.699,194.679,194.658 ,194.639,194.619,194.597,194.562, 194.539,194.513,194.489,194.464,194.424 ,194.396,194.367,194.337,194.307, 194.259,194.225,194.19,194.154,194.117, 194.079,194.039,193.998,193.955,193.911 ,193.867,193.823,193.774,193.725, 193.669,193.638,193.609)
ORBIT_NUMBER = 4315
ORBITAL_ECCENTRICITY = 0.571
ORBITAL_INCLINATION = 86.69
ORBITAL_SEMIMAJOR_AXIS = 8579.77
PERIAPSIS_ALTITUDE = 293.59
PERIAPSIS_ARGUMENT_ANGLE = 318.03
PERIAPSIS_TIME = 2007-05-15T22:28:34.000Z
SPACECRAFT_ORIENTATION = (0.0,1.0,0.0)
^MEX_ORIENTATION_DESC = "MEX_ORIENTATION_DESC.TXT"
SPACECRAFT_POINTING_MODE = ACROSSTRACK
^MEX_POINTING_DESC = "MEX_POINTING_DESC.TXT"
RIGHT_ASCENSION = -1e+32
DECLINATION = -1e+32
OFFSET_ANGLE = 0.25
SPACECRAFT_SOLAR_DISTANCE = 2.0708e+08
TARGET_NAME = MARS
/* CAMERA DATA ELEMENTS */
DETECTOR_TEMPERATURE = 18.5744
FOCAL_PLANE_TEMPERATURE = 8.7872
INST_CMPRS_NAME = "DISCRETE COSINE TRANSFORMATION (DCT)"
INST_CMPRS_RATIO = 7.05024
INST_CMPRS_QUALITY = 0
INST_CMPRS_QUANTZ_TBL_ID = 0
INSTRUMENT_TEMPERATURE = 10.0106
LENS_TEMPERATURE = 9.6028
MACROPIXEL_SIZE = 1
MISSING_FRAMES = 0
PIXEL_SUBSAMPLING_FLAG = N
SIGNAL_CHAIN_ID = 0
/* RADIOMETRIC DATA ELEMENTS */
BANDWIDTH = 177.0
CENTER_FILTER_WAVELENGTH = 677.5
RADIANCE_OFFSET = 5.5604
RADIANCE_SCALING_FACTOR = 0.015169
REFLECTANCE_SCALING_FACTOR = 0.000345556
MEX:REFLECTANCE_OFFSET = 0.126668
/* IMAGE OBJECT DEFINITIONS */
OBJECT = IMAGE
  INTERCHANGE_FORMAT = BINARY
  LINES = 95819
  LINE_SAMPLES = 10551
  SAMPLE_TYPE = UNSIGNED_INTEGER
  SAMPLE_BITS = 8
  BANDS = 1
  BAND_STORAGE_TYPE = BAND_SEQUENTIAL
  MAXIMUM = 255
  MEAN = 116.464
  MINIMUM = 1
  STANDARD_DEVIATION = 39.778
END_OBJECT = IMAGE
/* MAP OBJECT DEFINITIONS */
OBJECT = IMAGE_MAP_PROJECTION
  ^DATA_SET_MAP_PROJECTION_CATALOG= "DSMAP.CAT"
  A_AXIS_RADIUS = 3396.0
  B_AXIS_RADIUS = 3396.0
  C_AXIS_RADIUS = 3396.0
  CENTER_LATITUDE = 0.0
  CENTER_LONGITUDE = 194.0
  COORDINATE_SYSTEM_NAME = PLANETOGRAPHIC
  COORDINATE_SYSTEM_TYPE = "BODY-FIXED ROTATING"
  EASTERNMOST_LONGITUDE = 194.984
  FIRST_STANDARD_PARALLEL = "N/A"
  LINE_FIRST_PIXEL = 1
  LINE_LAST_PIXEL = 95819
  LINE_PROJECTION_OFFSET = -191521.0
  MAP_PROJECTION_ROTATION = 0.0
  MAP_PROJECTION_TYPE = SINUSOIDAL
  MAP_RESOLUTION = 4741.71043093333
  MAP_SCALE = 0.0125
  MAXIMUM_LATITUDE = -40.3908
  MINIMUM_LATITUDE = -60.599
  POSITIVE_LONGITUDE_DIRECTION = EAST
  REFERENCE_LATITUDE = "N/A"
  REFERENCE_LONGITUDE = "N/A"
  SAMPLE_FIRST_PIXEL = 1
  SAMPLE_LAST_PIXEL = 10551
  SAMPLE_PROJECTION_OFFSET = 6996.0
  SECOND_STANDARD_PARALLEL = "N/A"
  WESTERNMOST_LONGITUDE = 191.006
END_OBJECT = IMAGE_MAP_PROJECTION
END
