PDS_VERSION_ID = PDS3
/* FILE DATA ELEMENTS */
RECORD_TYPE = UNDEFINED
/* POINTERS TO DATA OBJECTS */
^IMAGE = ("H4314_0000_S24.TIF")
/* IDENTIFICATION DATA ELEMENTS */
DATA_SET_ID = "MEX-M-HRSC-4-REFDR-MAPPROJECT-EXT1-V4.0"
DATA_SET_NAME = "MARS EXPRESS HRSC MAP PROJECTED REFDR EXTENSION1 V4.0"
DETECTOR_ID = MEX_HRSC_S2
EVENT_TYPE = "MARS-REGIONAL-MAPPING-Vo-Te-Fl"
INSTRUMENT_HOST_ID = MEX
INSTRUMENT_HOST_NAME = "MARS EXPRESS"
INSTRUMENT_ID = HRSC
INSTRUMENT_NAME = "HIGH RESOLUTION STEREO CAMERA"
MISSION_NAME = "MARS EXPRESS"
MISSION_PHASE_NAME = ME_Phase_7
PROCESSING_LEVEL_ID = 4
PRODUCT_CREATION_TIME = 2023-02-10T03:49:22.000Z
PRODUCT_ID = "H4314_0000_S24.TIF"
RELEASE_ID = 0006
REVISION_ID = 0000
/* QUALITY DATA ELEMENTS */
DATA_QUALITY_ID = 1
DATA_QUALITY_DESC = "Data calculated based on original SPICE kernels"
/* TIME DATA ELEMENTS */
SPACECRAFT_CLOCK_START_COUNT = "1/0127324008.08249"
SPACECRAFT_CLOCK_STOP_COUNT = "1/0127324195.23222"
START_TIME = 2007-05-15T15:46:52.238Z
STOP_TIME = 2007-05-15T15:48:56.016Z
/* ORBITAL DATA ELEMENTS */
ASCENDING_NODE_LONGITUDE = 137.96
MAXIMUM_RESOLUTION = 0.0251
FOOTPRINT_POINT_LATITUDE = (-34.2409,-34.2418,-34.2417,-34.2396, -34.2377,-34.2375,-34.2165,-33.9772, -33.8175,-33.498,-33.2592,-33.0198, -32.7014,-32.5402,-32.2203,-31.9806, -31.8199,-31.6597,-31.3402,-31.175, -30.9294,-30.7659,-30.6032,-30.4391, -30.2739,-30.1081,-29.8591,-29.6106, -29.3621,-29.1943,-29.0242,-28.8562, -28.6894,-28.5222,-28.2633,-28.0046, -27.832,-27.6602,-27.4876,-27.3151, -27.143,-26.971,-26.7991,-26.5413, -26.3692,-26.1943,-26.0169,-25.9277, -25.9131,-25.913,-25.9108,-25.9053, -25.9057,-25.9056,-25.9059,-26.1719, -26.3488,-26.5215,-26.6935,-26.8657, -27.038,-27.296,-27.4684,-27.6407, -27.8128,-28.0719,-28.3311,-28.5042, -28.671,-28.8378,-29.0902,-29.2591, -29.5124,-29.6781,-29.8378,-30.0046, -30.2532,-30.4189,-30.5822,-30.8299, -30.995,-31.1607,-31.3264,-31.4863, -31.6464,-31.8067,-31.967,-32.1273, -32.2877,-32.4478,-32.6081,-32.9279, -33.0881,-33.328,-33.5679,-33.7279, -33.9677,-34.1276,-34.2076,-34.2409)
FOOTPRINT_POINT_LONGITUDE = (293.971,293.716,293.33,292.958,292.743 ,292.731,292.724,292.729,292.733,292.74 ,292.745,292.749,292.756,292.758, 292.764,292.768,292.771,292.773,292.778 ,292.78,292.785,292.787,292.79,292.792, 292.795,292.797,292.799,292.802,292.805 ,292.806,292.807,292.808,292.809,292.81 ,292.812,292.813,292.814,292.815, 292.816,292.817,292.817,292.818,292.819 ,292.82,292.82,292.821,292.821,292.821, 292.821,293.078,293.348,293.695,294.078 ,294.091,294.095,294.093,294.09,294.088 ,294.086,294.084,294.082,294.079, 294.077,294.074,294.072,294.069,294.065 ,294.062,294.06,294.058,294.053,294.05, 294.045,294.043,294.043,294.041,294.038 ,294.036,294.035,294.032,294.03,294.028 ,294.026,294.024,294.022,294.019, 294.017,294.014,294.012,294.009,294.007 ,294.002,293.999,293.996,293.992, 293.989,293.985,293.983,293.981, 293.971)
ORBIT_NUMBER = 4314
ORBITAL_ECCENTRICITY = 0.571
ORBITAL_INCLINATION = 86.68
ORBITAL_SEMIMAJOR_AXIS = 8583.25
PERIAPSIS_ALTITUDE = 293.64
PERIAPSIS_ARGUMENT_ANGLE = 318.21
PERIAPSIS_TIME = 2007-05-15T15:45:26.000Z
SPACECRAFT_ORIENTATION = (0.0,1.0,0.0)
^MEX_ORIENTATION_DESC = "MEX_ORIENTATION_DESC.TXT"
SPACECRAFT_POINTING_MODE = ACROSSTRACK
^MEX_POINTING_DESC = "MEX_POINTING_DESC.TXT"
RIGHT_ASCENSION = -1e+32
DECLINATION = -1e+32
OFFSET_ANGLE = -0.2
SPACECRAFT_SOLAR_DISTANCE = 2.07092e+08
TARGET_NAME = MARS
/* CAMERA DATA ELEMENTS */
DETECTOR_TEMPERATURE = 18.7783
FOCAL_PLANE_TEMPERATURE = 8.7872
INST_CMPRS_NAME = "DISCRETE COSINE TRANSFORMATION (DCT)"
INST_CMPRS_RATIO = 11.0381
INST_CMPRS_QUALITY = 0
INST_CMPRS_QUANTZ_TBL_ID = 0
INSTRUMENT_TEMPERATURE = 11.4379
LENS_TEMPERATURE = 9.195
MACROPIXEL_SIZE = 2
MISSING_FRAMES = 0
PIXEL_SUBSAMPLING_FLAG = N
SIGNAL_CHAIN_ID = 1
/* RADIOMETRIC DATA ELEMENTS */
BANDWIDTH = 178.0
CENTER_FILTER_WAVELENGTH = 679.0
RADIANCE_OFFSET = 5.41864
RADIANCE_SCALING_FACTOR = 0.0159372
REFLECTANCE_SCALING_FACTOR = 0.000361965
MEX:REFLECTANCE_OFFSET = 0.123068
/* IMAGE OBJECT DEFINITIONS */
OBJECT = IMAGE
  INTERCHANGE_FORMAT = BINARY
  LINES = 19728
  LINE_SAMPLES = 2929
  SAMPLE_TYPE = UNSIGNED_INTEGER
  SAMPLE_BITS = 8
  BANDS = 1
  BAND_STORAGE_TYPE = BAND_SEQUENTIAL
  MAXIMUM = 255
  MEAN = 90.032
  MINIMUM = 1
  STANDARD_DEVIATION = 27.9205
END_OBJECT = IMAGE
/* MAP OBJECT DEFINITIONS */
OBJECT = IMAGE_MAP_PROJECTION
  ^DATA_SET_MAP_PROJECTION_CATALOG= "DSMAP.CAT"
  A_AXIS_RADIUS = 3396.0
  B_AXIS_RADIUS = 3396.0
  C_AXIS_RADIUS = 3396.0
  CENTER_LATITUDE = 0.0
  CENTER_LONGITUDE = 293.0
  COORDINATE_SYSTEM_NAME = PLANETOGRAPHIC
  COORDINATE_SYSTEM_TYPE = "BODY-FIXED ROTATING"
  EASTERNMOST_LONGITUDE = 294.095
  FIRST_STANDARD_PARALLEL = "N/A"
  LINE_FIRST_PIXEL = 1
  LINE_LAST_PIXEL = 19728
  LINE_PROJECTION_OFFSET = -61387.75
  MAP_PROJECTION_ROTATION = 0.0
  MAP_PROJECTION_TYPE = SINUSOIDAL
  MAP_RESOLUTION = 2370.85521546667
  MAP_SCALE = 0.025
  MAXIMUM_LATITUDE = -25.9053
  MINIMUM_LATITUDE = -34.2418
  POSITIVE_LONGITUDE_DIRECTION = EAST
  REFERENCE_LATITUDE = "N/A"
  REFERENCE_LONGITUDE = "N/A"
  SAMPLE_FIRST_PIXEL = 1
  SAMPLE_LAST_PIXEL = 2929
  SAMPLE_PROJECTION_OFFSET = 560.25
  SECOND_STANDARD_PARALLEL = "N/A"
  WESTERNMOST_LONGITUDE = 292.724
END_OBJECT = IMAGE_MAP_PROJECTION
END
