PDS_VERSION_ID = PDS3
/* FILE DATA ELEMENTS */
RECORD_TYPE = UNDEFINED
/* POINTERS TO DATA OBJECTS */
^IMAGE = ("H4314_0000_IR4.TIF")
/* IDENTIFICATION DATA ELEMENTS */
DATA_SET_ID = "MEX-M-HRSC-4-REFDR-MAPPROJECT-EXT1-V4.0"
DATA_SET_NAME = "MARS EXPRESS HRSC MAP PROJECTED REFDR EXTENSION1 V4.0"
DETECTOR_ID = MEX_HRSC_IR
EVENT_TYPE = "MARS-REGIONAL-MAPPING-Vo-Te-Fl"
INSTRUMENT_HOST_ID = MEX
INSTRUMENT_HOST_NAME = "MARS EXPRESS"
INSTRUMENT_ID = HRSC
INSTRUMENT_NAME = "HIGH RESOLUTION STEREO CAMERA"
MISSION_NAME = "MARS EXPRESS"
MISSION_PHASE_NAME = ME_Phase_7
PROCESSING_LEVEL_ID = 4
PRODUCT_CREATION_TIME = 2023-02-10T03:49:22.000Z
PRODUCT_ID = "H4314_0000_IR4.TIF"
RELEASE_ID = 0006
REVISION_ID = 0000
/* QUALITY DATA ELEMENTS */
DATA_QUALITY_ID = 1
DATA_QUALITY_DESC = "Data calculated based on original SPICE kernels"
/* TIME DATA ELEMENTS */
SPACECRAFT_CLOCK_START_COUNT = "1/0127324008.08249"
SPACECRAFT_CLOCK_STOP_COUNT = "1/0127324195.23222"
START_TIME = 2007-05-15T15:47:41.144Z
STOP_TIME = 2007-05-15T15:49:51.807Z
/* ORBITAL DATA ELEMENTS */
ASCENDING_NODE_LONGITUDE = 137.96
MAXIMUM_RESOLUTION = 0.1018 <m/pixel>
FOOTPRINT_POINT_LATITUDE = (-34.1824,-34.1779,-34.1696,-34.1608, -34.1543,-34.154,-34.1684,-34.0075, -33.8469,-33.6864,-33.5257,-33.3646, -33.0439,-32.6433,-32.3244,-32.0053, -31.5999,-31.4352,-31.27,-31.1054, -30.9386,-30.6891,-30.5227,-30.3578, -30.1938,-29.9483,-29.7842,-29.6176, -29.4487,-29.1965,-29.0315,-28.8648, -28.6972,-28.5304,-28.3629,-28.1962, -28.0289,-27.7719,-27.5994,-27.4277, -27.2556,-27.0835,-26.9116,-26.7397, -26.568,-26.3966,-26.1393,-25.9685, -25.8832,-25.8733,-25.8769,-25.8827, -25.8902,-25.8894,-25.8921,-25.8922, -25.894,-26.0654,-26.3226,-26.4932, -26.665,-26.8369,-27.0089,-27.1811, -27.3538,-27.6125,-27.7853,-28.0431, -28.2938,-28.461,-28.7124,-28.8803, -29.0477,-29.2974,-29.4635,-29.6319, -29.8028,-29.9684,-30.214,-30.3784, -30.5439,-30.7103,-30.8758,-31.0408, -31.2881,-31.4532,-31.6182,-31.8654, -32.1842,-32.4239,-32.6638,-32.9842, -33.305,-33.4656,-33.6262,-33.787, -33.9479,-34.1088,-34.1893,-34.1824)
FOOTPRINT_POINT_LONGITUDE = (293.989,293.762,293.38,293.002,292.742 ,292.73,292.72,292.723,292.726,292.729, 292.732,292.735,292.741,292.747,292.752 ,292.757,292.762,292.764,292.766, 292.768,292.77,292.774,292.776,292.778, 292.78,292.782,292.783,292.784,292.786, 292.787,292.787,292.788,292.789,292.789 ,292.79,292.79,292.791,292.791,292.792, 292.792,292.792,292.792,292.793,292.793 ,292.793,292.793,292.793,292.792, 292.792,292.792,293.003,293.318,293.521 ,293.887,294.116,294.129,294.138, 294.135,294.132,294.128,294.126,294.123 ,294.121,294.118,294.116,294.111, 294.109,294.105,294.1,294.097,294.093, 294.09,294.087,294.081,294.076,294.073, 294.073,294.071,294.067,294.064,294.062 ,294.061,294.059,294.056,294.052, 294.049,294.047,294.042,294.036,294.032 ,294.028,294.022,294.016,294.013,294.01 ,294.007,294.004,294.001,293.999, 293.989)
ORBIT_NUMBER = 4314
ORBITAL_ECCENTRICITY = 0.571
ORBITAL_INCLINATION = 86.68
ORBITAL_SEMIMAJOR_AXIS = 8583.25
PERIAPSIS_ALTITUDE = 293.64
PERIAPSIS_ARGUMENT_ANGLE = 318.21
PERIAPSIS_TIME = 2007-05-15T15:45:26.000Z
SPACECRAFT_ORIENTATION = (0.0,1.0,0.0)
^MEX_ORIENTATION_DESC = "MEX_ORIENTATION_DESC.TXT"
SPACECRAFT_POINTING_MODE = ACROSSTRACK
^MEX_POINTING_DESC = "MEX_POINTING_DESC.TXT"
RIGHT_ASCENSION = -1e+32
DECLINATION = -1e+32
OFFSET_ANGLE = -0.2
SPACECRAFT_SOLAR_DISTANCE = 2.07092e+08
TARGET_NAME = MARS
/* CAMERA DATA ELEMENTS */
DETECTOR_TEMPERATURE = 17.351 <degC>
FOCAL_PLANE_TEMPERATURE = 8.7872 <degC>
INST_CMPRS_NAME = "DISCRETE COSINE TRANSFORMATION (DCT)"
INST_CMPRS_RATIO = 15.4084
INST_CMPRS_QUALITY = 0
INST_CMPRS_QUANTZ_TBL_ID = 0
INSTRUMENT_TEMPERATURE = 11.4379 <degC>
LENS_TEMPERATURE = 9.195 <degC>
MACROPIXEL_SIZE = 8
MISSING_FRAMES = 0
PIXEL_SUBSAMPLING_FLAG = N
SIGNAL_CHAIN_ID = 2
/* RADIOMETRIC DATA ELEMENTS */
BANDWIDTH = 81.0 <nm>
CENTER_FILTER_WAVELENGTH = 955.5 <nm>
RADIANCE_OFFSET = 1.13629 <W*m**-2*sr**-1>
RADIANCE_SCALING_FACTOR = 0.00450553 <W*m**-2*sr**-1>
REFLECTANCE_SCALING_FACTOR = 0.000416869
MEX:REFLECTANCE_OFFSET = 0.105133
/* IMAGE OBJECT DEFINITIONS */
OBJECT = IMAGE
  INTERCHANGE_FORMAT = BINARY
  LINES = 4932
  LINE_SAMPLES = 733
  SAMPLE_TYPE = UNSIGNED_INTEGER
  SAMPLE_BITS = 8
  BANDS = 1
  BAND_STORAGE_TYPE = BAND_SEQUENTIAL
  MAXIMUM = 255
  MEAN = 81.1028
  MINIMUM = 1
  STANDARD_DEVIATION = 30.7996
END_OBJECT = IMAGE
/* MAP OBJECT DEFINITIONS */
OBJECT = IMAGE_MAP_PROJECTION
  ^DATA_SET_MAP_PROJECTION_CATALOG= "DSMAP.CAT"
  A_AXIS_RADIUS = 3396.0 <km>
  B_AXIS_RADIUS = 3396.0 <km>
  C_AXIS_RADIUS = 3396.0 <km>
  CENTER_LATITUDE = 0.0
  CENTER_LONGITUDE = 293.0
  COORDINATE_SYSTEM_NAME = PLANETOGRAPHIC
  COORDINATE_SYSTEM_TYPE = "BODY-FIXED ROTATING"
  EASTERNMOST_LONGITUDE = 294.138
  FIRST_STANDARD_PARALLEL = "N/A"
  LINE_FIRST_PIXEL = 1
  LINE_LAST_PIXEL = 4932
  LINE_PROJECTION_OFFSET = -15347.3125
  MAP_PROJECTION_ROTATION = 0.0
  MAP_PROJECTION_TYPE = SINUSOIDAL
  MAP_RESOLUTION = 592.713803866667 <pixel/degree>
  MAP_SCALE = 0.1 <km/pixel>
  MAXIMUM_LATITUDE = -25.8733
  MINIMUM_LATITUDE = -34.1893
  POSITIVE_LONGITUDE_DIRECTION = EAST
  REFERENCE_LATITUDE = "N/A"
  REFERENCE_LONGITUDE = "N/A"
  SAMPLE_FIRST_PIXEL = 1
  SAMPLE_LAST_PIXEL = 733
  SAMPLE_PROJECTION_OFFSET = 139.6875
  SECOND_STANDARD_PARALLEL = "N/A"
  WESTERNMOST_LONGITUDE = 292.72
END_OBJECT = IMAGE_MAP_PROJECTION
END
