PDS_VERSION_ID = PDS3
/* FILE DATA ELEMENTS */
RECORD_TYPE = UNDEFINED
/* POINTERS TO DATA OBJECTS */
^IMAGE = ("H4310_0005_SR4.TIF")
/* IDENTIFICATION DATA ELEMENTS */
DATA_SET_ID = "MEX-M-HRSC-4-REFDR-MAPPROJECT-EXT1-V4.0"
DATA_SET_NAME = "MARS EXPRESS HRSC MAP PROJECTED REFDR EXTENSION1 V4.0"
DETECTOR_ID = MEX_HRSC_SRC
EVENT_TYPE = "MARS-LOCAL-STEREO-Fl-Lc-Ot"
INSTRUMENT_HOST_ID = MEX
INSTRUMENT_HOST_NAME = "MARS EXPRESS"
INSTRUMENT_ID = HRSC
INSTRUMENT_NAME = "HIGH RESOLUTION STEREO CAMERA"
MISSION_NAME = "MARS EXPRESS"
MISSION_PHASE_NAME = ME_Phase_7
PROCESSING_LEVEL_ID = 4
PRODUCT_CREATION_TIME = 2023-02-10T03:49:22.000Z
PRODUCT_ID = "H4310_0005_SR4.TIF"
RELEASE_ID = 0006
REVISION_ID = 0000
/* QUALITY DATA ELEMENTS */
DATA_QUALITY_ID = 1
DATA_QUALITY_DESC = "Data calculated based on original SPICE kernels"
/* TIME DATA ELEMENTS */
SPACECRAFT_CLOCK_START_COUNT = "1/0127227316.08229"
SPACECRAFT_CLOCK_STOP_COUNT = "1/0127227482.17878"
IMAGE_TIME = 2007-05-14T12:56:56.445Z
START_TIME = 2007-05-14T12:56:56.442Z
STOP_TIME = 2007-05-14T12:56:56.447Z
/* ORBITAL DATA ELEMENTS */
ASCENDING_NODE_LONGITUDE = 138.05
MAXIMUM_RESOLUTION = 0.003192
FOOTPRINT_POINT_LATITUDE = (-23.9815,-23.9785,-23.9761,-23.9725, -23.9696,-23.9673,-23.9638,-23.9607, -23.9586,-23.955,-23.9529,-23.9506, -23.9486,-23.9461,-23.9442,-23.9426, -23.9387,-23.9359,-23.9337,-23.9307, -23.9272,-23.9272,-23.9272,-23.9272, -23.9272,-23.9272,-23.9272,-23.9272, -23.9272,-23.9272,-23.9273,-23.9273, -23.9273,-23.9273,-23.9273,-23.9273, -23.9273,-23.9273,-23.9273,-23.9274, -23.9274,-23.9274,-23.9274,-23.9274, -23.9274,-23.9274,-23.9274,-23.9274, -23.9275,-23.9275,-23.9294,-23.9325, -23.936,-23.9389,-23.9412,-23.9444, -23.9467,-23.9489,-23.9513,-23.9545, -23.9564,-23.9585,-23.9604,-23.962, -23.9653,-23.9677,-23.971,-23.9743, -23.9765,-23.9795,-23.9817,-23.9818, -23.9818,-23.9818,-23.9818,-23.9817, -23.9817,-23.9817,-23.9817,-23.9817, -23.9817,-23.9817,-23.9817,-23.9817, -23.9816,-23.9816,-23.9816,-23.9816, -23.9816,-23.9816,-23.9816,-23.9815, -23.9815,-23.9815,-23.9815,-23.9815, -23.9815,-23.9815,-23.9815,-23.9815)
FOOTPRINT_POINT_LONGITUDE = (326.278,326.278,326.278,326.278, 326.278,326.278,326.278,326.278,326.279 ,326.279,326.279,326.279,326.279, 326.279,326.279,326.279,326.279,326.279 ,326.279,326.279,326.279,326.279, 326.279,326.281,326.283,326.285,326.288 ,326.29,326.292,326.295,326.298,326.3, 326.302,326.305,326.307,326.309,326.312 ,326.314,326.316,326.319,326.321, 326.324,326.326,326.328,326.331,326.333 ,326.335,326.338,326.338,326.339, 326.339,326.339,326.339,326.339,326.339 ,326.339,326.339,326.339,326.339, 326.339,326.339,326.338,326.338,326.338 ,326.338,326.338,326.338,326.338, 326.338,326.338,326.338,326.338,326.338 ,326.336,326.334,326.331,326.329, 326.326,326.324,326.322,326.319,326.317 ,326.315,326.312,326.31,326.308,326.305 ,326.303,326.301,326.298,326.296, 326.293,326.291,326.289,326.286,326.284 ,326.282,326.279,326.279,326.278)
ORBIT_NUMBER = 4310
ORBITAL_ECCENTRICITY = 0.571
ORBITAL_INCLINATION = 86.7
ORBITAL_SEMIMAJOR_AXIS = 8580.92
PERIAPSIS_ALTITUDE = 293.84
PERIAPSIS_ARGUMENT_ANGLE = 318.91
PERIAPSIS_TIME = 2007-05-14T12:52:37.000Z
SPACECRAFT_ORIENTATION = (0.0,1.0,0.0)
^MEX_ORIENTATION_DESC = "MEX_ORIENTATION_DESC.TXT"
SPACECRAFT_POINTING_MODE = ACROSSTRACK
^MEX_POINTING_DESC = "MEX_POINTING_DESC.TXT"
RIGHT_ASCENSION = -1e+32
DECLINATION = -1e+32
OFFSET_ANGLE = 0.07
SPACECRAFT_SOLAR_DISTANCE = 2.07141e+08
TARGET_NAME = MARS
/* CAMERA DATA ELEMENTS */
BUFFER_MODE_ID = BUFFER_8
EXPOSURE_DURATION = 5.04
INST_CMPRS_NAME = NONE
INST_CMPRS_RATIO = 1.0
INST_CMPRS_QUALITY = -2147483648
INST_CMPRS_QUANTZ_TBL_ID = -2147483648
INSTRUMENT_TEMPERATURE = 13.113
MISSING_FRAMES = 0
START_BIT = 0
/* RADIOMETRIC DATA ELEMENTS */
BANDWIDTH = 250.0
CENTER_FILTER_WAVELENGTH = 600.0
RADIANCE_OFFSET = -9.99e+31
RADIANCE_SCALING_FACTOR = -9.99e+31
REFLECTANCE_SCALING_FACTOR = -9.99e+31
MEX:REFLECTANCE_OFFSET = -9.99e+31
/* IMAGE OBJECT DEFINITIONS */
OBJECT = IMAGE
  INTERCHANGE_FORMAT = BINARY
  LINES = 1347
  LINE_SAMPLES = 1363
  SAMPLE_TYPE = UNSIGNED_INTEGER
  SAMPLE_BITS = 8
  BANDS = 1
  BAND_STORAGE_TYPE = BAND_SEQUENTIAL
  MAXIMUM = 253
  MEAN = 122.395
  MINIMUM = 2
  STANDARD_DEVIATION = 27.6292
END_OBJECT = IMAGE
/* MAP OBJECT DEFINITIONS */
OBJECT = IMAGE_MAP_PROJECTION
  ^DATA_SET_MAP_PROJECTION_CATALOG= "DSMAP.CAT"
  A_AXIS_RADIUS = 3396.19
  B_AXIS_RADIUS = 3396.19
  C_AXIS_RADIUS = 3396.19
  CENTER_LATITUDE = 0.0
  CENTER_LONGITUDE = 326.0
  COORDINATE_SYSTEM_NAME = PLANETOGRAPHIC
  COORDINATE_SYSTEM_TYPE = "BODY-FIXED ROTATING"
  EASTERNMOST_LONGITUDE = 326.339
  FIRST_STANDARD_PARALLEL = "N/A"
  LINE_FIRST_PIXEL = 1
  LINE_LAST_PIXEL = 1347
  LINE_PROJECTION_OFFSET = -567094.0
  MAP_PROJECTION_ROTATION = 0.0
  MAP_PROJECTION_TYPE = SINUSOIDAL
  MAP_RESOLUTION = 23709.8786048756
  MAP_SCALE = 0.0025
  MAXIMUM_LATITUDE = -23.9272
  MINIMUM_LATITUDE = -23.9818
  POSITIVE_LONGITUDE_DIRECTION = EAST
  REFERENCE_LATITUDE = "N/A"
  REFERENCE_LONGITUDE = "N/A"
  SAMPLE_FIRST_PIXEL = 1
  SAMPLE_LAST_PIXEL = 1363
  SAMPLE_PROJECTION_OFFSET = -5981.0
  SECOND_STANDARD_PARALLEL = "N/A"
  WESTERNMOST_LONGITUDE = 326.278
END_OBJECT = IMAGE_MAP_PROJECTION
END
