PDS_VERSION_ID = PDS3
/* FILE DATA ELEMENTS */
RECORD_TYPE = UNDEFINED
/* POINTERS TO DATA OBJECTS */
^IMAGE = ("H4301_0000_S14.TIF")
/* IDENTIFICATION DATA ELEMENTS */
DATA_SET_ID = "MEX-M-HRSC-4-REFDR-MAPPROJECT-EXT1-V4.0"
DATA_SET_NAME = "MARS EXPRESS HRSC MAP PROJECTED REFDR EXTENSION1 V4.0"
DETECTOR_ID = MEX_HRSC_S1
EVENT_TYPE = "MARS-REGIONAL-MAPPING-Vo-Im"
INSTRUMENT_HOST_ID = MEX
INSTRUMENT_HOST_NAME = "MARS EXPRESS"
INSTRUMENT_ID = HRSC
INSTRUMENT_NAME = "HIGH RESOLUTION STEREO CAMERA"
MISSION_NAME = "MARS EXPRESS"
MISSION_PHASE_NAME = ME_Phase_7
PROCESSING_LEVEL_ID = 4
PRODUCT_CREATION_TIME = 2023-02-10T03:49:22.000Z
PRODUCT_ID = "H4301_0000_S14.TIF"
RELEASE_ID = 0006
REVISION_ID = 0000
/* QUALITY DATA ELEMENTS */
DATA_QUALITY_ID = 1
DATA_QUALITY_DESC = "Data calculated based on original SPICE kernels"
/* TIME DATA ELEMENTS */
SPACECRAFT_CLOCK_START_COUNT = "1/0127009220.08243"
SPACECRAFT_CLOCK_STOP_COUNT = "1/0127009583.25376"
START_TIME = 2007-05-12T00:21:23.532Z
STOP_TIME = 2007-05-12T00:26:25.483Z
/* ORBITAL DATA ELEMENTS */
ASCENDING_NODE_LONGITUDE = 138.23
MAXIMUM_RESOLUTION = 0.0248
FOOTPRINT_POINT_LATITUDE = (-51.5467,-51.5267,-51.4913,-51.4907, -51.5459,-51.1101,-50.6814,-50.2666, -49.6291,-49.0019,-48.582,-47.9553, -47.5481,-47.142,-46.7371,-46.3329, -45.5224,-44.917,-44.5141,-44.111, -43.7073,-43.1067,-42.718,-42.3311, -41.9439,-41.3624,-40.782,-40.3944, -40.0101,-39.4319,-38.4744,-38.0907, -37.5241,-37.1195,-36.7235,-36.3267, -35.931,-35.5352,-35.1401,-34.7485, -34.3484,-33.9535,-33.5599,-33.1683, -32.7752,-32.3724,-31.768,-31.5661, -31.5623,-31.5695,-31.5775,-31.5777, -31.5781,-31.9796,-32.3861,-32.7893, -33.1824,-33.7715,-34.3648,-34.9591, -35.355,-35.7507,-36.1469,-36.5436, -36.941,-37.536,-37.9197,-38.496, -38.8814,-39.4579,-39.8408,-40.2269, -40.6133,-41.0003,-41.5836,-41.9717, -42.5502,-42.9409,-43.3327,-43.7395, -44.1421,-44.5458,-44.9515,-45.3568, -45.7634,-46.3724,-46.7785,-47.1849, -47.5912,-47.9981,-48.4167,-48.843, -49.2596,-49.6828,-50.1037,-50.5266, -50.9477,-51.3885,-51.6057,-51.5467)
FOOTPRINT_POINT_LONGITUDE = (130.725,130.037,129.014,128.997, 128.958,129.01,129.059,129.102,129.173, 129.235,129.276,129.335,129.372,129.408 ,129.442,129.474,129.538,129.582,129.61 ,129.637,129.664,129.702,129.725, 129.748,129.77,129.802,129.832,129.852, 129.87,129.896,129.935,129.951,129.969, 129.987,130.001,130.014,130.027,130.039 ,130.05,130.06,130.073,130.084,130.094, 130.103,130.112,130.12,130.131,130.134, 130.134,130.722,131.385,131.397,131.401 ,131.393,131.385,131.377,131.37,131.358 ,131.346,131.335,131.326,131.317, 131.308,131.299,131.289,131.275,131.265 ,131.25,131.241,131.224,131.213,131.202 ,131.191,131.179,131.163,131.151, 131.131,131.119,131.106,131.093,131.078 ,131.064,131.049,131.034,131.019, 130.996,130.979,130.963,130.945,130.928 ,130.91,130.893,130.871,130.851,130.83, 130.809,130.786,130.764,130.752, 130.725)
ORBIT_NUMBER = 4301
ORBITAL_ECCENTRICITY = 0.571
ORBITAL_INCLINATION = 86.68
ORBITAL_SEMIMAJOR_AXIS = 8588.76
PERIAPSIS_ALTITUDE = 294.15
PERIAPSIS_ARGUMENT_ANGLE = 320.49
PERIAPSIS_TIME = 2007-05-12T00:24:00.000Z
SPACECRAFT_ORIENTATION = (0.0,1.0,0.0)
^MEX_ORIENTATION_DESC = "MEX_ORIENTATION_DESC.TXT"
SPACECRAFT_POINTING_MODE = NADIR
^MEX_POINTING_DESC = "MEX_POINTING_DESC.TXT"
RIGHT_ASCENSION = -1e+32
DECLINATION = -1e+32
OFFSET_ANGLE = -1e+32
SPACECRAFT_SOLAR_DISTANCE = 2.0726e+08
TARGET_NAME = MARS
/* CAMERA DATA ELEMENTS */
DETECTOR_TEMPERATURE = 17.9627
FOCAL_PLANE_TEMPERATURE = 9.8067
INST_CMPRS_NAME = "DISCRETE COSINE TRANSFORMATION (DCT)"
INST_CMPRS_RATIO = 9.45001
INST_CMPRS_QUALITY = 0
INST_CMPRS_QUANTZ_TBL_ID = 0
INSTRUMENT_TEMPERATURE = 11.6418
LENS_TEMPERATURE = 10.2145
MACROPIXEL_SIZE = 2
MISSING_FRAMES = 0
PIXEL_SUBSAMPLING_FLAG = N
SIGNAL_CHAIN_ID = 1
/* RADIOMETRIC DATA ELEMENTS */
BANDWIDTH = 180.0
CENTER_FILTER_WAVELENGTH = 677.0
RADIANCE_OFFSET = 7.84433
RADIANCE_SCALING_FACTOR = 0.0159404
REFLECTANCE_SCALING_FACTOR = 0.000357251
MEX:REFLECTANCE_OFFSET = 0.175805
/* IMAGE OBJECT DEFINITIONS */
OBJECT = IMAGE
  INTERCHANGE_FORMAT = BINARY
  LINES = 47516
  LINE_SAMPLES = 4374
  SAMPLE_TYPE = UNSIGNED_INTEGER
  SAMPLE_BITS = 8
  BANDS = 1
  BAND_STORAGE_TYPE = BAND_SEQUENTIAL
  MAXIMUM = 255
  MEAN = 145.416
  MINIMUM = 1
  STANDARD_DEVIATION = 40.7279
END_OBJECT = IMAGE
/* MAP OBJECT DEFINITIONS */
OBJECT = IMAGE_MAP_PROJECTION
  ^DATA_SET_MAP_PROJECTION_CATALOG= "DSMAP.CAT"
  A_AXIS_RADIUS = 3396.0
  B_AXIS_RADIUS = 3396.0
  C_AXIS_RADIUS = 3396.0
  CENTER_LATITUDE = 0.0
  CENTER_LONGITUDE = 130.0
  COORDINATE_SYSTEM_NAME = PLANETOGRAPHIC
  COORDINATE_SYSTEM_TYPE = "BODY-FIXED ROTATING"
  EASTERNMOST_LONGITUDE = 131.401
  FIRST_STANDARD_PARALLEL = "N/A"
  LINE_FIRST_PIXEL = 1
  LINE_LAST_PIXEL = 47516
  LINE_PROJECTION_OFFSET = -74889.75
  MAP_PROJECTION_ROTATION = 0.0
  MAP_PROJECTION_TYPE = SINUSOIDAL
  MAP_RESOLUTION = 2370.85521546667
  MAP_SCALE = 0.025
  MAXIMUM_LATITUDE = -31.5623
  MINIMUM_LATITUDE = -51.6057
  POSITIVE_LONGITUDE_DIRECTION = EAST
  REFERENCE_LATITUDE = "N/A"
  REFERENCE_LONGITUDE = "N/A"
  SAMPLE_FIRST_PIXEL = 1
  SAMPLE_LAST_PIXEL = 4374
  SAMPLE_PROJECTION_OFFSET = 1580.25
  SECOND_STANDARD_PARALLEL = "N/A"
  WESTERNMOST_LONGITUDE = 128.958
END_OBJECT = IMAGE_MAP_PROJECTION
END
