PDS_VERSION_ID = PDS3
/* FILE DATA ELEMENTS */
RECORD_TYPE = UNDEFINED
/* POINTERS TO DATA OBJECTS */
^IMAGE = ("H4294_0000_P14.TIF")
/* IDENTIFICATION DATA ELEMENTS */
DATA_SET_ID = "MEX-M-HRSC-4-REFDR-MAPPROJECT-EXT1-V4.0"
DATA_SET_NAME = "MARS EXPRESS HRSC MAP PROJECTED REFDR EXTENSION1 V4.0"
DETECTOR_ID = MEX_HRSC_P1
EVENT_TYPE = "MARS-REGIONAL-MAPPING-Vo-Im"
INSTRUMENT_HOST_ID = MEX
INSTRUMENT_HOST_NAME = "MARS EXPRESS"
INSTRUMENT_ID = HRSC
INSTRUMENT_NAME = "HIGH RESOLUTION STEREO CAMERA"
MISSION_NAME = "MARS EXPRESS"
MISSION_PHASE_NAME = ME_Phase_7
PROCESSING_LEVEL_ID = 4
PRODUCT_CREATION_TIME = 2023-02-10T03:49:22.000Z
PRODUCT_ID = "H4294_0000_P14.TIF"
RELEASE_ID = 0006
REVISION_ID = 0000
/* QUALITY DATA ELEMENTS */
DATA_QUALITY_ID = 1
DATA_QUALITY_DESC = "Data calculated based on original SPICE kernels"
/* TIME DATA ELEMENTS */
SPACECRAFT_CLOCK_START_COUNT = "1/0126840176.08270"
SPACECRAFT_CLOCK_STOP_COUNT = "1/0126840521.47633"
START_TIME = 2007-05-10T01:23:44.155Z
STOP_TIME = 2007-05-10T01:28:28.968Z
/* ORBITAL DATA ELEMENTS */
ASCENDING_NODE_LONGITUDE = 138.37
MAXIMUM_RESOLUTION = 0.05
FOOTPRINT_POINT_LATITUDE = (-31.6316,-31.6204,-31.6014,-31.6011, -31.6241,-31.0075,-30.5264,-30.2064, -29.5747,-29.0986,-28.4588,-27.9748, -27.6525,-27.3277,-26.8417,-26.5176, -26.1933,-25.6949,-25.3604,-25.0265, -24.6936,-24.3613,-23.85,-23.3781, -23.0362,-22.6964,-22.3566,-22.0173, -21.5093,-21.1694,-20.8332,-20.4977, -20.1625,-19.7937,-19.3951,-18.9967, -18.6035,-18.2043,-17.6136,-17.2194, -16.8282,-16.4378,-16.0486,-15.6602, -15.2615,-14.8692,-14.4687,-14.0595, -13.8561,-13.8135,-13.8192,-13.8254, -13.8257,-13.8268,-14.2316,-14.8392, -15.236,-15.6348,-16.0262,-16.4142, -16.8051,-17.1972,-17.5902,-17.984, -18.3795,-18.7762,-19.1731,-19.5718, -20.1494,-20.4864,-20.8226,-21.1542, -21.495,-21.8338,-22.3435,-22.8536, -23.1942,-23.535,-24.0089,-24.3502, -24.6827,-25.0162,-25.3501,-25.685, -26.1847,-26.5035,-26.8313,-27.3241, -27.6505,-27.9774,-28.6184,-29.0946, -29.73,-30.0483,-30.3674,-30.6869, -31.0065,-31.47,-31.6244,-31.6316)
FOOTPRINT_POINT_LONGITUDE = (99.7883,99.3012,98.5729,98.5616, 98.5555,98.5632,98.5691,98.5725,98.5775 ,98.5811,98.586,98.5888,98.5894,98.5903 ,98.5911,98.5915,98.5917,98.5917, 98.5914,98.5908,98.59,98.5889,98.5869, 98.5846,98.5827,98.5804,98.5779,98.5753 ,98.5709,98.5682,98.5646,98.5609,98.557 ,98.5526,98.5475,98.5423,98.536,98.5308 ,98.5213,98.515,98.508,98.5009,98.4935, 98.4858,98.478,98.4687,98.4596,98.4516, 98.4473,98.4464,98.9563,99.9638,99.9785 ,99.9833,99.9786,99.9728,99.9684, 99.9645,99.9614,99.9559,99.9517,99.9476 ,99.9434,99.9391,99.9352,99.9315, 99.9272,99.9234,99.9198,99.9174,99.9139 ,99.906,99.9051,99.9021,99.8977,99.8924 ,99.8886,99.8845,99.8816,99.8783, 99.8749,99.8718,99.8685,99.8657,99.8612 ,99.8528,99.8521,99.8511,99.8481,99.845 ,99.8388,99.8348,99.8286,99.8255, 99.8228,99.8201,99.8176,99.8137,99.812, 99.7883)
ORBIT_NUMBER = 4294
ORBITAL_ECCENTRICITY = 0.571
ORBITAL_INCLINATION = 86.69
ORBITAL_SEMIMAJOR_AXIS = 8591.58
PERIAPSIS_ALTITUDE = 293.48
PERIAPSIS_ARGUMENT_ANGLE = 321.69
PERIAPSIS_TIME = 2007-05-10T01:21:47.000Z
SPACECRAFT_ORIENTATION = (0.0,1.0,0.0)
^MEX_ORIENTATION_DESC = "MEX_ORIENTATION_DESC.TXT"
SPACECRAFT_POINTING_MODE = ACROSSTRACK
^MEX_POINTING_DESC = "MEX_POINTING_DESC.TXT"
RIGHT_ASCENSION = -1e+32
DECLINATION = -1e+32
OFFSET_ANGLE = -0.4
SPACECRAFT_SOLAR_DISTANCE = 2.07363e+08
TARGET_NAME = MARS
/* CAMERA DATA ELEMENTS */
DETECTOR_TEMPERATURE = 18.1666
FOCAL_PLANE_TEMPERATURE = 9.6028
INST_CMPRS_NAME = "DISCRETE COSINE TRANSFORMATION (DCT)"
INST_CMPRS_RATIO = 12.0413
INST_CMPRS_QUALITY = 0
INST_CMPRS_QUANTZ_TBL_ID = 0
INSTRUMENT_TEMPERATURE = 11.4379
LENS_TEMPERATURE = 9.6028
MACROPIXEL_SIZE = 4
PIXEL_SUBSAMPLING_FLAG = N
SIGNAL_CHAIN_ID = 3
/* RADIOMETRIC DATA ELEMENTS */
BANDWIDTH = 174.0
CENTER_FILTER_WAVELENGTH = 675.0
RADIANCE_OFFSET = 4.77643
RADIANCE_SCALING_FACTOR = 0.0219606
REFLECTANCE_SCALING_FACTOR = 0.000507915
MEX:REFLECTANCE_OFFSET = 0.110472
/* IMAGE OBJECT DEFINITIONS */
OBJECT = IMAGE
  INTERCHANGE_FORMAT = BINARY
  LINES = 21125
  LINE_SAMPLES = 1700
  SAMPLE_TYPE = UNSIGNED_INTEGER
  SAMPLE_BITS = 8
  BANDS = 1
  BAND_STORAGE_TYPE = BAND_SEQUENTIAL
  MAXIMUM = 255
  MEAN = 114.673
  MINIMUM = 1
  STANDARD_DEVIATION = 63.0567
END_OBJECT = IMAGE
/* MAP OBJECT DEFINITIONS */
OBJECT = IMAGE_MAP_PROJECTION
  ^DATA_SET_MAP_PROJECTION_CATALOG= "DSMAP.CAT"
  A_AXIS_RADIUS = 3396.0
  B_AXIS_RADIUS = 3396.0
  C_AXIS_RADIUS = 3396.0
  CENTER_LATITUDE = 0.0
  CENTER_LONGITUDE = 99.0
  COORDINATE_SYSTEM_NAME = PLANETOGRAPHIC
  COORDINATE_SYSTEM_TYPE = "BODY-FIXED ROTATING"
  EASTERNMOST_LONGITUDE = 99.9833
  FIRST_STANDARD_PARALLEL = "N/A"
  LINE_FIRST_PIXEL = 1
  LINE_LAST_PIXEL = 21125
  LINE_PROJECTION_OFFSET = -16385.875
  MAP_PROJECTION_ROTATION = 0.0
  MAP_PROJECTION_TYPE = SINUSOIDAL
  MAP_RESOLUTION = 1185.42760773333
  MAP_SCALE = 0.05
  MAXIMUM_LATITUDE = -13.8135
  MINIMUM_LATITUDE = -31.6316
  POSITIVE_LONGITUDE_DIRECTION = EAST
  REFERENCE_LATITUDE = "N/A"
  REFERENCE_LONGITUDE = "N/A"
  SAMPLE_FIRST_PIXEL = 1
  SAMPLE_LAST_PIXEL = 1700
  SAMPLE_PROJECTION_OFFSET = 608.875
  SECOND_STANDARD_PARALLEL = "N/A"
  WESTERNMOST_LONGITUDE = 98.4464
END_OBJECT = IMAGE_MAP_PROJECTION
END
