PDS_VERSION_ID = PDS3
/* FILE DATA ELEMENTS */
RECORD_TYPE = UNDEFINED
/* POINTERS TO DATA OBJECTS */
^IMAGE = ("H4292_0000_GR4.TIF")
/* IDENTIFICATION DATA ELEMENTS */
DATA_SET_ID = "MEX-M-HRSC-4-REFDR-MAPPROJECT-EXT1-V4.0"
DATA_SET_NAME = "MARS EXPRESS HRSC MAP PROJECTED REFDR EXTENSION1 V4.0"
DETECTOR_ID = MEX_HRSC_GREEN
EVENT_TYPE = "MARS-REGIONAL-MAPPING-Gl-La-At"
INSTRUMENT_HOST_ID = MEX
INSTRUMENT_HOST_NAME = "MARS EXPRESS"
INSTRUMENT_ID = HRSC
INSTRUMENT_NAME = "HIGH RESOLUTION STEREO CAMERA"
MISSION_NAME = "MARS EXPRESS"
MISSION_PHASE_NAME = ME_Phase_7
PROCESSING_LEVEL_ID = 4
PRODUCT_CREATION_TIME = 2023-02-10T03:49:22.000Z
PRODUCT_ID = "H4292_0000_GR4.TIF"
RELEASE_ID = 0006
REVISION_ID = 0000
/* QUALITY DATA ELEMENTS */
DATA_QUALITY_ID = 1
DATA_QUALITY_DESC = "Data calculated based on original SPICE kernels"
/* TIME DATA ELEMENTS */
SPACECRAFT_CLOCK_START_COUNT = "1/0126790621.07289"
SPACECRAFT_CLOCK_STOP_COUNT = "1/0126791063.01464"
START_TIME = 2007-05-09T11:40:08.080Z
STOP_TIME = 2007-05-09T11:43:25.359Z
/* ORBITAL DATA ELEMENTS */
ASCENDING_NODE_LONGITUDE = 138.41
MAXIMUM_RESOLUTION = 0.0587
FOOTPRINT_POINT_LATITUDE = (-86.4372,-86.3107,-86.1834,-86.0253, -85.7927,-85.6041,-85.428,-85.2212, -85.0306,-84.8343,-84.6326,-84.4521, -84.2685,-84.242,-84.2015,-84.3243, -84.4423,-84.555,-84.662,-84.7628, -84.8571,-84.9445,-85.0246,-85.0967, -85.1606,-85.2159,-85.2622,-85.2992, -85.3264,-85.3438,-85.3513,-85.3443, -85.3279,-85.3023,-85.2678,-85.2245, -85.173,-85.081,-85.0102,-84.9299, -84.755,-84.6093,-84.3973,-84.1679, -83.9239,-83.7328,-83.4008,-83.1252, -82.8426,-82.4809,-82.1863,-81.9628, -81.8881,-81.834,-82.0728,-82.2131, -82.3656,-82.5527,-82.6582,-82.7745, -82.8492,-82.8555,-82.8586,-83.3054, -83.6651,-84.1174,-84.5709,-84.8444, -85.209,-85.5739,-85.9377,-86.2989, -86.6563,-86.9195,-87.0918,-87.3504, -87.5128,-87.6693,-87.8189,-88.0247, -88.1464,-88.2525,-88.3389,-88.4026, -88.44,-88.4425,-88.3799,-88.3041, -88.1495,-88.024,-87.811,-87.6556, -87.492,-87.3219,-87.1466,-86.9671, -86.7841,-86.5982,-86.5044,-86.4372)
FOOTPRINT_POINT_LONGITUDE = (145.334,149.48,152.908,156.484,160.806 ,163.733,166.121,168.592,170.611, 172.478,174.209,175.62,176.941,177.123, 177.211,178.887,180.641,182.475,184.389 ,186.386,188.464,190.623,192.86,195.173 ,197.558,200.008,202.518,205.078, 207.663,210.264,212.86,216.738,219.297, 221.822,224.299,226.73,229.095,232.524, 234.727,236.925,240.932,243.736,247.209 ,250.387,253.294,255.304,258.362, 260.565,262.577,264.85,266.496,267.643, 268.008,268.267,271.164,273.081,275.405 ,278.708,280.883,283.684,285.801, 285.996,286.065,285.225,284.459,283.359 ,282.051,281.151,279.775,278.163, 276.239,273.913,271.067,268.481,266.489 ,262.897,260.148,257.014,253.414, 247.008,241.962,236.211,229.777,222.691 ,215.108,203.337,191.918,184.946, 175.789,170.588,163.975,160.279,157.069 ,154.265,151.802,149.633,147.708, 146.006,145.225,145.334)
ORBIT_NUMBER = 4292
ORBITAL_ECCENTRICITY = 0.571
ORBITAL_INCLINATION = 86.68
ORBITAL_SEMIMAJOR_AXIS = 8589.56
PERIAPSIS_ALTITUDE = 294.36
PERIAPSIS_ARGUMENT_ANGLE = 322.07
PERIAPSIS_TIME = 2007-05-09T11:55:28.000Z
SPACECRAFT_ORIENTATION = (0.0,1.0,0.0)
^MEX_ORIENTATION_DESC = "MEX_ORIENTATION_DESC.TXT"
SPACECRAFT_POINTING_MODE = ACROSSTRACK
^MEX_POINTING_DESC = "MEX_POINTING_DESC.TXT"
RIGHT_ASCENSION = -1e+32
DECLINATION = -1e+32
OFFSET_ANGLE = -0.2
SPACECRAFT_SOLAR_DISTANCE = 2.07393e+08
TARGET_NAME = MARS
/* CAMERA DATA ELEMENTS */
DETECTOR_TEMPERATURE = 18.3705
FOCAL_PLANE_TEMPERATURE = 8.9911
INST_CMPRS_NAME = "DISCRETE COSINE TRANSFORMATION (DCT)"
INST_CMPRS_RATIO = 5.06161
INST_CMPRS_QUALITY = 0
INST_CMPRS_QUANTZ_TBL_ID = 0
INSTRUMENT_TEMPERATURE = 11.4379
LENS_TEMPERATURE = 9.6028
MACROPIXEL_SIZE = 2
MISSING_FRAMES = 1
PIXEL_SUBSAMPLING_FLAG = N
SIGNAL_CHAIN_ID = 2
/* RADIOMETRIC DATA ELEMENTS */
BANDWIDTH = 88.0
CENTER_FILTER_WAVELENGTH = 538.0
RADIANCE_OFFSET = 1.74069
RADIANCE_SCALING_FACTOR = 0.0220469
REFLECTANCE_SCALING_FACTOR = 0.00081645
MEX:REFLECTANCE_OFFSET = 0.064462
/* IMAGE OBJECT DEFINITIONS */
OBJECT = IMAGE
  INTERCHANGE_FORMAT = BINARY
  LINES = 9304
  LINE_SAMPLES = 12191
  SAMPLE_TYPE = UNSIGNED_INTEGER
  SAMPLE_BITS = 8
  BANDS = 1
  BAND_STORAGE_TYPE = BAND_SEQUENTIAL
  MAXIMUM = 255
  MEAN = 115.99
  MINIMUM = 1
  STANDARD_DEVIATION = 60.3974
END_OBJECT = IMAGE
/* MAP OBJECT DEFINITIONS */
OBJECT = IMAGE_MAP_PROJECTION
  ^DATA_SET_MAP_PROJECTION_CATALOG= "DSMAP.CAT"
  A_AXIS_RADIUS = 3396.0
  B_AXIS_RADIUS = 3396.0
  C_AXIS_RADIUS = 3396.0
  CENTER_LATITUDE = -90.0
  CENTER_LONGITUDE = 0.0
  COORDINATE_SYSTEM_NAME = PLANETOGRAPHIC
  COORDINATE_SYSTEM_TYPE = "BODY-FIXED ROTATING"
  EASTERNMOST_LONGITUDE = 286.065
  FIRST_STANDARD_PARALLEL = "N/A"
  LINE_FIRST_PIXEL = 1
  LINE_LAST_PIXEL = 9304
  LINE_PROJECTION_OFFSET = 2373.25
  MAP_PROJECTION_ROTATION = 0.0
  MAP_PROJECTION_TYPE = STEREOGRAPHIC
  MAP_RESOLUTION = 1185.42760773333
  MAP_SCALE = 0.05
  MAXIMUM_LATITUDE = -81.834
  MINIMUM_LATITUDE = -88.4425
  POSITIVE_LONGITUDE_DIRECTION = EAST
  REFERENCE_LATITUDE = "N/A"
  REFERENCE_LONGITUDE = "N/A"
  SAMPLE_FIRST_PIXEL = 1
  SAMPLE_LAST_PIXEL = 12191
  SAMPLE_PROJECTION_OFFSET = 9712.25
  SECOND_STANDARD_PARALLEL = "N/A"
  WESTERNMOST_LONGITUDE = 145.225
END_OBJECT = IMAGE_MAP_PROJECTION
END
