PDS_VERSION_ID = PDS3
/* FILE DATA ELEMENTS */
RECORD_TYPE = UNDEFINED
/* POINTERS TO DATA OBJECTS */
^IMAGE = ("H4290_0000_S24.TIF")
/* IDENTIFICATION DATA ELEMENTS */
DATA_SET_ID = "MEX-M-HRSC-4-REFDR-MAPPROJECT-EXT1-V4.0"
DATA_SET_NAME = "MARS EXPRESS HRSC MAP PROJECTED REFDR EXTENSION1 V4.0"
DETECTOR_ID = MEX_HRSC_S2
EVENT_TYPE = "MARS-REGIONAL-MAPPING-Vo-Im"
INSTRUMENT_HOST_ID = MEX
INSTRUMENT_HOST_NAME = "MARS EXPRESS"
INSTRUMENT_ID = HRSC
INSTRUMENT_NAME = "HIGH RESOLUTION STEREO CAMERA"
MISSION_NAME = "MARS EXPRESS"
MISSION_PHASE_NAME = ME_Phase_7
PROCESSING_LEVEL_ID = 4
PRODUCT_CREATION_TIME = 2023-02-10T03:49:22.000Z
PRODUCT_ID = "H4290_0000_S24.TIF"
RELEASE_ID = 0006
REVISION_ID = 0000
/* QUALITY DATA ELEMENTS */
DATA_QUALITY_ID = 1
DATA_QUALITY_DESC = "Data calculated based on original SPICE kernels"
/* TIME DATA ELEMENTS */
SPACECRAFT_CLOCK_START_COUNT = "1/0126743092.08245"
SPACECRAFT_CLOCK_STOP_COUNT = "1/0126743455.63739"
START_TIME = 2007-05-08T22:24:56.264Z
STOP_TIME = 2007-05-08T22:30:05.167Z
/* ORBITAL DATA ELEMENTS */
ASCENDING_NODE_LONGITUDE = 138.45
MAXIMUM_RESOLUTION = 0.0248
FOOTPRINT_POINT_LATITUDE = (-51.6834,-51.6621,-51.6148,-51.614, -51.5471,-51.1275,-50.706,-50.0716, -49.6461,-49.0118,-48.5981,-48.183, -47.7655,-47.3492,-46.9398,-46.3347, -45.9301,-45.5217,-45.1165,-44.7216, -44.3265,-43.9306,-43.5291,-43.1304, -42.5336,-42.1458,-41.6561,-41.2748, -40.8877,-40.4991,-40.1107,-39.72, -39.1308,-38.7389,-38.3479,-37.9556, -37.5633,-37.1816,-36.425,-36.0454, -35.6649,-34.9064,-34.526,-34.1469, -33.7666,-33.3855,-32.808,-32.4259, -31.8321,-31.6333,-31.6187,-31.6275, -31.6369,-31.637,-31.6374,-32.2294, -32.6235,-33.3857,-33.9637,-34.3452, -34.9163,-35.297,-35.6773,-36.0568, -36.4377,-37.0068,-37.3857,-37.7736, -38.1665,-38.7559,-39.1487,-39.5436, -39.9353,-40.5106,-40.9095,-41.298, -41.6866,-42.3636,-42.7587,-43.1605, -43.7556,-44.1533,-44.5512,-44.9526, -45.3507,-45.7586,-46.1583,-46.57, -46.9802,-47.5952,-48.012,-48.4297, -48.8455,-49.4768,-49.9039,-50.3303, -50.7556,-51.3932,-51.6042,-51.6834)
FOOTPRINT_POINT_LONGITUDE = (131.846,131.115,129.937,129.919, 129.889,129.944,129.996,130.073,130.122 ,130.192,130.236,130.279,130.32,130.36, 130.396,130.452,130.488,130.522,130.554 ,130.585,130.615,130.645,130.672, 130.699,130.74,130.764,130.791,130.816, 130.839,130.86,130.881,130.901,130.929, 130.948,130.966,130.983,131.0,131.015, 131.045,131.06,131.073,131.099,131.112, 131.124,131.136,131.147,131.161,131.171 ,131.186,131.191,131.191,131.671, 132.386,132.398,132.402,132.395,132.389 ,132.379,132.368,132.362,132.352, 132.346,132.339,132.333,132.326,132.315 ,132.308,132.3,132.292,132.279,132.271, 132.261,132.251,132.242,132.229,132.22, 132.21,132.193,132.183,132.171,132.157, 132.146,132.134,132.12,132.109,132.097, 132.088,132.073,132.058,132.037,132.023 ,132.008,131.993,131.97,131.953,131.936 ,131.919,131.891,131.882,131.846)
ORBIT_NUMBER = 4290
ORBITAL_ECCENTRICITY = 0.571
ORBITAL_INCLINATION = 86.68
ORBITAL_SEMIMAJOR_AXIS = 8591.76
PERIAPSIS_ALTITUDE = 294.58
PERIAPSIS_ARGUMENT_ANGLE = 322.42
PERIAPSIS_TIME = 2007-05-08T22:29:03.000Z
SPACECRAFT_ORIENTATION = (0.0,1.0,0.0)
^MEX_ORIENTATION_DESC = "MEX_ORIENTATION_DESC.TXT"
SPACECRAFT_POINTING_MODE = NADIR
^MEX_POINTING_DESC = "MEX_POINTING_DESC.TXT"
RIGHT_ASCENSION = -1e+32
DECLINATION = -1e+32
OFFSET_ANGLE = -1e+32
SPACECRAFT_SOLAR_DISTANCE = 2.07425e+08
TARGET_NAME = MARS
/* CAMERA DATA ELEMENTS */
DETECTOR_TEMPERATURE = 18.5744
FOCAL_PLANE_TEMPERATURE = 8.9911
INST_CMPRS_NAME = "DISCRETE COSINE TRANSFORMATION (DCT)"
INST_CMPRS_RATIO = 11.4004
INST_CMPRS_QUALITY = 0
INST_CMPRS_QUANTZ_TBL_ID = 0
INSTRUMENT_TEMPERATURE = 11.4379
LENS_TEMPERATURE = 8.1755
MACROPIXEL_SIZE = 2
PIXEL_SUBSAMPLING_FLAG = N
SIGNAL_CHAIN_ID = 1
/* RADIOMETRIC DATA ELEMENTS */
BANDWIDTH = 178.0
CENTER_FILTER_WAVELENGTH = 679.0
RADIANCE_OFFSET = 6.73625
RADIANCE_SCALING_FACTOR = 0.0196777
REFLECTANCE_SCALING_FACTOR = 0.00044836
MEX:REFLECTANCE_OFFSET = 0.153487
/* IMAGE OBJECT DEFINITIONS */
OBJECT = IMAGE
  INTERCHANGE_FORMAT = BINARY
  LINES = 47427
  LINE_SAMPLES = 3871
  SAMPLE_TYPE = UNSIGNED_INTEGER
  SAMPLE_BITS = 8
  BANDS = 1
  BAND_STORAGE_TYPE = BAND_SEQUENTIAL
  MAXIMUM = 255
  MEAN = 123.03
  MINIMUM = 1
  STANDARD_DEVIATION = 39.6931
END_OBJECT = IMAGE
/* MAP OBJECT DEFINITIONS */
OBJECT = IMAGE_MAP_PROJECTION
  ^DATA_SET_MAP_PROJECTION_CATALOG= "DSMAP.CAT"
  A_AXIS_RADIUS = 3396.0
  B_AXIS_RADIUS = 3396.0
  C_AXIS_RADIUS = 3396.0
  CENTER_LATITUDE = 0.0
  CENTER_LONGITUDE = 132.0
  COORDINATE_SYSTEM_NAME = PLANETOGRAPHIC
  COORDINATE_SYSTEM_TYPE = "BODY-FIXED ROTATING"
  EASTERNMOST_LONGITUDE = 132.402
  FIRST_STANDARD_PARALLEL = "N/A"
  LINE_FIRST_PIXEL = 1
  LINE_LAST_PIXEL = 47427
  LINE_PROJECTION_OFFSET = -74927.75
  MAP_PROJECTION_ROTATION = 0.0
  MAP_PROJECTION_TYPE = SINUSOIDAL
  MAP_RESOLUTION = 2370.85521546667
  MAP_SCALE = 0.025
  MAXIMUM_LATITUDE = -31.6187
  MINIMUM_LATITUDE = -51.6834
  POSITIVE_LONGITUDE_DIRECTION = EAST
  REFERENCE_LATITUDE = "N/A"
  REFERENCE_LONGITUDE = "N/A"
  SAMPLE_FIRST_PIXEL = 1
  SAMPLE_LAST_PIXEL = 3871
  SAMPLE_PROJECTION_OFFSET = 3053.25
  SECOND_STANDARD_PARALLEL = "N/A"
  WESTERNMOST_LONGITUDE = 129.889
END_OBJECT = IMAGE_MAP_PROJECTION
END
