PDS_VERSION_ID = PDS3
/* FILE DATA ELEMENTS */
RECORD_TYPE = UNDEFINED
/* POINTERS TO DATA OBJECTS */
^IMAGE = ("H4289_0000_S24.TIF")
/* IDENTIFICATION DATA ELEMENTS */
DATA_SET_ID = "MEX-M-HRSC-4-REFDR-MAPPROJECT-EXT1-V4.0"
DATA_SET_NAME = "MARS EXPRESS HRSC MAP PROJECTED REFDR EXTENSION1 V4.0"
DETECTOR_ID = MEX_HRSC_S2
EVENT_TYPE = "MARS-REGIONAL-MAPPING-Vo-Im"
INSTRUMENT_HOST_ID = MEX
INSTRUMENT_HOST_NAME = "MARS EXPRESS"
INSTRUMENT_ID = HRSC
INSTRUMENT_NAME = "HIGH RESOLUTION STEREO CAMERA"
MISSION_NAME = "MARS EXPRESS"
MISSION_PHASE_NAME = ME_Phase_7
PROCESSING_LEVEL_ID = 4
PRODUCT_CREATION_TIME = 2023-02-10T03:49:22.000Z
PRODUCT_ID = "H4289_0000_S24.TIF"
RELEASE_ID = 0006
REVISION_ID = 0000
/* QUALITY DATA ELEMENTS */
DATA_QUALITY_ID = 1
DATA_QUALITY_DESC = "Data calculated based on original SPICE kernels"
/* TIME DATA ELEMENTS */
SPACECRAFT_CLOCK_START_COUNT = "1/0126719094.09055"
SPACECRAFT_CLOCK_STOP_COUNT = "1/0126719292.42808"
START_TIME = 2007-05-08T15:44:58.253Z
STOP_TIME = 2007-05-08T15:47:21.045Z
/* ORBITAL DATA ELEMENTS */
ASCENDING_NODE_LONGITUDE = 138.48
MAXIMUM_RESOLUTION = 0.0247
FOOTPRINT_POINT_LATITUDE = (-38.9377,-38.9324,-38.9259,-38.9183, -38.918,-38.8876,-38.6973,-38.5058, -38.3137,-38.1212,-37.9291,-37.7434, -37.5569,-37.3706,-36.9993,-36.5362, -36.167,-35.7938,-35.6048,-35.4178, -35.137,-34.8565,-34.5765,-34.3897, -34.109,-33.9218,-33.7345,-33.5472, -33.3597,-33.0787,-32.8911,-32.7035, -32.4218,-32.234,-32.046,-31.8579, -31.665,-31.47,-31.2747,-30.9816, -30.7861,-30.5905,-30.3949,-30.1994, -30.0036,-29.8078,-29.5139,-29.416, -29.4137,-29.4196,-29.4211,-29.421, -29.4214,-29.6174,-29.813,-30.009, -30.205,-30.4987,-30.6945,-30.9882, -31.2817,-31.4774,-31.6729,-31.8662, -32.0544,-32.2427,-32.4309,-32.6191, -32.8069,-32.9946,-33.1827,-33.3708, -33.5578,-33.7451,-33.9326,-34.2138, -34.4012,-34.5883,-34.7753,-34.9623, -35.1494,-35.3364,-35.523,-35.8031, -35.9895,-36.269,-36.4557,-36.6429, -36.83,-37.0172,-37.3831,-37.5692, -37.7551,-37.9437,-38.2313,-38.4213, -38.6135,-38.8053,-38.9015,-38.9377)
FOOTPRINT_POINT_LONGITUDE = (230.703,230.184,229.78,229.415,229.402 ,229.39,229.399,229.408,229.416,229.424 ,229.432,229.44,229.447,229.454,229.468 ,229.486,229.499,229.512,229.517, 229.523,229.532,229.54,229.549,229.554, 229.562,229.567,229.572,229.577,229.582 ,229.589,229.594,229.598,229.605, 229.609,229.613,229.617,229.621,229.625 ,229.629,229.634,229.638,229.641, 229.645,229.648,229.651,229.654,229.659 ,229.66,229.66,230.215,230.841,230.853, 230.857,230.855,230.853,230.85,230.848, 230.845,230.842,230.839,230.835,230.832 ,230.83,230.827,230.825,230.822,230.82, 230.817,230.815,230.812,230.81,230.807, 230.804,230.802,230.799,230.795,230.792 ,230.79,230.787,230.784,230.781,230.779 ,230.776,230.771,230.769,230.764, 230.761,230.758,230.754,230.75,230.747, 230.744,230.74,230.736,230.731,230.729, 230.725,230.722,230.72,230.703)
ORBIT_NUMBER = 4289
ORBITAL_ECCENTRICITY = 0.571
ORBITAL_INCLINATION = 86.7
ORBITAL_SEMIMAJOR_AXIS = 8590.72
PERIAPSIS_ALTITUDE = 293.84
PERIAPSIS_ARGUMENT_ANGLE = 322.57
PERIAPSIS_TIME = 2007-05-08T15:45:48.000Z
SPACECRAFT_ORIENTATION = (0.0,1.0,0.0)
^MEX_ORIENTATION_DESC = "MEX_ORIENTATION_DESC.TXT"
SPACECRAFT_POINTING_MODE = ACROSSTRACK
^MEX_POINTING_DESC = "MEX_POINTING_DESC.TXT"
RIGHT_ASCENSION = -1e+32
DECLINATION = -1e+32
OFFSET_ANGLE = -0.1
SPACECRAFT_SOLAR_DISTANCE = 2.07441e+08
TARGET_NAME = MARS
/* CAMERA DATA ELEMENTS */
DETECTOR_TEMPERATURE = 19.1861
FOCAL_PLANE_TEMPERATURE = 9.6028
INST_CMPRS_NAME = "DISCRETE COSINE TRANSFORMATION (DCT)"
INST_CMPRS_RATIO = 12.2413
INST_CMPRS_QUALITY = 0
INST_CMPRS_QUANTZ_TBL_ID = 0
INSTRUMENT_TEMPERATURE = 11.6418
LENS_TEMPERATURE = 9.6028
MACROPIXEL_SIZE = 2
MISSING_FRAMES = 0
PIXEL_SUBSAMPLING_FLAG = N
SIGNAL_CHAIN_ID = 1
/* RADIOMETRIC DATA ELEMENTS */
BANDWIDTH = 178.0
CENTER_FILTER_WAVELENGTH = 679.0
RADIANCE_OFFSET = 5.91893
RADIANCE_SCALING_FACTOR = 0.0179502
REFLECTANCE_SCALING_FACTOR = 0.000409059
MEX:REFLECTANCE_OFFSET = 0.134884
/* IMAGE OBJECT DEFINITIONS */
OBJECT = IMAGE
  INTERCHANGE_FORMAT = BINARY
  LINES = 22502
  LINE_SAMPLES = 2895
  SAMPLE_TYPE = UNSIGNED_INTEGER
  SAMPLE_BITS = 8
  BANDS = 1
  BAND_STORAGE_TYPE = BAND_SEQUENTIAL
  MAXIMUM = 255
  MEAN = 111.097
  MINIMUM = 1
  STANDARD_DEVIATION = 36.5545
END_OBJECT = IMAGE
/* MAP OBJECT DEFINITIONS */
OBJECT = IMAGE_MAP_PROJECTION
  ^DATA_SET_MAP_PROJECTION_CATALOG= "DSMAP.CAT"
  A_AXIS_RADIUS = 3396.0
  B_AXIS_RADIUS = 3396.0
  C_AXIS_RADIUS = 3396.0
  CENTER_LATITUDE = 0.0
  CENTER_LONGITUDE = 230.0
  COORDINATE_SYSTEM_NAME = PLANETOGRAPHIC
  COORDINATE_SYSTEM_TYPE = "BODY-FIXED ROTATING"
  EASTERNMOST_LONGITUDE = 230.857
  FIRST_STANDARD_PARALLEL = "N/A"
  LINE_FIRST_PIXEL = 1
  LINE_LAST_PIXEL = 22502
  LINE_PROJECTION_OFFSET = -69707.25
  MAP_PROJECTION_ROTATION = 0.0
  MAP_PROJECTION_TYPE = SINUSOIDAL
  MAP_RESOLUTION = 2370.85521546667
  MAP_SCALE = 0.025
  MAXIMUM_LATITUDE = -29.4137
  MINIMUM_LATITUDE = -38.9377
  POSITIVE_LONGITUDE_DIRECTION = EAST
  REFERENCE_LATITUDE = "N/A"
  REFERENCE_LONGITUDE = "N/A"
  SAMPLE_FIRST_PIXEL = 1
  SAMPLE_LAST_PIXEL = 2895
  SAMPLE_PROJECTION_OFFSET = 1113.75
  SECOND_STANDARD_PARALLEL = "N/A"
  WESTERNMOST_LONGITUDE = 229.39
END_OBJECT = IMAGE_MAP_PROJECTION
END
