PDS_VERSION_ID = PDS3
/* FILE DATA ELEMENTS */
RECORD_TYPE = UNDEFINED
/* POINTERS TO DATA OBJECTS */
^IMAGE = ("H4289_0000_S14.TIF")
/* IDENTIFICATION DATA ELEMENTS */
DATA_SET_ID = "MEX-M-HRSC-4-REFDR-MAPPROJECT-EXT1-V4.0"
DATA_SET_NAME = "MARS EXPRESS HRSC MAP PROJECTED REFDR EXTENSION1 V4.0"
DETECTOR_ID = MEX_HRSC_S1
EVENT_TYPE = "MARS-REGIONAL-MAPPING-Vo-Im"
INSTRUMENT_HOST_ID = MEX
INSTRUMENT_HOST_NAME = "MARS EXPRESS"
INSTRUMENT_ID = HRSC
INSTRUMENT_NAME = "HIGH RESOLUTION STEREO CAMERA"
MISSION_NAME = "MARS EXPRESS"
MISSION_PHASE_NAME = ME_Phase_7
PROCESSING_LEVEL_ID = 4
PRODUCT_CREATION_TIME = 2023-02-10T03:49:22.000Z
PRODUCT_ID = "H4289_0000_S14.TIF"
RELEASE_ID = 0006
REVISION_ID = 0000
/* QUALITY DATA ELEMENTS */
DATA_QUALITY_ID = 1
DATA_QUALITY_DESC = "Data calculated based on original SPICE kernels"
/* TIME DATA ELEMENTS */
SPACECRAFT_CLOCK_START_COUNT = "1/0126719094.09055"
SPACECRAFT_CLOCK_STOP_COUNT = "1/0126719292.42808"
START_TIME = 2007-05-08T15:45:50.178Z
STOP_TIME = 2007-05-08T15:48:14.751Z
/* ORBITAL DATA ELEMENTS */
ASCENDING_NODE_LONGITUDE = 138.48
MAXIMUM_RESOLUTION = 0.0247
FOOTPRINT_POINT_LATITUDE = (-38.8506,-38.8396,-38.83,-38.8201, -38.8198,-38.8491,-38.6611,-38.4733, -38.2874,-38.1017,-37.823,-37.2676, -36.8968,-36.711,-36.5241,-36.3374, -35.966,-35.6001,-35.2318,-35.0417, -34.8503,-34.6589,-34.4676,-34.2765, -34.0857,-33.8948,-33.7042,-33.5136, -33.3232,-33.1327,-32.9426,-32.7525, -32.5626,-32.3729,-32.1833,-31.994, -31.8047,-31.6153,-31.4261,-31.2373, -31.0485,-30.8598,-30.6714,-30.4793, -30.2842,-29.9918,-29.7973,-29.5056, -29.4084,-29.3893,-29.3963,-29.4014, -29.4064,-29.4065,-29.407,-29.6993, -29.8941,-30.0891,-30.2844,-30.4797, -30.6727,-30.8613,-31.0502,-31.2392, -31.4282,-31.6174,-31.8068,-31.9964, -32.186,-32.3757,-32.6608,-32.851, -33.0413,-33.2315,-33.4224,-33.6134, -33.8043,-33.9952,-34.1866,-34.3779, -34.5693,-34.7608,-34.9528,-35.1444, -35.5171,-35.795,-36.0729,-36.4433, -36.8114,-37.0005,-37.1888,-37.3748, -37.5606,-37.9268,-38.2099,-38.3987, -38.5857,-38.7723,-38.8654,-38.8506)
FOOTPRINT_POINT_LONGITUDE = (230.7,230.199,229.8,229.427,229.415, 229.4,229.409,229.417,229.424,229.431, 229.442,229.461,229.474,229.481,229.487 ,229.494,229.506,229.516,229.526, 229.532,229.537,229.542,229.547,229.552 ,229.557,229.561,229.566,229.57,229.575 ,229.579,229.583,229.587,229.591, 229.595,229.598,229.602,229.605,229.609 ,229.612,229.615,229.618,229.621, 229.624,229.627,229.629,229.633,229.636 ,229.639,229.641,229.641,230.119, 230.479,230.864,230.876,230.88,230.876, 230.873,230.87,230.868,230.865,230.862, 230.859,230.856,230.853,230.85,230.847, 230.844,230.841,230.838,230.835,230.83, 230.827,230.824,230.821,230.818,230.814 ,230.811,230.808,230.805,230.801, 230.798,230.795,230.791,230.788,230.781 ,230.776,230.771,230.763,230.755, 230.753,230.75,230.746,230.743,230.732, 230.728,230.725,230.721,230.717,230.715 ,230.7)
ORBIT_NUMBER = 4289
ORBITAL_ECCENTRICITY = 0.571
ORBITAL_INCLINATION = 86.7
ORBITAL_SEMIMAJOR_AXIS = 8590.72
PERIAPSIS_ALTITUDE = 293.84
PERIAPSIS_ARGUMENT_ANGLE = 322.57
PERIAPSIS_TIME = 2007-05-08T15:45:48.000Z
SPACECRAFT_ORIENTATION = (0.0,1.0,0.0)
^MEX_ORIENTATION_DESC = "MEX_ORIENTATION_DESC.TXT"
SPACECRAFT_POINTING_MODE = ACROSSTRACK
^MEX_POINTING_DESC = "MEX_POINTING_DESC.TXT"
RIGHT_ASCENSION = -1e+32
DECLINATION = -1e+32
OFFSET_ANGLE = -0.1
SPACECRAFT_SOLAR_DISTANCE = 2.07441e+08
TARGET_NAME = MARS
/* CAMERA DATA ELEMENTS */
DETECTOR_TEMPERATURE = 17.7588
FOCAL_PLANE_TEMPERATURE = 9.6028
INST_CMPRS_NAME = "DISCRETE COSINE TRANSFORMATION (DCT)"
INST_CMPRS_RATIO = 9.17873
INST_CMPRS_QUALITY = 0
INST_CMPRS_QUANTZ_TBL_ID = 0
INSTRUMENT_TEMPERATURE = 11.6418
LENS_TEMPERATURE = 9.6028
MACROPIXEL_SIZE = 2
MISSING_FRAMES = 0
PIXEL_SUBSAMPLING_FLAG = N
SIGNAL_CHAIN_ID = 1
/* RADIOMETRIC DATA ELEMENTS */
BANDWIDTH = 180.0
CENTER_FILTER_WAVELENGTH = 677.0
RADIANCE_OFFSET = 6.35184
RADIANCE_SCALING_FACTOR = 0.0176681
REFLECTANCE_SCALING_FACTOR = 0.000396663
MEX:REFLECTANCE_OFFSET = 0.142603
/* IMAGE OBJECT DEFINITIONS */
OBJECT = IMAGE
  INTERCHANGE_FORMAT = BINARY
  LINES = 22502
  LINE_SAMPLES = 2895
  SAMPLE_TYPE = UNSIGNED_INTEGER
  SAMPLE_BITS = 8
  BANDS = 1
  BAND_STORAGE_TYPE = BAND_SEQUENTIAL
  MAXIMUM = 255
  MEAN = 112.865
  MINIMUM = 1
  STANDARD_DEVIATION = 37.397
END_OBJECT = IMAGE
/* MAP OBJECT DEFINITIONS */
OBJECT = IMAGE_MAP_PROJECTION
  ^DATA_SET_MAP_PROJECTION_CATALOG= "DSMAP.CAT"
  A_AXIS_RADIUS = 3396.0
  B_AXIS_RADIUS = 3396.0
  C_AXIS_RADIUS = 3396.0
  CENTER_LATITUDE = 0.0
  CENTER_LONGITUDE = 230.0
  COORDINATE_SYSTEM_NAME = PLANETOGRAPHIC
  COORDINATE_SYSTEM_TYPE = "BODY-FIXED ROTATING"
  EASTERNMOST_LONGITUDE = 230.88
  FIRST_STANDARD_PARALLEL = "N/A"
  LINE_FIRST_PIXEL = 1
  LINE_LAST_PIXEL = 22502
  LINE_PROJECTION_OFFSET = -69707.25
  MAP_PROJECTION_ROTATION = 0.0
  MAP_PROJECTION_TYPE = SINUSOIDAL
  MAP_RESOLUTION = 2370.85521546667
  MAP_SCALE = 0.025
  MAXIMUM_LATITUDE = -29.3893
  MINIMUM_LATITUDE = -38.8654
  POSITIVE_LONGITUDE_DIRECTION = EAST
  REFERENCE_LATITUDE = "N/A"
  REFERENCE_LONGITUDE = "N/A"
  SAMPLE_FIRST_PIXEL = 1
  SAMPLE_LAST_PIXEL = 2895
  SAMPLE_PROJECTION_OFFSET = 1113.75
  SECOND_STANDARD_PARALLEL = "N/A"
  WESTERNMOST_LONGITUDE = 229.4
END_OBJECT = IMAGE_MAP_PROJECTION
END
