PDS_VERSION_ID = PDS3
/* FILE DATA ELEMENTS */
RECORD_TYPE = UNDEFINED
/* POINTERS TO DATA OBJECTS */
^IMAGE = ("H4289_0000_RE4.TIF")
/* IDENTIFICATION DATA ELEMENTS */
DATA_SET_ID = "MEX-M-HRSC-4-REFDR-MAPPROJECT-EXT1-V4.0"
DATA_SET_NAME = "MARS EXPRESS HRSC MAP PROJECTED REFDR EXTENSION1 V4.0"
DETECTOR_ID = MEX_HRSC_RED
EVENT_TYPE = "MARS-REGIONAL-MAPPING-Vo-Im"
INSTRUMENT_HOST_ID = MEX
INSTRUMENT_HOST_NAME = "MARS EXPRESS"
INSTRUMENT_ID = HRSC
INSTRUMENT_NAME = "HIGH RESOLUTION STEREO CAMERA"
MISSION_NAME = "MARS EXPRESS"
MISSION_PHASE_NAME = ME_Phase_7
PROCESSING_LEVEL_ID = 4
PRODUCT_CREATION_TIME = 2023-02-10T03:49:22.000Z
PRODUCT_ID = "H4289_0000_RE4.TIF"
RELEASE_ID = 0006
REVISION_ID = 0000
/* QUALITY DATA ELEMENTS */
DATA_QUALITY_ID = 1
DATA_QUALITY_DESC = "Data calculated based on original SPICE kernels"
/* TIME DATA ELEMENTS */
SPACECRAFT_CLOCK_START_COUNT = "1/0126719094.09055"
SPACECRAFT_CLOCK_STOP_COUNT = "1/0126719292.42808"
START_TIME = 2007-05-08T15:45:03.043Z
STOP_TIME = 2007-05-08T15:47:25.553Z
/* ORBITAL DATA ELEMENTS */
ASCENDING_NODE_LONGITUDE = 138.48
MAXIMUM_RESOLUTION = 0.0486
FOOTPRINT_POINT_LATITUDE = (-38.9122,-38.9089,-38.9037,-38.8979, -38.8922,-38.8919,-38.8651,-38.5816, -38.3907,-38.1084,-37.7397,-37.5548, -37.2773,-36.9082,-36.632,-36.3562, -35.9884,-35.8013,-35.5222,-35.3365, -35.1507,-34.9652,-34.7799,-34.5944, -34.4089,-34.1304,-33.9447,-33.7588, -33.573,-33.3871,-33.1083,-32.9222, -32.7362,-32.55,-32.3637,-32.1775, -31.8906,-31.697,-31.5038,-31.2133, -31.0197,-30.8261,-30.6324,-30.4385, -30.2449,-30.051,-29.7601,-29.5661, -29.4692,-29.4091,-29.4123,-29.4158, -29.4168,-29.4171,-29.4171,-29.4178, -29.6119,-29.8058,-30.0969,-30.2909, -30.4849,-30.7758,-30.9698,-31.2606, -31.4546,-31.6484,-31.8422,-32.0358, -32.2249,-32.5048,-32.7841,-32.9704, -33.157,-33.3434,-33.529,-33.715, -33.9011,-34.0871,-34.2731,-34.4588, -34.7375,-34.9231,-35.2017,-35.4799, -35.6654,-35.8506,-36.0358,-36.2208, -36.4991,-36.685,-36.9636,-37.3284, -37.5134,-37.6983,-37.8852,-38.2524, -38.5383,-38.7293,-38.8249,-38.9122)
FOOTPRINT_POINT_LONGITUDE = (230.7,230.372,229.997,229.684,229.419, 229.407,229.395,229.409,229.417,229.429 ,229.444,229.451,229.461,229.475, 229.485,229.496,229.509,229.515,229.523 ,229.529,229.535,229.54,229.546,229.551 ,229.557,229.564,229.57,229.574,229.579 ,229.584,229.591,229.596,229.6,229.604, 229.608,229.612,229.618,229.622,229.626 ,229.632,229.636,229.639,229.643, 229.646,229.649,229.652,229.657,229.66, 229.661,229.662,229.905,230.35,230.618, 230.841,230.852,230.856,230.854,230.852 ,230.848,230.846,230.843,230.84,230.837 ,230.834,230.831,230.828,230.826, 230.823,230.821,230.817,230.813,230.811 ,230.808,230.805,230.803,230.8,230.797, 230.795,230.792,230.789,230.785,230.782 ,230.778,230.774,230.771,230.768, 230.765,230.762,230.757,230.754,230.748 ,230.744,230.741,230.738,230.733, 230.727,230.723,230.719,230.717,230.7)
ORBIT_NUMBER = 4289
ORBITAL_ECCENTRICITY = 0.571
ORBITAL_INCLINATION = 86.7
ORBITAL_SEMIMAJOR_AXIS = 8590.72
PERIAPSIS_ALTITUDE = 293.84
PERIAPSIS_ARGUMENT_ANGLE = 322.57
PERIAPSIS_TIME = 2007-05-08T15:45:48.000Z
SPACECRAFT_ORIENTATION = (0.0,1.0,0.0)
^MEX_ORIENTATION_DESC = "MEX_ORIENTATION_DESC.TXT"
SPACECRAFT_POINTING_MODE = ACROSSTRACK
^MEX_POINTING_DESC = "MEX_POINTING_DESC.TXT"
RIGHT_ASCENSION = -1e+32
DECLINATION = -1e+32
OFFSET_ANGLE = -0.1
SPACECRAFT_SOLAR_DISTANCE = 2.07441e+08
TARGET_NAME = MARS
/* CAMERA DATA ELEMENTS */
DETECTOR_TEMPERATURE = 19.1861
FOCAL_PLANE_TEMPERATURE = 9.6028
INST_CMPRS_NAME = "DISCRETE COSINE TRANSFORMATION (DCT)"
INST_CMPRS_RATIO = 20.7036
INST_CMPRS_QUALITY = 0
INST_CMPRS_QUANTZ_TBL_ID = 0
INSTRUMENT_TEMPERATURE = 11.6418
LENS_TEMPERATURE = 9.6028
MACROPIXEL_SIZE = 4
MISSING_FRAMES = 0
PIXEL_SUBSAMPLING_FLAG = N
SIGNAL_CHAIN_ID = 2
/* RADIOMETRIC DATA ELEMENTS */
BANDWIDTH = 48.0
CENTER_FILTER_WAVELENGTH = 748.0
RADIANCE_OFFSET = 1.53288
RADIANCE_SCALING_FACTOR = 0.00514008
REFLECTANCE_SCALING_FACTOR = 0.00050476
MEX:REFLECTANCE_OFFSET = 0.15053
/* IMAGE OBJECT DEFINITIONS */
OBJECT = IMAGE
  INTERCHANGE_FORMAT = BINARY
  LINES = 11251
  LINE_SAMPLES = 1448
  SAMPLE_TYPE = UNSIGNED_INTEGER
  SAMPLE_BITS = 8
  BANDS = 1
  BAND_STORAGE_TYPE = BAND_SEQUENTIAL
  MAXIMUM = 255
  MEAN = 108.899
  MINIMUM = 1
  STANDARD_DEVIATION = 37.7005
END_OBJECT = IMAGE
/* MAP OBJECT DEFINITIONS */
OBJECT = IMAGE_MAP_PROJECTION
  ^DATA_SET_MAP_PROJECTION_CATALOG= "DSMAP.CAT"
  A_AXIS_RADIUS = 3396.0
  B_AXIS_RADIUS = 3396.0
  C_AXIS_RADIUS = 3396.0
  CENTER_LATITUDE = 0.0
  CENTER_LONGITUDE = 230.0
  COORDINATE_SYSTEM_NAME = PLANETOGRAPHIC
  COORDINATE_SYSTEM_TYPE = "BODY-FIXED ROTATING"
  EASTERNMOST_LONGITUDE = 230.856
  FIRST_STANDARD_PARALLEL = "N/A"
  LINE_FIRST_PIXEL = 1
  LINE_LAST_PIXEL = 11251
  LINE_PROJECTION_OFFSET = -34853.875
  MAP_PROJECTION_ROTATION = 0.0
  MAP_PROJECTION_TYPE = SINUSOIDAL
  MAP_RESOLUTION = 1185.42760773333
  MAP_SCALE = 0.05
  MAXIMUM_LATITUDE = -29.4091
  MINIMUM_LATITUDE = -38.9122
  POSITIVE_LONGITUDE_DIRECTION = EAST
  REFERENCE_LATITUDE = "N/A"
  REFERENCE_LONGITUDE = "N/A"
  SAMPLE_FIRST_PIXEL = 1
  SAMPLE_LAST_PIXEL = 1448
  SAMPLE_PROJECTION_OFFSET = 556.625
  SECOND_STANDARD_PARALLEL = "N/A"
  WESTERNMOST_LONGITUDE = 229.395
END_OBJECT = IMAGE_MAP_PROJECTION
END
