PDS_VERSION_ID = PDS3
/* FILE DATA ELEMENTS */
RECORD_TYPE = UNDEFINED
/* POINTERS TO DATA OBJECTS */
^IMAGE = ("H4286_0000_ND4.TIF")
/* IDENTIFICATION DATA ELEMENTS */
DATA_SET_ID = "MEX-M-HRSC-4-REFDR-MAPPROJECT-EXT1-V4.0"
DATA_SET_NAME = "MARS EXPRESS HRSC MAP PROJECTED REFDR EXTENSION1 V4.0"
DETECTOR_ID = MEX_HRSC_NADIR
EVENT_TYPE = "MARS-REGIONAL-MAPPING-Im-Fl-Mw"
INSTRUMENT_HOST_ID = MEX
INSTRUMENT_HOST_NAME = "MARS EXPRESS"
INSTRUMENT_ID = HRSC
INSTRUMENT_NAME = "HIGH RESOLUTION STEREO CAMERA"
MISSION_NAME = "MARS EXPRESS"
MISSION_PHASE_NAME = ME_Phase_7
PROCESSING_LEVEL_ID = 4
PRODUCT_CREATION_TIME = 2023-02-10T03:49:22.000Z
PRODUCT_ID = "H4286_0000_ND4.TIF"
RELEASE_ID = 0006
REVISION_ID = 0000
/* QUALITY DATA ELEMENTS */
DATA_QUALITY_ID = 1
DATA_QUALITY_DESC = "Data calculated based on original SPICE kernels"
/* TIME DATA ELEMENTS */
SPACECRAFT_CLOCK_START_COUNT = "1/0126646433.07282"
SPACECRAFT_CLOCK_STOP_COUNT = "1/0126646710.21678"
START_TIME = 2007-05-07T19:34:25.361Z
STOP_TIME = 2007-05-07T19:38:05.370Z
/* ORBITAL DATA ELEMENTS */
ASCENDING_NODE_LONGITUDE = 138.53
MAXIMUM_RESOLUTION = 0.0117
FOOTPRINT_POINT_LATITUDE = (-44.6654,-44.6449,-44.6269,-44.6264, -44.6246,-44.3229,-44.021,-43.719, -43.2709,-42.9791,-42.6876,-42.3958, -42.1034,-41.6652,-41.3728,-41.0803, -40.7877,-40.495,-40.2022,-39.9094, -39.6164,-39.3233,-39.0302,-38.737, -38.4438,-38.006,-37.4411,-36.876, -36.1697,-35.8871,-35.6046,-35.1807, -34.6157,-34.0508,-33.6141,-33.3209, -33.0278,-32.7348,-32.2953,-32.0023, -31.7095,-31.4167,-31.124,-30.8314, -30.539,-30.2466,-30.1004,-30.0849, -30.0958,-30.0989,-30.099,-30.0992, -30.3919,-30.6847,-30.9775,-31.2705, -31.5636,-31.8568,-32.1501,-32.4435, -32.7369,-33.0304,-33.3239,-33.6175, -34.0554,-34.3383,-34.7626,-35.0456, -35.3286,-35.6116,-35.8946,-36.1775, -36.4605,-36.7435,-37.0265,-37.451, -37.734,-38.0169,-38.455,-38.7487, -39.0424,-39.336,-39.6296,-39.9231, -40.3633,-40.8033,-41.0965,-41.3896, -41.6826,-41.9755,-42.2684,-42.5611, -42.8536,-43.1461,-43.4384,-43.8924, -44.1951,-44.4977,-44.649,-44.6654)
FOOTPRINT_POINT_LONGITUDE = (165.19,164.332,163.736,163.721,163.694 ,163.717,163.738,163.761,163.79,163.809 ,163.831,163.852,163.865,163.893,163.91 ,163.926,163.942,163.957,163.973, 163.987,164.001,164.015,164.028,164.041 ,164.054,164.073,164.096,164.119, 164.145,164.155,164.164,164.178,164.196 ,164.212,164.225,164.233,164.242,164.25 ,164.261,164.267,164.273,164.279, 164.284,164.29,164.295,164.3,164.303, 164.303,165.141,165.501,165.513,165.519 ,165.515,165.51,165.506,165.502,165.497 ,165.493,165.488,165.483,165.478, 165.473,165.469,165.465,165.457,165.452 ,165.444,165.439,165.434,165.428, 165.421,165.419,165.413,165.407,165.402 ,165.393,165.388,165.382,165.372, 165.366,165.359,165.353,165.346,165.338 ,165.326,165.316,165.307,165.3,165.293, 165.285,165.278,165.27,165.262,165.253, 165.245,165.232,165.223,165.214,165.209 ,165.19)
ORBIT_NUMBER = 4286
ORBITAL_ECCENTRICITY = 0.571
ORBITAL_INCLINATION = 86.69
ORBITAL_SEMIMAJOR_AXIS = 8588.63
PERIAPSIS_ALTITUDE = 295.0
PERIAPSIS_ARGUMENT_ANGLE = 323.13
PERIAPSIS_TIME = 2007-05-07T19:36:25.000Z
SPACECRAFT_ORIENTATION = (0.0,1.0,0.0)
^MEX_ORIENTATION_DESC = "MEX_ORIENTATION_DESC.TXT"
SPACECRAFT_POINTING_MODE = NADIR
^MEX_POINTING_DESC = "MEX_POINTING_DESC.TXT"
RIGHT_ASCENSION = -1e+32
DECLINATION = -1e+32
OFFSET_ANGLE = -1e+32
SPACECRAFT_SOLAR_DISTANCE = 2.07489e+08
TARGET_NAME = MARS
/* CAMERA DATA ELEMENTS */
DETECTOR_TEMPERATURE = 18.5744
FOCAL_PLANE_TEMPERATURE = 8.7872
INST_CMPRS_NAME = "DISCRETE COSINE TRANSFORMATION (DCT)"
INST_CMPRS_RATIO = 7.40839
INST_CMPRS_QUALITY = 0
INST_CMPRS_QUANTZ_TBL_ID = 0
INSTRUMENT_TEMPERATURE = 11.4379
LENS_TEMPERATURE = 9.195
MACROPIXEL_SIZE = 1
MISSING_FRAMES = 0
PIXEL_SUBSAMPLING_FLAG = N
SIGNAL_CHAIN_ID = 0
/* RADIOMETRIC DATA ELEMENTS */
BANDWIDTH = 177.0
CENTER_FILTER_WAVELENGTH = 677.5
RADIANCE_OFFSET = 5.03894
RADIANCE_SCALING_FACTOR = 0.0212806
REFLECTANCE_SCALING_FACTOR = 0.000486698
MEX:REFLECTANCE_OFFSET = 0.115243
/* IMAGE OBJECT DEFINITIONS */
OBJECT = IMAGE
  INTERCHANGE_FORMAT = BINARY
  LINES = 69135
  LINE_SAMPLES = 6536
  SAMPLE_TYPE = UNSIGNED_INTEGER
  SAMPLE_BITS = 8
  BANDS = 1
  BAND_STORAGE_TYPE = BAND_SEQUENTIAL
  MAXIMUM = 255
  MEAN = 96.204
  MINIMUM = 1
  STANDARD_DEVIATION = 39.6914
END_OBJECT = IMAGE
/* MAP OBJECT DEFINITIONS */
OBJECT = IMAGE_MAP_PROJECTION
  ^DATA_SET_MAP_PROJECTION_CATALOG= "DSMAP.CAT"
  A_AXIS_RADIUS = 3396.0
  B_AXIS_RADIUS = 3396.0
  C_AXIS_RADIUS = 3396.0
  CENTER_LATITUDE = 0.0
  CENTER_LONGITUDE = 165.0
  COORDINATE_SYSTEM_NAME = PLANETOGRAPHIC
  COORDINATE_SYSTEM_TYPE = "BODY-FIXED ROTATING"
  EASTERNMOST_LONGITUDE = 165.519
  FIRST_STANDARD_PARALLEL = "N/A"
  LINE_FIRST_PIXEL = 1
  LINE_LAST_PIXEL = 69135
  LINE_PROJECTION_OFFSET = -142651.0
  MAP_PROJECTION_ROTATION = 0.0
  MAP_PROJECTION_TYPE = SINUSOIDAL
  MAP_RESOLUTION = 4741.71043093333
  MAP_SCALE = 0.0125
  MAXIMUM_LATITUDE = -30.0849
  MINIMUM_LATITUDE = -44.6654
  POSITIVE_LONGITUDE_DIRECTION = EAST
  REFERENCE_LATITUDE = "N/A"
  REFERENCE_LONGITUDE = "N/A"
  SAMPLE_FIRST_PIXEL = 1
  SAMPLE_LAST_PIXEL = 6536
  SAMPLE_PROJECTION_OFFSET = 4404.0
  SECOND_STANDARD_PARALLEL = "N/A"
  WESTERNMOST_LONGITUDE = 163.694
END_OBJECT = IMAGE_MAP_PROJECTION
END
