PDS_VERSION_ID = PDS3
/* FILE DATA ELEMENTS */
RECORD_TYPE = UNDEFINED
/* POINTERS TO DATA OBJECTS */
^IMAGE = ("H4269_0000_P14.TIF")
/* IDENTIFICATION DATA ELEMENTS */
DATA_SET_ID = "MEX-M-HRSC-4-REFDR-MAPPROJECT-EXT1-V4.0"
DATA_SET_NAME = "MARS EXPRESS HRSC MAP PROJECTED REFDR EXTENSION1 V4.0"
DETECTOR_ID = MEX_HRSC_P1
EVENT_TYPE = "MARS-REGIONAL-MAPPING-Im-Eo"
INSTRUMENT_HOST_ID = MEX
INSTRUMENT_HOST_NAME = "MARS EXPRESS"
INSTRUMENT_ID = HRSC
INSTRUMENT_NAME = "HIGH RESOLUTION STEREO CAMERA"
MISSION_NAME = "MARS EXPRESS"
MISSION_PHASE_NAME = ME_Phase_7
PROCESSING_LEVEL_ID = 4
PRODUCT_CREATION_TIME = 2023-02-10T03:49:22.000Z
PRODUCT_ID = "H4269_0000_P14.TIF"
RELEASE_ID = 0006
REVISION_ID = 0000
/* QUALITY DATA ELEMENTS */
DATA_QUALITY_ID = 1
DATA_QUALITY_DESC = "Data calculated based on original SPICE kernels"
/* TIME DATA ELEMENTS */
SPACECRAFT_CLOCK_START_COUNT = "1/0126235126.09084"
SPACECRAFT_CLOCK_STOP_COUNT = "1/0126235399.58919"
START_TIME = 2007-05-03T01:19:40.053Z
STOP_TIME = 2007-05-03T01:23:13.285Z
/* ORBITAL DATA ELEMENTS */
ASCENDING_NODE_LONGITUDE = 138.89
MAXIMUM_RESOLUTION = 0.0482
FOOTPRINT_POINT_LATITUDE = (-45.9951,-45.9784,-45.9671,-45.9536, -45.9532,-45.9866,-45.6855,-45.3845, -45.0833,-44.7812,-44.4802,-44.046, -43.7559,-43.3204,-43.0273,-42.731, -42.4398,-42.0034,-41.7115,-41.4232, -41.1476,-40.8671,-40.5862,-40.304, -40.0191,-39.739,-39.4586,-39.0375, -38.7567,-38.4762,-38.0547,-37.7732, -37.4921,-37.2123,-36.9315,-36.5124, -36.2326,-35.953,-35.6764,-35.2719, -34.7328,-34.4621,-34.0604,-33.788, -33.2512,-32.7142,-32.4426,-32.0261, -31.8872,-31.819,-31.8255,-31.8317, -31.8357,-31.8358,-31.8367,-32.1151, -32.3933,-32.6699,-32.9423,-33.4759, -34.0147,-34.2846,-34.8228,-35.0925, -35.362,-35.6319,-36.0474,-36.3278, -36.7487,-37.0275,-37.3085,-37.5901, -38.012,-38.2934,-38.5746,-38.8557, -39.137,-39.5587,-39.9805,-40.2616, -40.5429,-40.8238,-41.1057,-41.3871, -41.6745,-41.9662,-42.2578,-42.5492, -42.841,-43.2781,-43.5743,-43.8662, -44.1534,-44.4451,-44.7484,-45.0511, -45.3536,-45.8066,-45.9575,-45.9951)
FOOTPRINT_POINT_LONGITUDE = (35.8466,35.142,34.7315,34.2914,34.2767 ,34.2472,34.2725,34.2971,34.3213, 34.3455,34.3683,34.3973,34.4177,34.4476 ,34.4688,34.4918,34.5107,34.5381, 34.5564,34.5733,34.5862,34.602,34.6178, 34.6341,34.6518,34.666,34.68,34.7009, 34.7145,34.7275,34.747,34.76,34.7724, 34.7838,34.7955,34.8113,34.8218,34.832, 34.8419,34.8562,34.8745,34.8841,34.8955 ,34.9057,34.9207,34.9353,34.9418, 34.9515,34.9547,34.9562,35.3381,35.7777 ,36.15,36.1613,36.165,36.161,36.1567, 36.1533,36.1514,36.141,36.133,36.1291, 36.12,36.1156,36.1109,36.1064,36.0997, 36.0947,36.0872,36.081,36.076,36.0712, 36.0634,36.0582,36.0527,36.0471,36.0415 ,36.0326,36.0236,36.0174,36.0112, 36.0046,35.9986,35.9921,35.9856,35.9786 ,35.9714,35.964,35.9567,35.9452,35.9402 ,35.9325,35.9219,35.9138,35.9061,35.898 ,35.8896,35.8763,35.8718,35.8466)
ORBIT_NUMBER = 4269
ORBITAL_ECCENTRICITY = 0.571
ORBITAL_INCLINATION = 86.68
ORBITAL_SEMIMAJOR_AXIS = 8597.79
PERIAPSIS_ALTITUDE = 295.29
PERIAPSIS_ARGUMENT_ANGLE = 326.11
PERIAPSIS_TIME = 2007-05-03T01:22:27.000Z
SPACECRAFT_ORIENTATION = (0.0,1.0,0.0)
^MEX_ORIENTATION_DESC = "MEX_ORIENTATION_DESC.TXT"
SPACECRAFT_POINTING_MODE = NADIR
^MEX_POINTING_DESC = "MEX_POINTING_DESC.TXT"
RIGHT_ASCENSION = -1e+32
DECLINATION = -1e+32
OFFSET_ANGLE = -1e+32
SPACECRAFT_SOLAR_DISTANCE = 2.07793e+08
TARGET_NAME = MARS
/* CAMERA DATA ELEMENTS */
DETECTOR_TEMPERATURE = 17.7588
FOCAL_PLANE_TEMPERATURE = 9.195
INST_CMPRS_NAME = "DISCRETE COSINE TRANSFORMATION (DCT)"
INST_CMPRS_RATIO = 25.451
INST_CMPRS_QUALITY = 0
INST_CMPRS_QUANTZ_TBL_ID = 0
INSTRUMENT_TEMPERATURE = 11.6418
LENS_TEMPERATURE = 9.6028
MACROPIXEL_SIZE = 4
MISSING_FRAMES = 0
PIXEL_SUBSAMPLING_FLAG = N
SIGNAL_CHAIN_ID = 3
/* RADIOMETRIC DATA ELEMENTS */
BANDWIDTH = 174.0
CENTER_FILTER_WAVELENGTH = 675.0
RADIANCE_OFFSET = 5.80113
RADIANCE_SCALING_FACTOR = 0.0141879
REFLECTANCE_SCALING_FACTOR = 0.000329506
MEX:REFLECTANCE_OFFSET = 0.134728
/* IMAGE OBJECT DEFINITIONS */
OBJECT = IMAGE
  INTERCHANGE_FORMAT = BINARY
  LINES = 16835
  LINE_SAMPLES = 1808
  SAMPLE_TYPE = UNSIGNED_INTEGER
  SAMPLE_BITS = 8
  BANDS = 1
  BAND_STORAGE_TYPE = BAND_SEQUENTIAL
  MAXIMUM = 255
  MEAN = 112.368
  MINIMUM = 1
  STANDARD_DEVIATION = 36.1982
END_OBJECT = IMAGE
/* MAP OBJECT DEFINITIONS */
OBJECT = IMAGE_MAP_PROJECTION
  ^DATA_SET_MAP_PROJECTION_CATALOG= "DSMAP.CAT"
  A_AXIS_RADIUS = 3396.0
  B_AXIS_RADIUS = 3396.0
  C_AXIS_RADIUS = 3396.0
  CENTER_LATITUDE = 0.0
  CENTER_LONGITUDE = 35.0
  COORDINATE_SYSTEM_NAME = PLANETOGRAPHIC
  COORDINATE_SYSTEM_TYPE = "BODY-FIXED ROTATING"
  EASTERNMOST_LONGITUDE = 36.165
  FIRST_STANDARD_PARALLEL = "N/A"
  LINE_FIRST_PIXEL = 1
  LINE_LAST_PIXEL = 16835
  LINE_PROJECTION_OFFSET = -37737.875
  MAP_PROJECTION_ROTATION = 0.0
  MAP_PROJECTION_TYPE = SINUSOIDAL
  MAP_RESOLUTION = 1185.42760773333
  MAP_SCALE = 0.05
  MAXIMUM_LATITUDE = -31.819
  MINIMUM_LATITUDE = -45.9951
  POSITIVE_LONGITUDE_DIRECTION = EAST
  REFERENCE_LATITUDE = "N/A"
  REFERENCE_LONGITUDE = "N/A"
  SAMPLE_FIRST_PIXEL = 1
  SAMPLE_LAST_PIXEL = 1808
  SAMPLE_PROJECTION_OFFSET = 638.375
  SECOND_STANDARD_PARALLEL = "N/A"
  WESTERNMOST_LONGITUDE = 34.2472
END_OBJECT = IMAGE_MAP_PROJECTION
END
