PDS_VERSION_ID = PDS3
/* FILE DATA ELEMENTS */
RECORD_TYPE = UNDEFINED
/* POINTERS TO DATA OBJECTS */
^IMAGE = ("H4267_0000_P24.TIF")
/* IDENTIFICATION DATA ELEMENTS */
DATA_SET_ID = "MEX-M-HRSC-4-REFDR-MAPPROJECT-EXT1-V4.0"
DATA_SET_NAME = "MARS EXPRESS HRSC MAP PROJECTED REFDR EXTENSION1 V4.0"
DETECTOR_ID = MEX_HRSC_P2
EVENT_TYPE = "MARS-LOCAL-STEREO-Vo-Ts"
INSTRUMENT_HOST_ID = MEX
INSTRUMENT_HOST_NAME = "MARS EXPRESS"
INSTRUMENT_ID = HRSC
INSTRUMENT_NAME = "HIGH RESOLUTION STEREO CAMERA"
MISSION_NAME = "MARS EXPRESS"
MISSION_PHASE_NAME = ME_Phase_7
PROCESSING_LEVEL_ID = 4
PRODUCT_CREATION_TIME = 2023-02-10T03:49:22.000Z
PRODUCT_ID = "H4267_0000_P24.TIF"
RELEASE_ID = 0006
REVISION_ID = 0000
/* QUALITY DATA ELEMENTS */
DATA_QUALITY_ID = 1
DATA_QUALITY_DESC = "Data calculated based on original SPICE kernels"
/* TIME DATA ELEMENTS */
SPACECRAFT_CLOCK_START_COUNT = "1/0126186918.09047"
SPACECRAFT_CLOCK_STOP_COUNT = "1/0126187028.65525"
START_TIME = 2007-05-02T11:55:31.294Z
STOP_TIME = 2007-05-02T11:56:27.418Z
/* ORBITAL DATA ELEMENTS */
ASCENDING_NODE_LONGITUDE = 138.93
MAXIMUM_RESOLUTION = 0.024
FOOTPRINT_POINT_LATITUDE = (-34.4306,-34.4262,-34.4216,-34.4168, -34.412,-34.407,-34.4019,-34.3966, -34.3912,-34.3857,-34.38,-34.3742, -34.3637,-34.3629,-34.3472,-34.2001, -34.0162,-33.8322,-33.6113,-33.3903, -33.2061,-33.0218,-32.8744,-32.8006, -32.6531,-32.5793,-32.5054,-32.3578, -32.247,-32.1731,-32.0623,-31.9145, -31.8036,-31.7297,-31.6558,-31.5449, -31.434,-31.36,-31.286,-31.212,-31.1381 ,-31.0272,-30.9532,-30.8791,-30.805, -30.694,-30.657,-30.641,-30.654, -30.6599,-30.6651,-30.6701,-30.675, -30.6839,-30.6901,-30.6981,-30.7028, -30.7033,-30.7039,-30.7781,-30.8522, -30.9264,-31.0005,-31.0746,-31.1859, -31.26,-31.3711,-31.4452,-31.5193, -31.5934,-31.6675,-31.7787,-31.8527, -31.9268,-32.0008,-32.1119,-32.1859, -32.2599,-32.3709,-32.4448,-32.5187, -32.5926,-32.7035,-32.7774,-32.8513, -32.9621,-33.036,-33.1099,-33.1838, -33.2946,-33.4422,-33.5529,-33.7006, -33.8112,-33.9587,-34.1062,-34.2168, -34.3641,-34.401,-34.4306)
FOOTPRINT_POINT_LONGITUDE = (231.836,231.741,231.646,231.551, 231.455,231.358,231.261,231.164,231.066 ,230.968,230.869,230.77,230.594,230.582 ,230.56,230.566,230.574,230.582,230.592 ,230.601,230.608,230.616,230.622, 230.625,230.631,230.633,230.636,230.642 ,230.646,230.648,230.652,230.658, 230.662,230.664,230.667,230.671,230.675 ,230.677,230.68,230.682,230.685,230.688 ,230.691,230.693,230.696,230.699,230.7, 230.701,230.93,231.038,231.134,231.228, 231.323,231.499,231.626,231.799,231.902 ,231.913,231.917,231.916,231.914, 231.913,231.911,231.909,231.907,231.906 ,231.903,231.902,231.9,231.898,231.897, 231.894,231.893,231.891,231.89,231.887, 231.886,231.884,231.881,231.88,231.878, 231.876,231.874,231.872,231.87,231.868, 231.866,231.864,231.863,231.86,231.857, 231.854,231.851,231.848,231.844,231.841 ,231.838,231.834,231.833,231.836)
ORBIT_NUMBER = 4267
ORBITAL_ECCENTRICITY = 0.571
ORBITAL_INCLINATION = 86.7
ORBITAL_SEMIMAJOR_AXIS = 8597.87
PERIAPSIS_ALTITUDE = 294.7
PERIAPSIS_ARGUMENT_ANGLE = 326.43
PERIAPSIS_TIME = 2007-05-02T11:56:02.000Z
SPACECRAFT_ORIENTATION = (0.0,1.0,0.0)
^MEX_ORIENTATION_DESC = "MEX_ORIENTATION_DESC.TXT"
SPACECRAFT_POINTING_MODE = ACROSSTRACK
^MEX_POINTING_DESC = "MEX_POINTING_DESC.TXT"
RIGHT_ASCENSION = -1e+32
DECLINATION = -1e+32
OFFSET_ANGLE = 0.7
SPACECRAFT_SOLAR_DISTANCE = 2.07831e+08
TARGET_NAME = MARS
/* CAMERA DATA ELEMENTS */
DETECTOR_TEMPERATURE = 18.9822
FOCAL_PLANE_TEMPERATURE = 9.6028
INST_CMPRS_NAME = "DISCRETE COSINE TRANSFORMATION (DCT)"
INST_CMPRS_RATIO = 6.63122
INST_CMPRS_QUALITY = 0
INST_CMPRS_QUANTZ_TBL_ID = 0
INSTRUMENT_TEMPERATURE = 11.6418
LENS_TEMPERATURE = 9.8067
MACROPIXEL_SIZE = 2
MISSING_FRAMES = 0
PIXEL_SUBSAMPLING_FLAG = N
SIGNAL_CHAIN_ID = 3
/* RADIOMETRIC DATA ELEMENTS */
BANDWIDTH = 177.0
CENTER_FILTER_WAVELENGTH = 676.5
RADIANCE_OFFSET = 5.65385
RADIANCE_SCALING_FACTOR = 0.0155024
REFLECTANCE_SCALING_FACTOR = 0.000355038
MEX:REFLECTANCE_OFFSET = 0.129486
/* IMAGE OBJECT DEFINITIONS */
OBJECT = IMAGE
  INTERCHANGE_FORMAT = BINARY
  LINES = 8856
  LINE_SAMPLES = 2730
  SAMPLE_TYPE = UNSIGNED_INTEGER
  SAMPLE_BITS = 8
  BANDS = 1
  BAND_STORAGE_TYPE = BAND_SEQUENTIAL
  MAXIMUM = 255
  MEAN = 127.313
  MINIMUM = 1
  STANDARD_DEVIATION = 31.7167
END_OBJECT = IMAGE
/* MAP OBJECT DEFINITIONS */
OBJECT = IMAGE_MAP_PROJECTION
  ^DATA_SET_MAP_PROJECTION_CATALOG= "DSMAP.CAT"
  A_AXIS_RADIUS = 3396.0
  B_AXIS_RADIUS = 3396.0
  C_AXIS_RADIUS = 3396.0
  CENTER_LATITUDE = 0.0
  CENTER_LONGITUDE = 231.0
  COORDINATE_SYSTEM_NAME = PLANETOGRAPHIC
  COORDINATE_SYSTEM_TYPE = "BODY-FIXED ROTATING"
  EASTERNMOST_LONGITUDE = 231.917
  FIRST_STANDARD_PARALLEL = "N/A"
  LINE_FIRST_PIXEL = 1
  LINE_LAST_PIXEL = 8856
  LINE_PROJECTION_OFFSET = -72644.75
  MAP_PROJECTION_ROTATION = 0.0
  MAP_PROJECTION_TYPE = SINUSOIDAL
  MAP_RESOLUTION = 2370.85521546667
  MAP_SCALE = 0.025
  MAXIMUM_LATITUDE = -30.641
  MINIMUM_LATITUDE = -34.4306
  POSITIVE_LONGITUDE_DIRECTION = EAST
  REFERENCE_LATITUDE = "N/A"
  REFERENCE_LONGITUDE = "N/A"
  SAMPLE_FIRST_PIXEL = 1
  SAMPLE_LAST_PIXEL = 2730
  SAMPLE_PROJECTION_OFFSET = 851.75
  SECOND_STANDARD_PARALLEL = "N/A"
  WESTERNMOST_LONGITUDE = 230.56
END_OBJECT = IMAGE_MAP_PROJECTION
END
