PDS_VERSION_ID = PDS3
/* FILE DATA ELEMENTS */
RECORD_TYPE = UNDEFINED
/* POINTERS TO DATA OBJECTS */
^IMAGE = ("H4264_0001_IR4.TIF")
/* IDENTIFICATION DATA ELEMENTS */
DATA_SET_ID = "MEX-M-HRSC-4-REFDR-MAPPROJECT-EXT1-V4.0"
DATA_SET_NAME = "MARS EXPRESS HRSC MAP PROJECTED REFDR EXTENSION1 V4.0"
DETECTOR_ID = MEX_HRSC_IR
EVENT_TYPE = "MARS-REGIONAL-MAPPING-Im-Fl-La"
INSTRUMENT_HOST_ID = MEX
INSTRUMENT_HOST_NAME = "MARS EXPRESS"
INSTRUMENT_ID = HRSC
INSTRUMENT_NAME = "HIGH RESOLUTION STEREO CAMERA"
MISSION_NAME = "MARS EXPRESS"
MISSION_PHASE_NAME = ME_Phase_7
PROCESSING_LEVEL_ID = 4
PRODUCT_CREATION_TIME = 2023-02-10T03:49:22.000Z
PRODUCT_ID = "H4264_0001_IR4.TIF"
RELEASE_ID = 0006
REVISION_ID = 0000
/* QUALITY DATA ELEMENTS */
DATA_QUALITY_ID = 1
DATA_QUALITY_DESC = "Data calculated based on original SPICE kernels"
/* TIME DATA ELEMENTS */
SPACECRAFT_CLOCK_START_COUNT = "1/0126114558.09090"
SPACECRAFT_CLOCK_STOP_COUNT = "1/0126114830.63591"
START_TIME = 2007-05-01T15:50:18.135Z
STOP_TIME = 2007-05-01T15:53:44.958Z
/* ORBITAL DATA ELEMENTS */
ASCENDING_NODE_LONGITUDE = 138.99
MAXIMUM_RESOLUTION = 0.1144
FOOTPRINT_POINT_LATITUDE = (-20.3976,-20.3538,-20.3212,-20.2897, -20.2887,-20.2988,-20.08,-19.859, -19.6388,-19.4201,-19.0926,-18.8731, -18.6541,-18.2253,-18.0036,-17.6756, -17.2129,-16.9545,-16.5679,-16.1796, -15.801,-15.5447,-15.2856,-15.028, -14.7729,-14.391,-14.1373,-13.8851, -13.632,-13.2541,-13.0022,-12.7528, -12.503,-12.2487,-11.8661,-11.6104, -11.3549,-11.0939,-10.7028,-10.4428, -10.0442,-9.77842,-9.51461,-9.24484, -8.97498,-8.70595,-8.29556,-8.02133, -7.88453,-7.77196,-7.79707,-7.83214, -7.85787,-7.87562,-7.87661,-7.87945, -8.15413,-8.42768,-8.83838,-9.10783, -9.37757,-9.78026,-10.0453,-10.3107, -10.5749,-10.8324,-11.0941,-11.3539, -11.741,-11.9959,-12.2527,-12.6362, -12.886,-13.1392,-13.3922,-13.6407, -13.8947,-14.2761,-14.5309,-14.7831, -15.0382,-15.291,-15.54,-15.7941, -16.0544,-16.317,-16.5751,-16.962, -17.2207,-17.6939,-18.2388,-18.5657, -19.0039,-19.223,-19.4429,-19.6622, -19.8826,-20.2131,-20.3228,-20.3976)
FOOTPRINT_POINT_LONGITUDE = (169.658,169.102,168.691,168.298, 168.286,168.289,168.287,168.283,168.279 ,168.277,168.272,168.268,168.264, 168.262,168.255,168.248,168.239,168.234 ,168.227,168.217,168.214,168.208,168.2, 168.193,168.187,168.179,168.173,168.168 ,168.162,168.153,168.147,168.142, 168.137,168.131,168.122,168.116,168.109 ,168.103,168.092,168.086,168.075, 168.067,168.06,168.053,168.045,168.038, 168.026,168.018,168.014,168.01,168.418, 168.984,169.391,169.675,169.691,169.703 ,169.701,169.698,169.696,169.694, 169.692,169.691,169.69,169.689,169.686, 169.682,169.682,169.679,169.679,169.677 ,169.677,169.677,169.675,169.677, 169.679,169.673,169.675,169.677,169.679 ,169.676,169.676,169.673,169.664, 169.661,169.667,169.675,169.677,169.678 ,169.679,169.671,169.674,169.674, 169.677,169.678,169.679,169.68,169.681, 169.683,169.682,169.658)
ORBIT_NUMBER = 4264
ORBITAL_ECCENTRICITY = 0.571
ORBITAL_INCLINATION = 86.69
ORBITAL_SEMIMAJOR_AXIS = 8594.01
PERIAPSIS_ALTITUDE = 295.82
PERIAPSIS_ARGUMENT_ANGLE = 327.0
PERIAPSIS_TIME = 2007-05-01T15:46:42.000Z
SPACECRAFT_ORIENTATION = (0.0,1.0,0.0)
^MEX_ORIENTATION_DESC = "MEX_ORIENTATION_DESC.TXT"
SPACECRAFT_POINTING_MODE = ACROSSTRACK
^MEX_POINTING_DESC = "MEX_POINTING_DESC.TXT"
RIGHT_ASCENSION = -1e+32
DECLINATION = -1e+32
OFFSET_ANGLE = -1.78
SPACECRAFT_SOLAR_DISTANCE = 2.07891e+08
TARGET_NAME = MARS
/* CAMERA DATA ELEMENTS */
DETECTOR_TEMPERATURE = 19.1861
FOCAL_PLANE_TEMPERATURE = 9.195
INST_CMPRS_NAME = "DISCRETE COSINE TRANSFORMATION (DCT)"
INST_CMPRS_RATIO = 16.8974
INST_CMPRS_QUALITY = 0
INST_CMPRS_QUANTZ_TBL_ID = 0
INSTRUMENT_TEMPERATURE = 13.273
LENS_TEMPERATURE = 9.6028
MACROPIXEL_SIZE = 8
MISSING_FRAMES = 0
PIXEL_SUBSAMPLING_FLAG = N
SIGNAL_CHAIN_ID = 2
/* RADIOMETRIC DATA ELEMENTS */
BANDWIDTH = 81.0
CENTER_FILTER_WAVELENGTH = 955.5
RADIANCE_OFFSET = 2.06775
RADIANCE_SCALING_FACTOR = 0.00430119
REFLECTANCE_SCALING_FACTOR = 0.000401038
MEX:REFLECTANCE_OFFSET = 0.192794
/* IMAGE OBJECT DEFINITIONS */
OBJECT = IMAGE
  INTERCHANGE_FORMAT = BINARY
  LINES = 7456
  LINE_SAMPLES = 950
  SAMPLE_TYPE = UNSIGNED_INTEGER
  SAMPLE_BITS = 8
  BANDS = 1
  BAND_STORAGE_TYPE = BAND_SEQUENTIAL
  MAXIMUM = 255
  MEAN = 156.225
  MINIMUM = 1
  STANDARD_DEVIATION = 39.1481
END_OBJECT = IMAGE
/* MAP OBJECT DEFINITIONS */
OBJECT = IMAGE_MAP_PROJECTION
  ^DATA_SET_MAP_PROJECTION_CATALOG= "DSMAP.CAT"
  A_AXIS_RADIUS = 3396.0
  B_AXIS_RADIUS = 3396.0
  C_AXIS_RADIUS = 3396.0
  CENTER_LATITUDE = 0.0
  CENTER_LONGITUDE = 169.0
  COORDINATE_SYSTEM_NAME = PLANETOGRAPHIC
  COORDINATE_SYSTEM_TYPE = "BODY-FIXED ROTATING"
  EASTERNMOST_LONGITUDE = 169.703
  FIRST_STANDARD_PARALLEL = "N/A"
  LINE_FIRST_PIXEL = 1
  LINE_LAST_PIXEL = 7456
  LINE_PROJECTION_OFFSET = -4609.8125
  MAP_PROJECTION_ROTATION = 0.0
  MAP_PROJECTION_TYPE = SINUSOIDAL
  MAP_RESOLUTION = 592.713803866667
  MAP_SCALE = 0.1
  MAXIMUM_LATITUDE = -7.77196
  MINIMUM_LATITUDE = -20.3976
  POSITIVE_LONGITUDE_DIRECTION = EAST
  REFERENCE_LATITUDE = "N/A"
  REFERENCE_LONGITUDE = "N/A"
  SAMPLE_FIRST_PIXEL = 1
  SAMPLE_LAST_PIXEL = 950
  SAMPLE_PROJECTION_OFFSET = 569.1875
  SECOND_STANDARD_PARALLEL = "N/A"
  WESTERNMOST_LONGITUDE = 168.01
END_OBJECT = IMAGE_MAP_PROJECTION
END
