PDS_VERSION_ID = PDS3
/* FILE DATA ELEMENTS */
RECORD_TYPE = UNDEFINED
/* POINTERS TO DATA OBJECTS */
^IMAGE = ("H4262_0000_S24.TIF")
/* IDENTIFICATION DATA ELEMENTS */
DATA_SET_ID = "MEX-M-HRSC-4-REFDR-MAPPROJECT-EXT1-V4.0"
DATA_SET_NAME = "MARS EXPRESS HRSC MAP PROJECTED REFDR EXTENSION1 V4.0"
DETECTOR_ID = MEX_HRSC_S2
EVENT_TYPE = "MARS-REGIONAL-MAPPING-Im"
INSTRUMENT_HOST_ID = MEX
INSTRUMENT_HOST_NAME = "MARS EXPRESS"
INSTRUMENT_ID = HRSC
INSTRUMENT_NAME = "HIGH RESOLUTION STEREO CAMERA"
MISSION_NAME = "MARS EXPRESS"
MISSION_PHASE_NAME = ME_Phase_7
PROCESSING_LEVEL_ID = 4
PRODUCT_CREATION_TIME = 2023-02-10T03:49:22.000Z
PRODUCT_ID = "H4262_0000_S24.TIF"
RELEASE_ID = 0006
REVISION_ID = 0000
/* QUALITY DATA ELEMENTS */
DATA_QUALITY_ID = 1
DATA_QUALITY_DESC = "Data calculated based on original SPICE kernels"
/* TIME DATA ELEMENTS */
SPACECRAFT_CLOCK_START_COUNT = "1/0126065822.09044"
SPACECRAFT_CLOCK_STOP_COUNT = "1/0126066001.07352"
START_TIME = 2007-05-01T02:17:06.265Z
STOP_TIME = 2007-05-01T02:19:10.407Z
/* ORBITAL DATA ELEMENTS */
ASCENDING_NODE_LONGITUDE = 139.03
MAXIMUM_RESOLUTION = 0.0255
FOOTPRINT_POINT_LATITUDE = (-43.4221,-43.4153,-43.4096,-43.398, -43.3903,-43.3803,-43.3797,-43.3322, -43.1633,-42.9972,-42.7488,-42.5837, -42.4199,-42.2519,-42.0078,-41.6965, -41.5364,-41.3742,-41.133,-40.9722, -40.8107,-40.6496,-40.4849,-40.2442, -40.0815,-39.841,-39.6022,-39.4485, -39.2922,-39.1348,-38.9775,-38.8203, -38.6628,-38.5051,-38.3475,-38.1111, -37.8743,-37.7163,-37.5585,-37.4003, -37.2421,-36.8556,-36.5496,-36.1666, -35.86,-35.6302,-35.4758,-35.3988, -35.383,-35.3947,-35.3986,-35.4031, -35.4074,-35.4075,-35.4085,-35.6397, -35.9465,-36.1002,-36.254,-36.4077, -36.5612,-36.7914,-37.0979,-37.2542, -37.4131,-37.6507,-37.8091,-37.9672, -38.1253,-38.2833,-38.5202,-38.6783, -38.836,-38.9935,-39.1513,-39.3872, -39.5447,-39.702,-39.8591,-40.0164, -40.179,-40.3429,-40.4997,-40.6653, -40.8308,-40.9927,-41.2359,-41.3973, -41.6383,-41.7991,-41.9599,-42.1202, -42.3669,-42.5328,-42.6981,-42.864, -43.1122,-43.277,-43.3593,-43.4221)
FOOTPRINT_POINT_LONGITUDE = (3.87597,3.52752,3.28517,2.86145, 2.61938,2.33151,2.31635,2.29562,2.30638 ,2.318,2.33551,2.34724,2.35936,2.36992, 2.38641,2.41092,2.42158,2.43145,2.44685 ,2.45701,2.46685,2.47676,2.4854,2.50033 ,2.50943,2.52215,2.53403,2.54371, 2.55244,2.56074,2.56904,2.5773,2.58536, 2.59333,2.60126,2.61305,2.62454,2.63211 ,2.63965,2.64703,2.65433,2.67143, 2.68478,2.70099,2.71367,2.72309,2.72889 ,2.73186,2.73245,3.25761,3.47039, 3.74593,4.00859,4.02111,4.02542,4.02241 ,4.01879,4.0168,4.01471,4.01261,4.01056 ,4.00738,4.00311,4.00093,3.9986,3.99529 ,3.99299,3.99076,3.98847,3.98617, 3.98264,3.98012,3.9777,3.97533,3.97274, 3.96907,3.96648,3.96387,3.96128,3.95853 ,3.95564,3.95224,3.95174,3.94744, 3.94313,3.94025,3.93563,3.93275,3.92875 ,3.92595,3.92307,3.92029,3.91568, 3.91257,3.9096,3.9063,3.90148,3.8984, 3.89688,3.87597)
ORBIT_NUMBER = 4262
ORBITAL_ECCENTRICITY = 0.571
ORBITAL_INCLINATION = 86.68
ORBITAL_SEMIMAJOR_AXIS = 8597.19
PERIAPSIS_ALTITUDE = 295.67
PERIAPSIS_ARGUMENT_ANGLE = 327.32
PERIAPSIS_TIME = 2007-05-01T02:20:19.000Z
SPACECRAFT_ORIENTATION = (0.0,1.0,0.0)
^MEX_ORIENTATION_DESC = "MEX_ORIENTATION_DESC.TXT"
SPACECRAFT_POINTING_MODE = NADIR
^MEX_POINTING_DESC = "MEX_POINTING_DESC.TXT"
RIGHT_ASCENSION = -1e+32
DECLINATION = -1e+32
OFFSET_ANGLE = -1e+32
SPACECRAFT_SOLAR_DISTANCE = 2.07931e+08
TARGET_NAME = MARS
/* CAMERA DATA ELEMENTS */
DETECTOR_TEMPERATURE = 18.7783
FOCAL_PLANE_TEMPERATURE = 9.195
INST_CMPRS_NAME = "DISCRETE COSINE TRANSFORMATION (DCT)"
INST_CMPRS_RATIO = 13.0244
INST_CMPRS_QUALITY = 0
INST_CMPRS_QUANTZ_TBL_ID = 0
INSTRUMENT_TEMPERATURE = 11.6418
LENS_TEMPERATURE = 9.3989
MACROPIXEL_SIZE = 2
MISSING_FRAMES = 0
PIXEL_SUBSAMPLING_FLAG = N
SIGNAL_CHAIN_ID = 1
/* RADIOMETRIC DATA ELEMENTS */
BANDWIDTH = 178.0
CENTER_FILTER_WAVELENGTH = 679.0
RADIANCE_OFFSET = 6.39253
RADIANCE_SCALING_FACTOR = 0.0111417
REFLECTANCE_SCALING_FACTOR = 0.000255104
MEX:REFLECTANCE_OFFSET = 0.146366
/* IMAGE OBJECT DEFINITIONS */
OBJECT = IMAGE
  INTERCHANGE_FORMAT = BINARY
  LINES = 18953
  LINE_SAMPLES = 3130
  SAMPLE_TYPE = UNSIGNED_INTEGER
  SAMPLE_BITS = 8
  BANDS = 1
  BAND_STORAGE_TYPE = BAND_SEQUENTIAL
  MAXIMUM = 255
  MEAN = 101.24
  MINIMUM = 1
  STANDARD_DEVIATION = 25.7931
END_OBJECT = IMAGE
/* MAP OBJECT DEFINITIONS */
OBJECT = IMAGE_MAP_PROJECTION
  ^DATA_SET_MAP_PROJECTION_CATALOG= "DSMAP.CAT"
  A_AXIS_RADIUS = 3396.0
  B_AXIS_RADIUS = 3396.0
  C_AXIS_RADIUS = 3396.0
  CENTER_LATITUDE = 0.0
  CENTER_LONGITUDE = 3.0
  COORDINATE_SYSTEM_NAME = PLANETOGRAPHIC
  COORDINATE_SYSTEM_TYPE = "BODY-FIXED ROTATING"
  EASTERNMOST_LONGITUDE = 4.02542
  FIRST_STANDARD_PARALLEL = "N/A"
  LINE_FIRST_PIXEL = 1
  LINE_LAST_PIXEL = 18953
  LINE_PROJECTION_OFFSET = -83866.75
  MAP_PROJECTION_ROTATION = 0.0
  MAP_PROJECTION_TYPE = SINUSOIDAL
  MAP_RESOLUTION = 2370.85521546667
  MAP_SCALE = 0.025
  MAXIMUM_LATITUDE = -35.383
  MINIMUM_LATITUDE = -43.4221
  POSITIVE_LONGITUDE_DIRECTION = EAST
  REFERENCE_LATITUDE = "N/A"
  REFERENCE_LONGITUDE = "N/A"
  SAMPLE_FIRST_PIXEL = 1
  SAMPLE_LAST_PIXEL = 3130
  SAMPLE_PROJECTION_OFFSET = 1168.75
  SECOND_STANDARD_PARALLEL = "N/A"
  WESTERNMOST_LONGITUDE = 2.29562
END_OBJECT = IMAGE_MAP_PROJECTION
END
