PDS_VERSION_ID = PDS3
/* FILE DATA ELEMENTS */
RECORD_TYPE = UNDEFINED
/* POINTERS TO DATA OBJECTS */
^IMAGE = ("H4261_0000_RE4.TIF")
/* IDENTIFICATION DATA ELEMENTS */
DATA_SET_ID = "MEX-M-HRSC-4-REFDR-MAPPROJECT-EXT1-V4.0"
DATA_SET_NAME = "MARS EXPRESS HRSC MAP PROJECTED REFDR EXTENSION1 V4.0"
DETECTOR_ID = MEX_HRSC_RED
EVENT_TYPE = "MARS-REGIONAL-MAPPING-Vo-Pf"
INSTRUMENT_HOST_ID = MEX
INSTRUMENT_HOST_NAME = "MARS EXPRESS"
INSTRUMENT_ID = HRSC
INSTRUMENT_NAME = "HIGH RESOLUTION STEREO CAMERA"
MISSION_NAME = "MARS EXPRESS"
MISSION_PHASE_NAME = ME_Phase_7
PROCESSING_LEVEL_ID = 4
PRODUCT_CREATION_TIME = 2023-02-10T03:49:22.000Z
PRODUCT_ID = "H4261_0000_RE4.TIF"
RELEASE_ID = 0006
REVISION_ID = 0000
/* QUALITY DATA ELEMENTS */
DATA_QUALITY_ID = 1
DATA_QUALITY_DESC = "Data calculated based on original SPICE kernels"
/* TIME DATA ELEMENTS */
SPACECRAFT_CLOCK_START_COUNT = "1/0126041792.08270"
SPACECRAFT_CLOCK_STOP_COUNT = "1/0126042097.23832"
START_TIME = 2007-04-30T19:36:40.787Z
STOP_TIME = 2007-04-30T19:40:42.776Z
/* ORBITAL DATA ELEMENTS */
ASCENDING_NODE_LONGITUDE = 139.05
MAXIMUM_RESOLUTION = 0.0977
FOOTPRINT_POINT_LATITUDE = (-32.9692,-32.9757,-32.9787,-32.9787, -32.9473,-32.3379,-32.0249,-31.5523, -31.2377,-30.928,-30.6239,-30.1754, -29.5714,-29.2598,-28.9478,-28.6363, -28.3239,-28.012,-27.5436,-27.2308, -26.9175,-26.605,-26.292,-25.9791, -25.666,-25.3527,-24.8843,-24.5763, -24.2566,-23.9421,-23.628,-23.3138, -22.8345,-22.5091,-22.1835,-21.8578, -21.3695,-20.8806,-20.5544,-20.2281, -19.7276,-19.39,-19.0528,-18.5471, -18.2095,-17.8722,-17.5252,-17.1768, -17.0028,-16.8424,-16.8265,-16.8176, -16.8173,-16.8188,-17.1675,-17.516, -17.8623,-18.1998,-18.5371,-18.8752, -19.2126,-19.5504,-20.0574,-20.5468, -20.8728,-21.1993,-21.5253,-21.8519, -22.1781,-22.5041,-22.9929,-23.3085, -23.6228,-23.9378,-24.2517,-24.5657, -24.8794,-25.1923,-25.5059,-25.8198, -26.1329,-26.4465,-26.7604,-27.2294, -27.6982,-28.1676,-28.6362,-28.9487, -29.2605,-29.5726,-29.8774,-30.4788, -30.9426,-31.4046,-31.7153,-32.0259, -32.3313,-32.6448,-32.8018,-32.9692)
FOOTPRINT_POINT_LONGITUDE = (102.76,102.209,101.567,101.556,101.548 ,101.563,101.57,101.579,101.585,101.591 ,101.597,101.605,101.615,101.62,101.624 ,101.628,101.633,101.636,101.642, 101.645,101.648,101.651,101.654,101.656 ,101.659,101.661,101.664,101.666, 101.666,101.668,101.668,101.669,101.67, 101.67,101.671,101.671,101.67,101.669, 101.668,101.667,101.666,101.664,101.662 ,101.66,101.657,101.655,101.652,101.65, 101.648,101.647,102.476,102.83,102.841, 102.849,102.847,102.846,102.844,102.843 ,102.841,102.839,102.838,102.836, 102.834,102.832,102.83,102.829,102.827, 102.826,102.824,102.823,102.821,102.82, 102.818,102.817,102.815,102.814,102.813 ,102.813,102.811,102.81,102.809,102.808 ,102.806,102.805,102.804,102.802,102.8, 102.799,102.798,102.796,102.794,102.791 ,102.785,102.786,102.784,102.783, 102.785,102.781,102.779,102.76)
ORBIT_NUMBER = 4261
ORBITAL_ECCENTRICITY = 0.572
ORBITAL_INCLINATION = 86.69
ORBITAL_SEMIMAJOR_AXIS = 8601.11
PERIAPSIS_ALTITUDE = 294.88
PERIAPSIS_ARGUMENT_ANGLE = 327.49
PERIAPSIS_TIME = 2007-04-30T19:37:10.000Z
SPACECRAFT_ORIENTATION = (0.0,1.0,0.0)
^MEX_ORIENTATION_DESC = "MEX_ORIENTATION_DESC.TXT"
SPACECRAFT_POINTING_MODE = ACROSSTRACK
^MEX_POINTING_DESC = "MEX_POINTING_DESC.TXT"
RIGHT_ASCENSION = -1e+32
DECLINATION = -1e+32
OFFSET_ANGLE = -0.37
SPACECRAFT_SOLAR_DISTANCE = 2.07951e+08
TARGET_NAME = MARS
/* CAMERA DATA ELEMENTS */
DETECTOR_TEMPERATURE = 18.9822
FOCAL_PLANE_TEMPERATURE = 9.195
INST_CMPRS_NAME = "DISCRETE COSINE TRANSFORMATION (DCT)"
INST_CMPRS_RATIO = 21.7981
INST_CMPRS_QUALITY = 0
INST_CMPRS_QUANTZ_TBL_ID = 0
INSTRUMENT_TEMPERATURE = 11.6418
LENS_TEMPERATURE = 9.6028
MACROPIXEL_SIZE = 8
MISSING_FRAMES = 0
PIXEL_SUBSAMPLING_FLAG = N
SIGNAL_CHAIN_ID = 2
/* RADIOMETRIC DATA ELEMENTS */
BANDWIDTH = 48.0
CENTER_FILTER_WAVELENGTH = 748.0
RADIANCE_OFFSET = 1.23675
RADIANCE_SCALING_FACTOR = 0.00624367
REFLECTANCE_SCALING_FACTOR = 0.000616154
MEX:REFLECTANCE_OFFSET = 0.122048
/* IMAGE OBJECT DEFINITIONS */
OBJECT = IMAGE
  INTERCHANGE_FORMAT = BINARY
  LINES = 9557
  LINE_SAMPLES = 720
  SAMPLE_TYPE = UNSIGNED_INTEGER
  SAMPLE_BITS = 8
  BANDS = 1
  BAND_STORAGE_TYPE = BAND_SEQUENTIAL
  MAXIMUM = 255
  MEAN = 117.619
  MINIMUM = 1
  STANDARD_DEVIATION = 58.2472
END_OBJECT = IMAGE
/* MAP OBJECT DEFINITIONS */
OBJECT = IMAGE_MAP_PROJECTION
  ^DATA_SET_MAP_PROJECTION_CATALOG= "DSMAP.CAT"
  A_AXIS_RADIUS = 3396.0
  B_AXIS_RADIUS = 3396.0
  C_AXIS_RADIUS = 3396.0
  CENTER_LATITUDE = 0.0
  CENTER_LONGITUDE = 102.0
  COORDINATE_SYSTEM_NAME = PLANETOGRAPHIC
  COORDINATE_SYSTEM_TYPE = "BODY-FIXED ROTATING"
  EASTERNMOST_LONGITUDE = 102.849
  FIRST_STANDARD_PARALLEL = "N/A"
  LINE_FIRST_PIXEL = 1
  LINE_LAST_PIXEL = 9557
  LINE_PROJECTION_OFFSET = -9975.8125
  MAP_PROJECTION_ROTATION = 0.0
  MAP_PROJECTION_TYPE = SINUSOIDAL
  MAP_RESOLUTION = 592.713803866667
  MAP_SCALE = 0.1
  MAXIMUM_LATITUDE = -16.8173
  MINIMUM_LATITUDE = -32.9787
  POSITIVE_LONGITUDE_DIRECTION = EAST
  REFERENCE_LATITUDE = "N/A"
  REFERENCE_LONGITUDE = "N/A"
  SAMPLE_FIRST_PIXEL = 1
  SAMPLE_LAST_PIXEL = 720
  SAMPLE_PROJECTION_OFFSET = 228.8125
  SECOND_STANDARD_PARALLEL = "N/A"
  WESTERNMOST_LONGITUDE = 101.548
END_OBJECT = IMAGE_MAP_PROJECTION
END
