PDS_VERSION_ID = PDS3
/* FILE DATA ELEMENTS */
RECORD_TYPE = UNDEFINED
/* POINTERS TO DATA OBJECTS */
^IMAGE = ("H4261_0000_ND4.TIF")
/* IDENTIFICATION DATA ELEMENTS */
DATA_SET_ID = "MEX-M-HRSC-4-REFDR-MAPPROJECT-EXT1-V4.0"
DATA_SET_NAME = "MARS EXPRESS HRSC MAP PROJECTED REFDR EXTENSION1 V4.0"
DETECTOR_ID = MEX_HRSC_NADIR
EVENT_TYPE = "MARS-REGIONAL-MAPPING-Vo-Pf"
INSTRUMENT_HOST_ID = MEX
INSTRUMENT_HOST_NAME = "MARS EXPRESS"
INSTRUMENT_ID = HRSC
INSTRUMENT_NAME = "HIGH RESOLUTION STEREO CAMERA"
MISSION_NAME = "MARS EXPRESS"
MISSION_PHASE_NAME = ME_Phase_7
PROCESSING_LEVEL_ID = 4
PRODUCT_CREATION_TIME = 2023-02-10T03:49:22.000Z
PRODUCT_ID = "H4261_0000_ND4.TIF"
RELEASE_ID = 0006
REVISION_ID = 0000
/* QUALITY DATA ELEMENTS */
DATA_QUALITY_ID = 1
DATA_QUALITY_DESC = "Data calculated based on original SPICE kernels"
/* TIME DATA ELEMENTS */
SPACECRAFT_CLOCK_START_COUNT = "1/0126041792.08270"
SPACECRAFT_CLOCK_STOP_COUNT = "1/0126042097.23832"
START_TIME = 2007-04-30T19:37:02.410Z
STOP_TIME = 2007-04-30T19:41:07.385Z
/* ORBITAL DATA ELEMENTS */
ASCENDING_NODE_LONGITUDE = 139.05
MAXIMUM_RESOLUTION = 0.0117
FOOTPRINT_POINT_LATITUDE = (-32.9526,-32.9481,-32.9399,-32.9397, -32.9388,-32.4672,-31.8488,-31.2429, -30.4622,-30.1477,-29.8332,-29.5188, -29.2045,-28.8902,-28.5759,-28.2618, -27.9477,-27.6337,-27.3198,-27.006, -26.6923,-26.3788,-26.0653,-25.752, -25.1258,-24.5001,-24.1758,-23.8518, -23.528,-23.2044,-22.881,-22.5578, -22.2349,-21.9122,-21.5897,-21.2563, -20.7562,-20.4231,-20.0903,-19.7578, -19.4256,-18.9127,-18.5699,-18.2275, -17.8854,-17.5436,-17.0164,-16.8403, -16.8322,-16.8321,-16.8296,-16.8295, -16.8297,-17.1823,-17.5339,-17.8759, -18.2183,-18.561,-18.9042,-19.4178, -19.7502,-20.083,-20.4161,-20.7495, -21.0831,-21.417,-21.9068,-22.2298, -22.553,-22.8765,-23.2001,-23.524, -23.8481,-24.1724,-24.6538,-24.9669, -25.2801,-25.5935,-25.9071,-26.2208, -26.5346,-26.8486,-27.1626,-27.4768, -27.791,-28.1054,-28.4198,-28.7343, -29.0489,-29.3636,-29.6783,-29.9931, -30.3079,-30.6228,-31.2474,-31.854, -32.4725,-32.7875,-32.945,-32.9526)
FOOTPRINT_POINT_LONGITUDE = (102.755,102.199,101.559,101.548, 101.539,101.55,101.562,101.574,101.588, 101.594,101.598,101.603,101.608,101.612 ,101.616,101.619,101.623,101.626, 101.629,101.632,101.635,101.637,101.64, 101.642,101.645,101.649,101.649,101.649 ,101.65,101.65,101.65,101.65,101.65, 101.65,101.649,101.648,101.647,101.646, 101.644,101.642,101.64,101.637,101.635, 101.632,101.629,101.626,101.621,101.619 ,101.619,102.068,102.844,102.857, 102.863,102.861,102.859,102.857,102.855 ,102.853,102.851,102.848,102.845, 102.844,102.842,102.84,102.838,102.836, 102.833,102.831,102.83,102.828,102.826, 102.825,102.823,102.821,102.819,102.817 ,102.816,102.815,102.813,102.812,102.81 ,102.808,102.807,102.805,102.804, 102.803,102.801,102.799,102.798,102.796 ,102.794,102.792,102.79,102.787,102.784 ,102.78,102.778,102.774,102.773, 102.755)
ORBIT_NUMBER = 4261
ORBITAL_ECCENTRICITY = 0.572
ORBITAL_INCLINATION = 86.69
ORBITAL_SEMIMAJOR_AXIS = 8601.11
PERIAPSIS_ALTITUDE = 294.88
PERIAPSIS_ARGUMENT_ANGLE = 327.49
PERIAPSIS_TIME = 2007-04-30T19:37:10.000Z
SPACECRAFT_ORIENTATION = (0.0,1.0,0.0)
^MEX_ORIENTATION_DESC = "MEX_ORIENTATION_DESC.TXT"
SPACECRAFT_POINTING_MODE = ACROSSTRACK
^MEX_POINTING_DESC = "MEX_POINTING_DESC.TXT"
RIGHT_ASCENSION = -1e+32
DECLINATION = -1e+32
OFFSET_ANGLE = -0.37
SPACECRAFT_SOLAR_DISTANCE = 2.07951e+08
TARGET_NAME = MARS
/* CAMERA DATA ELEMENTS */
DETECTOR_TEMPERATURE = 18.3705
FOCAL_PLANE_TEMPERATURE = 9.195
INST_CMPRS_NAME = "DISCRETE COSINE TRANSFORMATION (DCT)"
INST_CMPRS_RATIO = 7.24564
INST_CMPRS_QUALITY = 0
INST_CMPRS_QUANTZ_TBL_ID = 0
INSTRUMENT_TEMPERATURE = 11.6418
LENS_TEMPERATURE = 9.6028
MACROPIXEL_SIZE = 1
MISSING_FRAMES = 0
PIXEL_SUBSAMPLING_FLAG = N
SIGNAL_CHAIN_ID = 0
/* RADIOMETRIC DATA ELEMENTS */
BANDWIDTH = 177.0
CENTER_FILTER_WAVELENGTH = 677.5
RADIANCE_OFFSET = 4.10986
RADIANCE_SCALING_FACTOR = 0.0214263
REFLECTANCE_SCALING_FACTOR = 0.000492215
MEX:REFLECTANCE_OFFSET = 0.0944137
/* IMAGE OBJECT DEFINITIONS */
OBJECT = IMAGE
  INTERCHANGE_FORMAT = BINARY
  LINES = 76450
  LINE_SAMPLES = 5753
  SAMPLE_TYPE = UNSIGNED_INTEGER
  SAMPLE_BITS = 8
  BANDS = 1
  BAND_STORAGE_TYPE = BAND_SEQUENTIAL
  MAXIMUM = 255
  MEAN = 119.148
  MINIMUM = 1
  STANDARD_DEVIATION = 56.286
END_OBJECT = IMAGE
/* MAP OBJECT DEFINITIONS */
OBJECT = IMAGE_MAP_PROJECTION
  ^DATA_SET_MAP_PROJECTION_CATALOG= "DSMAP.CAT"
  A_AXIS_RADIUS = 3396.0
  B_AXIS_RADIUS = 3396.0
  C_AXIS_RADIUS = 3396.0
  CENTER_LATITUDE = 0.0
  CENTER_LONGITUDE = 102.0
  COORDINATE_SYSTEM_NAME = PLANETOGRAPHIC
  COORDINATE_SYSTEM_TYPE = "BODY-FIXED ROTATING"
  EASTERNMOST_LONGITUDE = 102.863
  FIRST_STANDARD_PARALLEL = "N/A"
  LINE_FIRST_PIXEL = 1
  LINE_LAST_PIXEL = 76450
  LINE_PROJECTION_OFFSET = -79803.0
  MAP_PROJECTION_ROTATION = 0.0
  MAP_PROJECTION_TYPE = SINUSOIDAL
  MAP_RESOLUTION = 4741.71043093333
  MAP_SCALE = 0.0125
  MAXIMUM_LATITUDE = -16.8295
  MINIMUM_LATITUDE = -32.9526
  POSITIVE_LONGITUDE_DIRECTION = EAST
  REFERENCE_LATITUDE = "N/A"
  REFERENCE_LONGITUDE = "N/A"
  SAMPLE_FIRST_PIXEL = 1
  SAMPLE_LAST_PIXEL = 5753
  SAMPLE_PROJECTION_OFFSET = 1834.0
  SECOND_STANDARD_PARALLEL = "N/A"
  WESTERNMOST_LONGITUDE = 101.539
END_OBJECT = IMAGE_MAP_PROJECTION
END
