PDS_VERSION_ID = PDS3
/* FILE DATA ELEMENTS */
RECORD_TYPE = UNDEFINED
/* POINTERS TO DATA OBJECTS */
^IMAGE = ("H4260_0000_P24.TIF")
/* IDENTIFICATION DATA ELEMENTS */
DATA_SET_ID = "MEX-M-HRSC-4-REFDR-MAPPROJECT-EXT1-V4.0"
DATA_SET_NAME = "MARS EXPRESS HRSC MAP PROJECTED REFDR EXTENSION1 V4.0"
DETECTOR_ID = MEX_HRSC_P2
EVENT_TYPE = "MARS-REGIONAL-MAPPING-Te-Im"
INSTRUMENT_HOST_ID = MEX
INSTRUMENT_HOST_NAME = "MARS EXPRESS"
INSTRUMENT_ID = HRSC
INSTRUMENT_NAME = "HIGH RESOLUTION STEREO CAMERA"
MISSION_NAME = "MARS EXPRESS"
MISSION_PHASE_NAME = ME_Phase_7
PROCESSING_LEVEL_ID = 4
PRODUCT_CREATION_TIME = 2023-02-10T03:49:22.000Z
PRODUCT_ID = "H4260_0000_P24.TIF"
RELEASE_ID = 0006
REVISION_ID = 0000
/* QUALITY DATA ELEMENTS */
DATA_QUALITY_ID = 1
DATA_QUALITY_DESC = "Data calculated based on original SPICE kernels"
/* TIME DATA ELEMENTS */
SPACECRAFT_CLOCK_START_COUNT = "1/0126017684.08247"
SPACECRAFT_CLOCK_STOP_COUNT = "1/0126017896.46951"
START_TIME = 2007-04-30T12:54:57.298Z
STOP_TIME = 2007-04-30T12:57:27.923Z
/* ORBITAL DATA ELEMENTS */
ASCENDING_NODE_LONGITUDE = 139.07
MAXIMUM_RESOLUTION = 0.0487
FOOTPRINT_POINT_LATITUDE = (-27.214,-27.2137,-27.2121,-27.2072, -27.2071,-27.1971,-26.8125,-26.4262, -26.2289,-26.0341,-25.6496,-25.4564, -25.2629,-25.0699,-24.8766,-24.6828, -24.4892,-24.296,-23.9103,-23.7162, -23.5212,-23.2307,-23.0369,-22.8433, -22.643,-22.3417,-22.1408,-21.941, -21.7431,-21.5427,-21.3426,-21.1416, -20.9409,-20.6399,-20.4392,-20.1393, -19.9389,-19.7327,-19.4185,-19.1087, -18.901,-18.5907,-18.383,-18.0716, -17.7608,-17.5503,-17.3362,-17.2291, -17.1696,-17.1707,-17.1707,-17.1704, -17.1685,-17.1685,-17.1693,-17.491, -17.7037,-17.9111,-18.1182,-18.3264, -18.5334,-18.7412,-18.9502,-19.1566, -19.3621,-19.569,-19.878,-20.0763, -20.3802,-20.5873,-20.7875,-21.0883, -21.2856,-21.4853,-21.7862,-21.9869, -22.1886,-22.3899,-22.5905,-22.7913, -22.9868,-23.1803,-23.3741,-23.5676, -23.8578,-24.0518,-24.2453,-24.4392, -24.7296,-24.9236,-25.1183,-25.3123, -25.5059,-25.7975,-26.0882,-26.3776, -26.764,-27.054,-27.151,-27.214)
FOOTPRINT_POINT_LONGITUDE = (200.736,200.488,200.123,199.597, 199.587,199.58,199.586,199.59,199.591, 199.592,199.597,199.599,199.6,199.602, 199.604,199.605,199.606,199.608,199.611 ,199.611,199.612,199.613,199.614, 199.614,199.615,199.616,199.616,199.617 ,199.618,199.618,199.619,199.619, 199.618,199.618,199.618,199.618,199.617 ,199.617,199.615,199.615,199.614, 199.613,199.611,199.61,199.608,199.606, 199.605,199.604,199.604,199.953,200.292 ,200.529,200.801,200.812,200.816, 200.814,200.812,200.81,200.809,200.807, 200.806,200.804,200.802,200.801,200.801 ,200.8,200.799,200.8,200.796,200.791, 200.79,200.788,200.788,200.787,200.785, 200.784,200.782,200.78,200.779,200.777, 200.776,200.774,200.773,200.772,200.769 ,200.768,200.766,200.765,200.763, 200.761,200.759,200.757,200.755,200.752 ,200.75,200.748,200.745,200.743,200.742 ,200.736)
ORBIT_NUMBER = 4260
ORBITAL_ECCENTRICITY = 0.571
ORBITAL_INCLINATION = 86.69
ORBITAL_SEMIMAJOR_AXIS = 8594.98
PERIAPSIS_ALTITUDE = 295.57
PERIAPSIS_ARGUMENT_ANGLE = 327.68
PERIAPSIS_TIME = 2007-04-30T12:53:58.000Z
SPACECRAFT_ORIENTATION = (0.0,1.0,0.0)
^MEX_ORIENTATION_DESC = "MEX_ORIENTATION_DESC.TXT"
SPACECRAFT_POINTING_MODE = ACROSSTRACK
^MEX_POINTING_DESC = "MEX_POINTING_DESC.TXT"
RIGHT_ASCENSION = -1e+32
DECLINATION = -1e+32
OFFSET_ANGLE = -0.07
SPACECRAFT_SOLAR_DISTANCE = 2.07972e+08
TARGET_NAME = MARS
/* CAMERA DATA ELEMENTS */
DETECTOR_TEMPERATURE = 20.2056
FOCAL_PLANE_TEMPERATURE = 9.195
INST_CMPRS_NAME = "DISCRETE COSINE TRANSFORMATION (DCT)"
INST_CMPRS_RATIO = 7.78443
INST_CMPRS_QUALITY = 0
INST_CMPRS_QUANTZ_TBL_ID = 0
INSTRUMENT_TEMPERATURE = 11.6418
LENS_TEMPERATURE = 8.3794
MACROPIXEL_SIZE = 4
MISSING_FRAMES = 0
PIXEL_SUBSAMPLING_FLAG = N
SIGNAL_CHAIN_ID = 3
/* RADIOMETRIC DATA ELEMENTS */
BANDWIDTH = 177.0
CENTER_FILTER_WAVELENGTH = 676.5
RADIANCE_OFFSET = 5.96918
RADIANCE_SCALING_FACTOR = 0.0211168
REFLECTANCE_SCALING_FACTOR = 0.000484276
MEX:REFLECTANCE_OFFSET = 0.136892
/* IMAGE OBJECT DEFINITIONS */
OBJECT = IMAGE
  INTERCHANGE_FORMAT = BINARY
  LINES = 11889
  LINE_SAMPLES = 1404
  SAMPLE_TYPE = UNSIGNED_INTEGER
  SAMPLE_BITS = 8
  BANDS = 1
  BAND_STORAGE_TYPE = BAND_SEQUENTIAL
  MAXIMUM = 255
  MEAN = 155.533
  MINIMUM = 1
  STANDARD_DEVIATION = 43.7449
END_OBJECT = IMAGE
/* MAP OBJECT DEFINITIONS */
OBJECT = IMAGE_MAP_PROJECTION
  ^DATA_SET_MAP_PROJECTION_CATALOG= "DSMAP.CAT"
  A_AXIS_RADIUS = 3396.0
  B_AXIS_RADIUS = 3396.0
  C_AXIS_RADIUS = 3396.0
  CENTER_LATITUDE = 0.0
  CENTER_LONGITUDE = 200.0
  COORDINATE_SYSTEM_NAME = PLANETOGRAPHIC
  COORDINATE_SYSTEM_TYPE = "BODY-FIXED ROTATING"
  EASTERNMOST_LONGITUDE = 200.816
  FIRST_STANDARD_PARALLEL = "N/A"
  LINE_FIRST_PIXEL = 1
  LINE_LAST_PIXEL = 11889
  LINE_PROJECTION_OFFSET = -20362.625
  MAP_PROJECTION_ROTATION = 0.0
  MAP_PROJECTION_TYPE = SINUSOIDAL
  MAP_RESOLUTION = 1185.42760773333
  MAP_SCALE = 0.05
  MAXIMUM_LATITUDE = -17.1685
  MINIMUM_LATITUDE = -27.214
  POSITIVE_LONGITUDE_DIRECTION = EAST
  REFERENCE_LATITUDE = "N/A"
  REFERENCE_LONGITUDE = "N/A"
  SAMPLE_FIRST_PIXEL = 1
  SAMPLE_LAST_PIXEL = 1404
  SAMPLE_PROJECTION_OFFSET = 466.625
  SECOND_STANDARD_PARALLEL = "N/A"
  WESTERNMOST_LONGITUDE = 199.58
END_OBJECT = IMAGE_MAP_PROJECTION
END
