PDS_VERSION_ID = PDS3
/* FILE DATA ELEMENTS */
RECORD_TYPE = UNDEFINED
/* POINTERS TO DATA OBJECTS */
^IMAGE = ("H4260_0000_IR4.TIF")
/* IDENTIFICATION DATA ELEMENTS */
DATA_SET_ID = "MEX-M-HRSC-4-REFDR-MAPPROJECT-EXT1-V4.0"
DATA_SET_NAME = "MARS EXPRESS HRSC MAP PROJECTED REFDR EXTENSION1 V4.0"
DETECTOR_ID = MEX_HRSC_IR
EVENT_TYPE = "MARS-REGIONAL-MAPPING-Te-Im"
INSTRUMENT_HOST_ID = MEX
INSTRUMENT_HOST_NAME = "MARS EXPRESS"
INSTRUMENT_ID = HRSC
INSTRUMENT_NAME = "HIGH RESOLUTION STEREO CAMERA"
MISSION_NAME = "MARS EXPRESS"
MISSION_PHASE_NAME = ME_Phase_7
PROCESSING_LEVEL_ID = 4
PRODUCT_CREATION_TIME = 2023-02-10T03:49:22.000Z
PRODUCT_ID = "H4260_0000_IR4.TIF"
RELEASE_ID = 0006
REVISION_ID = 0000
/* QUALITY DATA ELEMENTS */
DATA_QUALITY_ID = 1
DATA_QUALITY_DESC = "Data calculated based on original SPICE kernels"
/* TIME DATA ELEMENTS */
SPACECRAFT_CLOCK_START_COUNT = "1/0126017684.08247"
SPACECRAFT_CLOCK_STOP_COUNT = "1/0126017896.46951"
START_TIME = 2007-04-30T12:55:36.561Z
STOP_TIME = 2007-04-30T12:58:13.247Z
/* ORBITAL DATA ELEMENTS */
ASCENDING_NODE_LONGITUDE = 139.07
MAXIMUM_RESOLUTION = 0.0503
FOOTPRINT_POINT_LATITUDE = (-27.1862,-27.1831,-27.1807,-27.1765, -27.173,-27.1729,-27.183,-26.8952, -26.4192,-26.046,-25.6644,-25.1791, -24.9825,-24.7867,-24.5912,-24.3955, -24.1019,-23.9057,-23.6149,-23.4208, -23.1293,-22.9351,-22.7407,-22.5421, -22.2413,-22.0401,-21.8383,-21.6365, -21.4362,-21.1368,-20.9379,-20.7386, -20.54,-20.3357,-20.1292,-19.9242, -19.6169,-19.4142,-19.2081,-19.0046, -18.8015,-18.5928,-18.3825,-18.1733, -17.9637,-17.754,-17.5449,-17.3359, -17.2314,-17.1969,-17.1974,-17.1973, -17.1971,-17.1975,-17.1977,-17.1978, -17.1986,-17.4074,-17.6173,-17.8264, -18.0363,-18.2456,-18.4567,-18.7702, -18.9724,-19.1785,-19.3862,-19.5915, -19.7975,-20.0096,-20.214,-20.4136, -20.7114,-20.9107,-21.1109,-21.3155, -21.5163,-21.7166,-21.9173,-22.1179, -22.3169,-22.5182,-22.7178,-23.0098, -23.2046,-23.4967,-23.7899,-23.985, -24.1807,-24.376,-24.5719,-24.8655, -25.0606,-25.2565,-25.6437,-26.213, -26.5943,-27.0708,-27.1659,-27.1862)
FOOTPRINT_POINT_LONGITUDE = (200.748,200.43,200.211,199.862,199.59, 199.579,199.572,199.576,199.58,199.581, 199.585,199.588,199.59,199.591,199.592, 199.593,199.594,199.595,199.595,199.596 ,199.596,199.596,199.597,199.597, 199.597,199.597,199.597,199.598,199.597 ,199.597,199.596,199.596,199.595, 199.594,199.594,199.593,199.591,199.589 ,199.589,199.587,199.585,199.584, 199.583,199.581,199.579,199.577,199.575 ,199.574,199.573,199.572,199.929, 200.131,200.358,200.608,200.835,200.847 ,200.851,200.849,200.847,200.845, 200.843,200.84,200.838,200.835,200.832, 200.831,200.831,200.829,200.827,200.828 ,200.826,200.821,200.816,200.814, 200.813,200.813,200.811,200.809,200.808 ,200.806,200.803,200.801,200.799, 200.796,200.795,200.792,200.789,200.787 ,200.785,200.783,200.781,200.778, 200.775,200.773,200.769,200.763,200.759 ,200.754,200.753,200.748)
ORBIT_NUMBER = 4260
ORBITAL_ECCENTRICITY = 0.571
ORBITAL_INCLINATION = 86.69
ORBITAL_SEMIMAJOR_AXIS = 8594.98
PERIAPSIS_ALTITUDE = 295.57
PERIAPSIS_ARGUMENT_ANGLE = 327.68
PERIAPSIS_TIME = 2007-04-30T12:53:58.000Z
SPACECRAFT_ORIENTATION = (0.0,1.0,0.0)
^MEX_ORIENTATION_DESC = "MEX_ORIENTATION_DESC.TXT"
SPACECRAFT_POINTING_MODE = ACROSSTRACK
^MEX_POINTING_DESC = "MEX_POINTING_DESC.TXT"
RIGHT_ASCENSION = -1e+32
DECLINATION = -1e+32
OFFSET_ANGLE = -0.07
SPACECRAFT_SOLAR_DISTANCE = 2.07972e+08
TARGET_NAME = MARS
/* CAMERA DATA ELEMENTS */
DETECTOR_TEMPERATURE = 17.7588
FOCAL_PLANE_TEMPERATURE = 9.195
INST_CMPRS_NAME = "DISCRETE COSINE TRANSFORMATION (DCT)"
INST_CMPRS_RATIO = 7.5406
INST_CMPRS_QUALITY = 0
INST_CMPRS_QUANTZ_TBL_ID = 0
INSTRUMENT_TEMPERATURE = 11.6418
LENS_TEMPERATURE = 8.3794
MACROPIXEL_SIZE = 4
MISSING_FRAMES = 0
PIXEL_SUBSAMPLING_FLAG = N
SIGNAL_CHAIN_ID = 2
/* RADIOMETRIC DATA ELEMENTS */
BANDWIDTH = 81.0
CENTER_FILTER_WAVELENGTH = 955.5
RADIANCE_OFFSET = 1.34686
RADIANCE_SCALING_FACTOR = 0.00684677
REFLECTANCE_SCALING_FACTOR = 0.000638883
MEX:REFLECTANCE_OFFSET = 0.125677
/* IMAGE OBJECT DEFINITIONS */
OBJECT = IMAGE
  INTERCHANGE_FORMAT = BINARY
  LINES = 11889
  LINE_SAMPLES = 1404
  SAMPLE_TYPE = UNSIGNED_INTEGER
  SAMPLE_BITS = 8
  BANDS = 1
  BAND_STORAGE_TYPE = BAND_SEQUENTIAL
  MAXIMUM = 255
  MEAN = 156.907
  MINIMUM = 1
  STANDARD_DEVIATION = 49.5211
END_OBJECT = IMAGE
/* MAP OBJECT DEFINITIONS */
OBJECT = IMAGE_MAP_PROJECTION
  ^DATA_SET_MAP_PROJECTION_CATALOG= "DSMAP.CAT"
  A_AXIS_RADIUS = 3396.0
  B_AXIS_RADIUS = 3396.0
  C_AXIS_RADIUS = 3396.0
  CENTER_LATITUDE = 0.0
  CENTER_LONGITUDE = 200.0
  COORDINATE_SYSTEM_NAME = PLANETOGRAPHIC
  COORDINATE_SYSTEM_TYPE = "BODY-FIXED ROTATING"
  EASTERNMOST_LONGITUDE = 200.851
  FIRST_STANDARD_PARALLEL = "N/A"
  LINE_FIRST_PIXEL = 1
  LINE_LAST_PIXEL = 11889
  LINE_PROJECTION_OFFSET = -20362.625
  MAP_PROJECTION_ROTATION = 0.0
  MAP_PROJECTION_TYPE = SINUSOIDAL
  MAP_RESOLUTION = 1185.42760773333
  MAP_SCALE = 0.05
  MAXIMUM_LATITUDE = -17.1969
  MINIMUM_LATITUDE = -27.1862
  POSITIVE_LONGITUDE_DIRECTION = EAST
  REFERENCE_LATITUDE = "N/A"
  REFERENCE_LONGITUDE = "N/A"
  SAMPLE_FIRST_PIXEL = 1
  SAMPLE_LAST_PIXEL = 1404
  SAMPLE_PROJECTION_OFFSET = 466.625
  SECOND_STANDARD_PARALLEL = "N/A"
  WESTERNMOST_LONGITUDE = 199.572
END_OBJECT = IMAGE_MAP_PROJECTION
END
