PDS_VERSION_ID = PDS3
/* FILE DATA ELEMENTS */
RECORD_TYPE = UNDEFINED
/* POINTERS TO DATA OBJECTS */
^IMAGE = ("H4258_0000_GR4.TIF")
/* IDENTIFICATION DATA ELEMENTS */
DATA_SET_ID = "MEX-M-HRSC-4-REFDR-MAPPROJECT-EXT1-V4.0"
DATA_SET_NAME = "MARS EXPRESS HRSC MAP PROJECTED REFDR EXTENSION1 V4.0"
DETECTOR_ID = MEX_HRSC_GREEN
EVENT_TYPE = "MARS-REGIONAL-MAPPING-Im-Eo"
INSTRUMENT_HOST_ID = MEX
INSTRUMENT_HOST_NAME = "MARS EXPRESS"
INSTRUMENT_ID = HRSC
INSTRUMENT_NAME = "HIGH RESOLUTION STEREO CAMERA"
MISSION_NAME = "MARS EXPRESS"
MISSION_PHASE_NAME = ME_Phase_7
PROCESSING_LEVEL_ID = 4
PRODUCT_CREATION_TIME = 2023-02-10T03:49:22.000Z
PRODUCT_ID = "H4258_0000_GR4.TIF"
RELEASE_ID = 0006
REVISION_ID = 0000
/* QUALITY DATA ELEMENTS */
DATA_QUALITY_ID = 1
DATA_QUALITY_DESC = "Data calculated based on original SPICE kernels"
/* TIME DATA ELEMENTS */
SPACECRAFT_CLOCK_START_COUNT = "1/0125969010.09046"
SPACECRAFT_CLOCK_STOP_COUNT = "1/0125969260.26412"
START_TIME = 2007-04-29T23:24:12.067Z
STOP_TIME = 2007-04-29T23:27:21.001Z
/* ORBITAL DATA ELEMENTS */
ASCENDING_NODE_LONGITUDE = 139.12
MAXIMUM_RESOLUTION = 0.0944
FOOTPRINT_POINT_LATITUDE = (-45.8116,-45.7961,-45.7831,-45.7673, -45.7668,-45.7722,-45.5037,-45.2372, -44.9768,-44.7163,-44.3264,-44.0657, -43.8046,-43.4135,-43.1606,-42.9063, -42.6535,-42.2738,-42.0206,-41.767, -41.5133,-41.2595,-41.0117,-40.7665, -40.3986,-40.1531,-39.9076,-39.662, -39.4162,-39.1704,-38.9245,-38.6785, -38.4323,-38.188,-37.7129,-37.4751, -37.1187,-36.6436,-36.1681,-35.9301, -35.6921,-35.3353,-35.0973,-34.8592, -34.6212,-34.1455,-33.9069,-33.5495, -33.4305,-33.3358,-33.3445,-33.3512, -33.355,-33.3551,-33.3567,-33.5952, -33.8337,-34.1913,-34.4296,-34.6689, -34.9082,-35.3829,-35.6217,-35.8601, -36.0983,-36.3366,-36.5749,-36.9321, -37.4079,-37.765,-38.0033,-38.2411, -38.4868,-38.7336,-39.1034,-39.3497, -39.5957,-39.842,-40.211,-40.4571, -40.703,-40.9489,-41.1948,-41.5756, -41.8298,-42.0839,-42.3379,-42.5917, -42.8454,-43.2256,-43.6103,-43.8722, -44.1342,-44.5266,-44.7882,-45.0494, -45.3104,-45.5797,-45.7146,-45.8116)
FOOTPRINT_POINT_LONGITUDE = (36.883,36.2267,35.7694,35.2813,35.266, 35.2353,35.2584,35.2807,35.3025,35.3237 ,35.351,35.3703,35.3901,35.4186,35.437, 35.4588,35.4757,35.5008,35.5168,35.5332 ,35.5494,35.565,35.5804,35.5949,35.6157 ,35.6294,35.6427,35.6559,35.6689, 35.6817,35.6941,35.7063,35.7184,35.7302 ,35.7526,35.7639,35.7794,35.7986, 35.8178,35.8274,35.8367,35.8499,35.8584 ,35.8672,35.8755,35.8903,35.8994, 35.9114,35.9149,35.9179,36.3729,36.8077 ,37.1166,37.1281,37.1357,37.1327, 37.1297,37.125,37.1216,37.1204,37.1192, 37.1076,37.1054,37.1021,37.0984,37.0951 ,37.0915,37.086,37.0777,37.0721,37.0689 ,37.0649,37.0608,37.0571,37.0507, 37.0462,37.0411,37.0367,37.0295,37.0249 ,37.0203,37.0156,37.0112,37.0038, 36.9985,36.9934,36.9879,36.9824,36.9768 ,36.9679,36.9593,36.9531,36.9475, 36.9383,36.9325,36.926,36.9194,36.9152, 36.9123,36.883)
ORBIT_NUMBER = 4258
ORBITAL_ECCENTRICITY = 0.571
ORBITAL_INCLINATION = 86.68
ORBITAL_SEMIMAJOR_AXIS = 8600.82
PERIAPSIS_ALTITUDE = 295.77
PERIAPSIS_ARGUMENT_ANGLE = 328.04
PERIAPSIS_TIME = 2007-04-29T23:27:39.000Z
SPACECRAFT_ORIENTATION = (0.0,1.0,0.0)
^MEX_ORIENTATION_DESC = "MEX_ORIENTATION_DESC.TXT"
SPACECRAFT_POINTING_MODE = NADIR
^MEX_POINTING_DESC = "MEX_POINTING_DESC.TXT"
RIGHT_ASCENSION = -1e+32
DECLINATION = -1e+32
OFFSET_ANGLE = -1e+32
SPACECRAFT_SOLAR_DISTANCE = 2.08013e+08
TARGET_NAME = MARS
/* CAMERA DATA ELEMENTS */
DETECTOR_TEMPERATURE = 18.5744
FOCAL_PLANE_TEMPERATURE = 9.195
INST_CMPRS_NAME = "DISCRETE COSINE TRANSFORMATION (DCT)"
INST_CMPRS_RATIO = 22.606
INST_CMPRS_QUALITY = 0
INST_CMPRS_QUANTZ_TBL_ID = 0
INSTRUMENT_TEMPERATURE = 11.4379
LENS_TEMPERATURE = 9.3989
MACROPIXEL_SIZE = 8
MISSING_FRAMES = 0
PIXEL_SUBSAMPLING_FLAG = N
SIGNAL_CHAIN_ID = 2
/* RADIOMETRIC DATA ELEMENTS */
BANDWIDTH = 88.0
CENTER_FILTER_WAVELENGTH = 538.0
RADIANCE_OFFSET = 2.26371
RADIANCE_SCALING_FACTOR = 0.00290108
REFLECTANCE_SCALING_FACTOR = 0.000108076
MEX:REFLECTANCE_OFFSET = 0.0843321
/* IMAGE OBJECT DEFINITIONS */
OBJECT = IMAGE
  INTERCHANGE_FORMAT = BINARY
  LINES = 7412
  LINE_SAMPLES = 891
  SAMPLE_TYPE = UNSIGNED_INTEGER
  SAMPLE_BITS = 8
  BANDS = 1
  BAND_STORAGE_TYPE = BAND_SEQUENTIAL
  MAXIMUM = 255
  MEAN = 137.544
  MINIMUM = 1
  STANDARD_DEVIATION = 33.8022
END_OBJECT = IMAGE
/* MAP OBJECT DEFINITIONS */
OBJECT = IMAGE_MAP_PROJECTION
  ^DATA_SET_MAP_PROJECTION_CATALOG= "DSMAP.CAT"
  A_AXIS_RADIUS = 3396.0
  B_AXIS_RADIUS = 3396.0
  C_AXIS_RADIUS = 3396.0
  CENTER_LATITUDE = 0.0
  CENTER_LONGITUDE = 36.0
  COORDINATE_SYSTEM_NAME = PLANETOGRAPHIC
  COORDINATE_SYSTEM_TYPE = "BODY-FIXED ROTATING"
  EASTERNMOST_LONGITUDE = 37.1357
  FIRST_STANDARD_PARALLEL = "N/A"
  LINE_FIRST_PIXEL = 1
  LINE_LAST_PIXEL = 7412
  LINE_PROJECTION_OFFSET = -19763.1875
  MAP_PROJECTION_ROTATION = 0.0
  MAP_PROJECTION_TYPE = SINUSOIDAL
  MAP_RESOLUTION = 592.713803866667
  MAP_SCALE = 0.1
  MAXIMUM_LATITUDE = -33.3358
  MINIMUM_LATITUDE = -45.8116
  POSITIVE_LONGITUDE_DIRECTION = EAST
  REFERENCE_LATITUDE = "N/A"
  REFERENCE_LONGITUDE = "N/A"
  SAMPLE_FIRST_PIXEL = 1
  SAMPLE_LAST_PIXEL = 891
  SAMPLE_PROJECTION_OFFSET = 327.0625
  SECOND_STANDARD_PARALLEL = "N/A"
  WESTERNMOST_LONGITUDE = 35.2353
END_OBJECT = IMAGE_MAP_PROJECTION
END
