PDS_VERSION_ID = PDS3
/* FILE DATA ELEMENTS */
RECORD_TYPE = UNDEFINED
/* POINTERS TO DATA OBJECTS */
^IMAGE = ("H4245_0000_P24.TIF")
/* IDENTIFICATION DATA ELEMENTS */
DATA_SET_ID = "MEX-M-HRSC-4-REFDR-MAPPROJECT-EXT1-V4.0"
DATA_SET_NAME = "MARS EXPRESS HRSC MAP PROJECTED REFDR EXTENSION1 V4.0"
DETECTOR_ID = MEX_HRSC_P2
EVENT_TYPE = "MARS-REGIONAL-MAPPING-Vo-Te-Im"
INSTRUMENT_HOST_ID = MEX
INSTRUMENT_HOST_NAME = "MARS EXPRESS"
INSTRUMENT_ID = HRSC
INSTRUMENT_NAME = "HIGH RESOLUTION STEREO CAMERA"
MISSION_NAME = "MARS EXPRESS"
MISSION_PHASE_NAME = ME_Phase_7
PROCESSING_LEVEL_ID = 4
PRODUCT_CREATION_TIME = 2023-02-10T03:49:22.000Z
PRODUCT_ID = "H4245_0000_P24.TIF"
RELEASE_ID = 0006
REVISION_ID = 0000
/* QUALITY DATA ELEMENTS */
DATA_QUALITY_ID = 1
DATA_QUALITY_DESC = "Data calculated based on original SPICE kernels"
/* TIME DATA ELEMENTS */
SPACECRAFT_CLOCK_START_COUNT = "1/0125654478.09077"
SPACECRAFT_CLOCK_STOP_COUNT = "1/0125654692.17389"
START_TIME = 2007-04-26T08:01:35.079Z
STOP_TIME = 2007-04-26T08:04:08.625Z
/* ORBITAL DATA ELEMENTS */
ASCENDING_NODE_LONGITUDE = 139.39
MAXIMUM_RESOLUTION = 0.0518
FOOTPRINT_POINT_LATITUDE = (-47.6044,-47.5901,-47.5797,-47.5685, -47.5562,-47.5431,-47.5281,-47.5272, -47.4884,-47.2701,-46.9368,-46.714, -46.4905,-46.2668,-46.0428,-45.8294, -45.6412,-45.4529,-45.2644,-45.076, -44.8871,-44.6981,-44.5089,-44.3194, -44.1299,-43.9398,-43.7497,-43.5594, -43.369,-43.1784,-42.9876,-42.7011, -42.51,-42.3183,-42.1265,-41.936, -41.7433,-41.5511,-41.3647,-40.9952, -40.8083,-40.5273,-40.3396,-40.1527, -39.9628,-39.4961,-39.1334,-38.8636, -38.4986,-37.9501,-37.8588,-37.8508, -37.8729,-37.8858,-37.8963,-37.8967, -37.8976,-38.1727,-38.5384,-38.9042, -39.2696,-39.6354,-40.1027,-40.386, -40.665,-40.8522,-41.0398,-41.2287, -41.5083,-41.6987,-41.8905,-42.0829, -42.2734,-42.5614,-42.8491,-43.0408, -43.2324,-43.4238,-43.615,-43.8059, -43.9967,-44.1871,-44.3777,-44.5678, -44.7578,-44.9476,-45.1372,-45.3267, -45.516,-45.7048,-45.8941,-46.1068, -46.3317,-46.5559,-46.7795,-47.0029, -47.2259,-47.449,-47.5603,-47.6044)
FOOTPRINT_POINT_LONGITUDE = (234.09,233.646,233.362,233.077,232.791 ,232.504,232.199,232.181,232.147, 232.174,232.211,232.234,232.257,232.28, 232.302,232.323,232.342,232.36,232.378, 232.396,232.413,232.43,232.448,232.465, 232.481,232.498,232.514,232.53,232.546, 232.562,232.577,232.6,232.615,232.63, 232.644,232.66,232.674,232.688,232.702, 232.731,232.743,232.762,232.774,232.787 ,232.797,232.823,232.846,232.865, 232.886,232.917,232.922,232.923,233.51, 233.912,234.299,234.312,234.317,234.312 ,234.306,234.3,234.293,234.286,234.278, 234.272,234.267,234.264,234.26,234.256, 234.251,234.247,234.243,234.239,234.236 ,234.23,234.224,234.22,234.215,234.211, 234.207,234.202,234.198,234.194,234.189 ,234.185,234.18,234.175,234.171,234.166 ,234.161,234.156,234.151,234.145, 234.139,234.133,234.127,234.121,234.115 ,234.109,234.106,234.09)
ORBIT_NUMBER = 4245
ORBITAL_ECCENTRICITY = 0.572
ORBITAL_INCLINATION = 86.69
ORBITAL_SEMIMAJOR_AXIS = 8604.92
PERIAPSIS_ALTITUDE = 295.79
PERIAPSIS_ARGUMENT_ANGLE = 330.29
PERIAPSIS_TIME = 2007-04-26T08:06:32.000Z
SPACECRAFT_ORIENTATION = (0.0,1.0,0.0)
^MEX_ORIENTATION_DESC = "MEX_ORIENTATION_DESC.TXT"
SPACECRAFT_POINTING_MODE = ACROSSTRACK
^MEX_POINTING_DESC = "MEX_POINTING_DESC.TXT"
RIGHT_ASCENSION = -1e+32
DECLINATION = -1e+32
OFFSET_ANGLE = 0.25
SPACECRAFT_SOLAR_DISTANCE = 2.08298e+08
TARGET_NAME = MARS
/* CAMERA DATA ELEMENTS */
DETECTOR_TEMPERATURE = 18.7783
FOCAL_PLANE_TEMPERATURE = 8.3794
INST_CMPRS_NAME = "DISCRETE COSINE TRANSFORMATION (DCT)"
INST_CMPRS_RATIO = 11.9458
INST_CMPRS_QUALITY = 0
INST_CMPRS_QUANTZ_TBL_ID = 0
INSTRUMENT_TEMPERATURE = 11.4379
LENS_TEMPERATURE = 8.7872
MACROPIXEL_SIZE = 4
MISSING_FRAMES = 0
PIXEL_SUBSAMPLING_FLAG = N
SIGNAL_CHAIN_ID = 3
/* RADIOMETRIC DATA ELEMENTS */
BANDWIDTH = 177.0
CENTER_FILTER_WAVELENGTH = 676.5
RADIANCE_OFFSET = 5.37268
RADIANCE_SCALING_FACTOR = 0.0104555
REFLECTANCE_SCALING_FACTOR = 0.000240531
MEX:REFLECTANCE_OFFSET = 0.1236
/* IMAGE OBJECT DEFINITIONS */
OBJECT = IMAGE
  INTERCHANGE_FORMAT = BINARY
  LINES = 11494
  LINE_SAMPLES = 1885
  SAMPLE_TYPE = UNSIGNED_INTEGER
  SAMPLE_BITS = 8
  BANDS = 1
  BAND_STORAGE_TYPE = BAND_SEQUENTIAL
  MAXIMUM = 255
  MEAN = 118.202
  MINIMUM = 1
  STANDARD_DEVIATION = 21.4371
END_OBJECT = IMAGE
/* MAP OBJECT DEFINITIONS */
OBJECT = IMAGE_MAP_PROJECTION
  ^DATA_SET_MAP_PROJECTION_CATALOG= "DSMAP.CAT"
  A_AXIS_RADIUS = 3396.0
  B_AXIS_RADIUS = 3396.0
  C_AXIS_RADIUS = 3396.0
  CENTER_LATITUDE = 0.0
  CENTER_LONGITUDE = 233.0
  COORDINATE_SYSTEM_NAME = PLANETOGRAPHIC
  COORDINATE_SYSTEM_TYPE = "BODY-FIXED ROTATING"
  EASTERNMOST_LONGITUDE = 234.317
  FIRST_STANDARD_PARALLEL = "N/A"
  LINE_FIRST_PIXEL = 1
  LINE_LAST_PIXEL = 11494
  LINE_PROJECTION_OFFSET = -44868.875
  MAP_PROJECTION_ROTATION = 0.0
  MAP_PROJECTION_TYPE = SINUSOIDAL
  MAP_RESOLUTION = 1185.42760773333
  MAP_SCALE = 0.05
  MAXIMUM_LATITUDE = -37.8508
  MINIMUM_LATITUDE = -47.6044
  POSITIVE_LONGITUDE_DIRECTION = EAST
  REFERENCE_LATITUDE = "N/A"
  REFERENCE_LONGITUDE = "N/A"
  SAMPLE_FIRST_PIXEL = 1
  SAMPLE_LAST_PIXEL = 1885
  SAMPLE_PROJECTION_OFFSET = 661.625
  SECOND_STANDARD_PARALLEL = "N/A"
  WESTERNMOST_LONGITUDE = 232.147
END_OBJECT = IMAGE_MAP_PROJECTION
END
