PDS_VERSION_ID = PDS3
/* FILE DATA ELEMENTS */
RECORD_TYPE = UNDEFINED
/* POINTERS TO DATA OBJECTS */
^IMAGE = ("H4235_0001_S14.TIF")
/* IDENTIFICATION DATA ELEMENTS */
DATA_SET_ID = "MEX-M-HRSC-4-REFDR-MAPPROJECT-EXT1-V4.0"
DATA_SET_NAME = "MARS EXPRESS HRSC MAP PROJECTED REFDR EXTENSION1 V4.0"
DETECTOR_ID = MEX_HRSC_S1
EVENT_TYPE = "MARS-LOCAL-STEREO-Im-Lc"
INSTRUMENT_HOST_ID = MEX
INSTRUMENT_HOST_NAME = "MARS EXPRESS"
INSTRUMENT_ID = HRSC
INSTRUMENT_NAME = "HIGH RESOLUTION STEREO CAMERA"
MISSION_NAME = "MARS EXPRESS"
MISSION_PHASE_NAME = ME_Phase_7
PROCESSING_LEVEL_ID = 4
PRODUCT_CREATION_TIME = 2023-02-10T03:49:22.000Z
PRODUCT_ID = "H4235_0001_S14.TIF"
RELEASE_ID = 0006
REVISION_ID = 0000
/* QUALITY DATA ELEMENTS */
DATA_QUALITY_ID = 1
DATA_QUALITY_DESC = "Data calculated based on original SPICE kernels"
/* TIME DATA ELEMENTS */
SPACECRAFT_CLOCK_START_COUNT = "1/0125413185.07300"
SPACECRAFT_CLOCK_STOP_COUNT = "1/0125413327.64990"
START_TIME = 2007-04-23T13:00:59.992Z
STOP_TIME = 2007-04-23T13:02:10.139Z
/* ORBITAL DATA ELEMENTS */
ASCENDING_NODE_LONGITUDE = 139.59
MAXIMUM_RESOLUTION = 0.0172
FOOTPRINT_POINT_LATITUDE = (-7.15738,-7.15483,-7.15317,-7.15152, -7.14994,-7.14841,-7.14695,-7.14553, -7.14416,-7.14284,-7.1416,-7.14036, -7.13918,-7.13904,-7.14212,-7.02692, -6.91212,-6.75832,-6.56119,-6.32236, -6.20322,-6.04611,-5.92814,-5.81104, -5.65234,-5.57122,-5.40923,-5.25166, -5.09288,-4.9323,-4.81059,-4.728, -4.64526,-4.56203,-4.47891,-4.31645, -4.15855,-3.99612,-3.91244,-3.82867, -3.74479,-3.66089,-3.57733,-3.49392, -3.4107,-3.32774,-3.24469,-3.16002, -3.11737,-3.09649,-3.09721,-3.09803, -3.09881,-3.09931,-3.09751,-3.09865, -3.10361,-3.10515,-3.10674,-3.11346, -3.11259,-3.1128,-3.11316,-3.24434, -3.40588,-3.48927,-3.57306,-3.65664, -3.73997,-3.82327,-3.90635,-4.02984, -4.11114,-4.1949,-4.28321,-4.36942, -4.45298,-4.53554,-4.61678,-4.77663, -4.89438,-5.00514,-5.16278,-5.24669, -5.32983,-5.41156,-5.49471,-5.57802, -5.70506,-5.78605,-5.94406,-6.09912, -6.21469,-6.37087,-6.60138,-6.71375, -6.94771,-7.10207,-7.14094,-7.15738)
FOOTPRINT_POINT_LONGITUDE = (137.944,137.773,137.659,137.545, 137.432,137.318,137.205,137.093,136.98, 136.868,136.756,136.644,136.532,136.518 ,136.511,136.508,136.505,136.501, 136.497,136.491,136.488,136.484,136.481 ,136.478,136.474,136.472,136.468, 136.463,136.458,136.454,136.451,136.449 ,136.447,136.445,136.443,136.438, 136.432,136.428,136.425,136.423,136.421 ,136.418,136.416,136.414,136.411, 136.409,136.406,136.404,136.403,136.402 ,136.527,136.652,136.777,136.918, 137.044,137.263,137.422,137.533,137.707 ,137.884,137.979,137.995,138.003, 138.002,137.998,137.997,137.996,137.995 ,137.994,137.992,137.991,137.988, 137.987,137.987,137.989,137.99,137.99, 137.989,137.987,137.983,137.979,137.973 ,137.97,137.97,137.97,137.97,137.97, 137.97,137.972,137.971,137.969,137.966, 137.963,137.96,137.954,137.95,137.948, 137.946,137.946,137.944)
ORBIT_NUMBER = 4235
ORBITAL_ECCENTRICITY = 0.571
ORBITAL_INCLINATION = 86.68
ORBITAL_SEMIMAJOR_AXIS = 8605.28
PERIAPSIS_ALTITUDE = 297.22
PERIAPSIS_ARGUMENT_ANGLE = 332.09
PERIAPSIS_TIME = 2007-04-23T12:55:06.000Z
SPACECRAFT_ORIENTATION = (0.0,1.0,0.0)
^MEX_ORIENTATION_DESC = "MEX_ORIENTATION_DESC.TXT"
SPACECRAFT_POINTING_MODE = ACROSSTRACK
^MEX_POINTING_DESC = "MEX_POINTING_DESC.TXT"
RIGHT_ASCENSION = -1e+32
DECLINATION = -1e+32
OFFSET_ANGLE = -0.35
SPACECRAFT_SOLAR_DISTANCE = 2.08534e+08
TARGET_NAME = MARS
/* CAMERA DATA ELEMENTS */
DETECTOR_TEMPERATURE = 19.1861
FOCAL_PLANE_TEMPERATURE = 9.3989
INST_CMPRS_NAME = "DISCRETE COSINE TRANSFORMATION (DCT)"
INST_CMPRS_RATIO = 8.18591
INST_CMPRS_QUALITY = 0
INST_CMPRS_QUANTZ_TBL_ID = 0
INSTRUMENT_TEMPERATURE = 13.4769
LENS_TEMPERATURE = 9.6028
MACROPIXEL_SIZE = 1
MISSING_FRAMES = 0
PIXEL_SUBSAMPLING_FLAG = N
SIGNAL_CHAIN_ID = 2
/* RADIOMETRIC DATA ELEMENTS */
BANDWIDTH = 180.0
CENTER_FILTER_WAVELENGTH = 677.0
RADIANCE_OFFSET = 4.4523
RADIANCE_SCALING_FACTOR = 0.0241114
REFLECTANCE_SCALING_FACTOR = 0.000547038
MEX:REFLECTANCE_OFFSET = 0.101013
/* IMAGE OBJECT DEFINITIONS */
OBJECT = IMAGE
  INTERCHANGE_FORMAT = BINARY
  LINES = 19355
  LINE_SAMPLES = 7058
  SAMPLE_TYPE = UNSIGNED_INTEGER
  SAMPLE_BITS = 8
  BANDS = 1
  BAND_STORAGE_TYPE = BAND_SEQUENTIAL
  MAXIMUM = 255
  MEAN = 122.113
  MINIMUM = 1
  STANDARD_DEVIATION = 51.6035
END_OBJECT = IMAGE
/* MAP OBJECT DEFINITIONS */
OBJECT = IMAGE_MAP_PROJECTION
  ^DATA_SET_MAP_PROJECTION_CATALOG= "DSMAP.CAT"
  A_AXIS_RADIUS = 3396.0
  B_AXIS_RADIUS = 3396.0
  C_AXIS_RADIUS = 3396.0
  CENTER_LATITUDE = 0.0
  CENTER_LONGITUDE = 137.0
  COORDINATE_SYSTEM_NAME = PLANETOGRAPHIC
  COORDINATE_SYSTEM_TYPE = "BODY-FIXED ROTATING"
  EASTERNMOST_LONGITUDE = 138.003
  FIRST_STANDARD_PARALLEL = "N/A"
  LINE_FIRST_PIXEL = 1
  LINE_LAST_PIXEL = 19355
  LINE_PROJECTION_OFFSET = -14549.0
  MAP_PROJECTION_ROTATION = 0.0
  MAP_PROJECTION_TYPE = SINUSOIDAL
  MAP_RESOLUTION = 4741.71043093333
  MAP_SCALE = 0.0125
  MAXIMUM_LATITUDE = -3.09649
  MINIMUM_LATITUDE = -7.15738
  POSITIVE_LONGITUDE_DIRECTION = EAST
  REFERENCE_LATITUDE = "N/A"
  REFERENCE_LONGITUDE = "N/A"
  SAMPLE_FIRST_PIXEL = 1
  SAMPLE_LAST_PIXEL = 7058
  SAMPLE_PROJECTION_OFFSET = 2585.0
  SECOND_STANDARD_PARALLEL = "N/A"
  WESTERNMOST_LONGITUDE = 136.402
END_OBJECT = IMAGE_MAP_PROJECTION
END
