PDS_VERSION_ID = PDS3
/* FILE DATA ELEMENTS */
RECORD_TYPE = UNDEFINED
/* POINTERS TO DATA OBJECTS */
^IMAGE = ("H4234_0000_P14.TIF")
/* IDENTIFICATION DATA ELEMENTS */
DATA_SET_ID = "MEX-M-HRSC-4-REFDR-MAPPROJECT-EXT1-V4.0"
DATA_SET_NAME = "MARS EXPRESS HRSC MAP PROJECTED REFDR EXTENSION1 V4.0"
DETECTOR_ID = MEX_HRSC_P1
EVENT_TYPE = "MARS-REGIONAL-MAPPING-Vo-Te-Im"
INSTRUMENT_HOST_ID = MEX
INSTRUMENT_HOST_NAME = "MARS EXPRESS"
INSTRUMENT_ID = HRSC
INSTRUMENT_NAME = "HIGH RESOLUTION STEREO CAMERA"
MISSION_NAME = "MARS EXPRESS"
MISSION_PHASE_NAME = ME_Phase_7
PROCESSING_LEVEL_ID = 4
PRODUCT_CREATION_TIME = 2023-02-10T03:49:22.000Z
PRODUCT_ID = "H4234_0000_P14.TIF"
RELEASE_ID = 0006
REVISION_ID = 0000
/* QUALITY DATA ELEMENTS */
DATA_QUALITY_ID = 1
DATA_QUALITY_DESC = "Data calculated based on original SPICE kernels"
/* TIME DATA ELEMENTS */
SPACECRAFT_CLOCK_START_COUNT = "1/0125388363.08385"
SPACECRAFT_CLOCK_STOP_COUNT = "1/0125388582.08361"
START_TIME = 2007-04-23T06:07:08.032Z
STOP_TIME = 2007-04-23T06:09:35.004Z
/* ORBITAL DATA ELEMENTS */
ASCENDING_NODE_LONGITUDE = 139.61
MAXIMUM_RESOLUTION = 0.0516
FOOTPRINT_POINT_LATITUDE = (-47.6351,-47.6249,-47.6169,-47.6067, -47.5871,-47.5866,-47.617,-47.3857, -47.154,-46.8086,-46.6156,-46.4218, -46.2277,-46.0333,-45.8392,-45.6441, -45.3525,-45.1579,-44.9631,-44.768, -44.573,-44.3777,-44.0847,-43.7916, -43.5961,-43.4006,-43.205,-43.0092, -42.813,-42.6188,-42.4221,-42.2257, -42.0358,-41.8463,-41.5602,-41.3691, -41.1781,-40.8916,-40.7017,-40.5115, -40.1387,-39.6795,-39.3125,-39.1284, -38.9441,-38.6678,-38.4837,-38.2995, -38.0228,-37.9336,-37.9097,-37.9142, -37.9258,-37.9301,-37.9302,-37.9311, -38.2059,-38.4816,-38.8505,-39.1271, -39.3122,-39.5884,-39.9577,-40.1421, -40.3269,-40.6128,-40.8037,-40.9943, -41.1847,-41.3746,-41.5618,-41.8425, -42.0314,-42.3241,-42.5227,-42.7202, -43.017,-43.2126,-43.4089,-43.6051, -43.8992,-44.0952,-44.2921,-44.4881, -44.6828,-44.8785,-45.0746,-45.2699, -45.4657,-45.6613,-45.9547,-46.2472, -46.44,-46.6366,-46.8323,-47.0563, -47.2884,-47.5211,-47.6373,-47.6351)
FOOTPRINT_POINT_LONGITUDE = (235.266,234.777,234.444,234.059, 233.409,233.392,233.359,233.383,233.407 ,233.443,233.461,233.48,233.498,233.516 ,233.534,233.552,233.578,233.595, 233.612,233.628,233.645,233.661,233.685 ,233.709,233.724,233.739,233.754, 233.769,233.784,233.797,233.812,233.826 ,233.84,233.853,233.873,233.887,233.9, 233.92,233.932,233.944,233.965,233.992, 234.012,234.023,234.033,234.048,234.058 ,234.068,234.082,234.087,234.088, 234.334,234.851,235.457,235.47,235.474, 235.471,235.466,235.461,235.456,235.454 ,235.449,235.444,235.441,235.438, 235.433,235.43,235.427,235.424,235.42, 235.415,235.408,235.404,235.401,235.398 ,235.395,235.391,235.386,235.383, 235.379,235.373,235.368,235.365,235.361 ,235.356,235.352,235.347,235.343, 235.339,235.334,235.327,235.32,235.314, 235.31,235.306,235.3,235.294,235.288, 235.285,235.266)
ORBIT_NUMBER = 4234
ORBITAL_ECCENTRICITY = 0.572
ORBITAL_INCLINATION = 86.69
ORBITAL_SEMIMAJOR_AXIS = 8608.38
PERIAPSIS_ALTITUDE = 296.44
PERIAPSIS_ARGUMENT_ANGLE = 332.23
PERIAPSIS_TIME = 2007-04-23T06:11:52.000Z
SPACECRAFT_ORIENTATION = (0.0,1.0,0.0)
^MEX_ORIENTATION_DESC = "MEX_ORIENTATION_DESC.TXT"
SPACECRAFT_POINTING_MODE = ACROSSTRACK
^MEX_POINTING_DESC = "MEX_POINTING_DESC.TXT"
RIGHT_ASCENSION = -1e+32
DECLINATION = -1e+32
OFFSET_ANGLE = 0.1
SPACECRAFT_SOLAR_DISTANCE = 2.08559e+08
TARGET_NAME = MARS
/* CAMERA DATA ELEMENTS */
DETECTOR_TEMPERATURE = 17.7588
FOCAL_PLANE_TEMPERATURE = 8.7872
INST_CMPRS_NAME = "DISCRETE COSINE TRANSFORMATION (DCT)"
INST_CMPRS_RATIO = 14.2444
INST_CMPRS_QUALITY = 0
INST_CMPRS_QUANTZ_TBL_ID = 0
INSTRUMENT_TEMPERATURE = 11.234
LENS_TEMPERATURE = 9.195
MACROPIXEL_SIZE = 4
MISSING_FRAMES = 0
PIXEL_SUBSAMPLING_FLAG = N
SIGNAL_CHAIN_ID = 3
/* RADIOMETRIC DATA ELEMENTS */
BANDWIDTH = 174.0
CENTER_FILTER_WAVELENGTH = 675.0
RADIANCE_OFFSET = 5.00244
RADIANCE_SCALING_FACTOR = 0.0119057
REFLECTANCE_SCALING_FACTOR = 0.000278548
MEX:REFLECTANCE_OFFSET = 0.117038
/* IMAGE OBJECT DEFINITIONS */
OBJECT = IMAGE
  INTERCHANGE_FORMAT = BINARY
  LINES = 11568
  LINE_SAMPLES = 1794
  SAMPLE_TYPE = UNSIGNED_INTEGER
  SAMPLE_BITS = 8
  BANDS = 1
  BAND_STORAGE_TYPE = BAND_SEQUENTIAL
  MAXIMUM = 255
  MEAN = 113.448
  MINIMUM = 1
  STANDARD_DEVIATION = 21.0097
END_OBJECT = IMAGE
/* MAP OBJECT DEFINITIONS */
OBJECT = IMAGE_MAP_PROJECTION
  ^DATA_SET_MAP_PROJECTION_CATALOG= "DSMAP.CAT"
  A_AXIS_RADIUS = 3396.0
  B_AXIS_RADIUS = 3396.0
  C_AXIS_RADIUS = 3396.0
  CENTER_LATITUDE = 0.0
  CENTER_LONGITUDE = 235.0
  COORDINATE_SYSTEM_NAME = PLANETOGRAPHIC
  COORDINATE_SYSTEM_TYPE = "BODY-FIXED ROTATING"
  EASTERNMOST_LONGITUDE = 235.474
  FIRST_STANDARD_PARALLEL = "N/A"
  LINE_FIRST_PIXEL = 1
  LINE_LAST_PIXEL = 11568
  LINE_PROJECTION_OFFSET = -44965.625
  MAP_PROJECTION_ROTATION = 0.0
  MAP_PROJECTION_TYPE = SINUSOIDAL
  MAP_RESOLUTION = 1185.42760773333
  MAP_SCALE = 0.05
  MAXIMUM_LATITUDE = -37.9097
  MINIMUM_LATITUDE = -47.6373
  POSITIVE_LONGITUDE_DIRECTION = EAST
  REFERENCE_LATITUDE = "N/A"
  REFERENCE_LONGITUDE = "N/A"
  SAMPLE_FIRST_PIXEL = 1
  SAMPLE_LAST_PIXEL = 1794
  SAMPLE_PROJECTION_OFFSET = 1341.875
  SECOND_STANDARD_PARALLEL = "N/A"
  WESTERNMOST_LONGITUDE = 233.359
END_OBJECT = IMAGE_MAP_PROJECTION
END
