PDS_VERSION_ID = PDS3
/* FILE DATA ELEMENTS */
RECORD_TYPE = UNDEFINED
/* POINTERS TO DATA OBJECTS */
^IMAGE = ("H4232_0000_P14.TIF")
/* IDENTIFICATION DATA ELEMENTS */
DATA_SET_ID = "MEX-M-HRSC-4-REFDR-MAPPROJECT-EXT1-V4.0"
DATA_SET_NAME = "MARS EXPRESS HRSC MAP PROJECTED REFDR EXTENSION1 V4.0"
DETECTOR_ID = MEX_HRSC_P1
EVENT_TYPE = "MARS-REGIONAL-MAPPING-Im-La"
INSTRUMENT_HOST_ID = MEX
INSTRUMENT_HOST_NAME = "MARS EXPRESS"
INSTRUMENT_ID = HRSC
INSTRUMENT_NAME = "HIGH RESOLUTION STEREO CAMERA"
MISSION_NAME = "MARS EXPRESS"
MISSION_PHASE_NAME = ME_Phase_7
PROCESSING_LEVEL_ID = 4
PRODUCT_CREATION_TIME = 2023-02-10T03:49:22.000Z
PRODUCT_ID = "H4232_0000_P14.TIF"
RELEASE_ID = 0006
REVISION_ID = 0000
/* QUALITY DATA ELEMENTS */
DATA_QUALITY_ID = 1
DATA_QUALITY_DESC = "Data calculated based on original SPICE kernels"
/* TIME DATA ELEMENTS */
SPACECRAFT_CLOCK_START_COUNT = "1/0125340254.09084"
SPACECRAFT_CLOCK_STOP_COUNT = "1/0125340494.58816"
START_TIME = 2007-04-22T16:45:02.327Z
STOP_TIME = 2007-04-22T16:48:03.379Z
/* ORBITAL DATA ELEMENTS */
ASCENDING_NODE_LONGITUDE = 139.65
MAXIMUM_RESOLUTION = 0.0489
FOOTPRINT_POINT_LATITUDE = (-30.9182,-30.913,-30.9092,-30.9047, -30.9045,-30.9485,-30.7095,-30.4707, -30.1126,-29.7531,-29.5145,-29.2749, -28.9129,-28.6709,-28.4322,-28.0739, -27.8343,-27.4763,-27.1199,-26.8834, -26.6444,-26.2889,-26.0515,-25.6929, -25.4529,-25.1019,-24.7478,-24.393, -24.1566,-23.9209,-23.5667,-23.3302, -22.9768,-22.7412,-22.5049,-22.1509, -21.798,-21.5634,-21.3284,-21.091, -20.8501,-20.491,-20.2485,-20.0032, -19.6426,-19.4013,-19.1596,-19.039, -19.022,-19.0221,-19.021,-19.0208, -19.0208,-19.0215,-19.262,-19.5048, -19.868,-20.1113,-20.4775,-20.7204, -20.963,-21.1967,-21.43,-21.6665, -21.9004,-22.1374,-22.4914,-22.7283, -23.0826,-23.3201,-23.6749,-23.9113, -24.1477,-24.384,-24.7383,-24.9789, -25.2158,-25.4531,-25.6903,-25.9273, -26.1626,-26.4005,-26.7574,-27.1148, -27.4728,-27.7114,-27.95,-28.1884, -28.4266,-28.6675,-28.9051,-29.2664, -29.5077,-29.7478,-30.1081,-30.3484, -30.5875,-30.8267,-30.9463,-30.9182)
FOOTPRINT_POINT_LONGITUDE = (72.1878,71.6542,71.3432,71.0097, 70.9985,70.9703,70.9765,70.9825,70.9913 ,71.0005,71.0059,71.0117,71.0217, 71.0286,71.0336,71.041,71.0462,71.0531, 71.0588,71.062,71.0664,71.0714,71.0747, 71.081,71.0857,71.0877,71.0911,71.0949, 71.0973,71.0993,71.1025,71.1047,71.1074 ,71.1091,71.1111,71.1138,71.116,71.117, 71.1182,71.1206,71.1231,71.1216,71.1222 ,71.1242,71.1235,71.1234,71.1236, 71.1235,71.1235,71.4771,71.9164,72.2588 ,72.2695,72.2731,72.2711,72.2703, 72.2684,72.2675,72.2667,72.2654,72.264, 72.2623,72.2603,72.2598,72.2579,72.2576 ,72.2561,72.2554,72.2537,72.2532, 72.2515,72.2502,72.2488,72.2473,72.2448 ,72.2453,72.2438,72.2425,72.241,72.2394 ,72.2368,72.2355,72.2334,72.2314, 72.2296,72.2283,72.2269,72.2254,72.2237 ,72.2233,72.2211,72.2204,72.2201,72.219 ,72.2175,72.2165,72.2147,72.213,72.2121 ,72.1878)
ORBIT_NUMBER = 4232
ORBITAL_ECCENTRICITY = 0.571
ORBITAL_INCLINATION = 86.7
ORBITAL_SEMIMAJOR_AXIS = 8607.5
PERIAPSIS_ALTITUDE = 296.44
PERIAPSIS_ARGUMENT_ANGLE = 332.6
PERIAPSIS_TIME = 2007-04-22T16:45:40.000Z
SPACECRAFT_ORIENTATION = (0.0,1.0,0.0)
^MEX_ORIENTATION_DESC = "MEX_ORIENTATION_DESC.TXT"
SPACECRAFT_POINTING_MODE = NADIR
^MEX_POINTING_DESC = "MEX_POINTING_DESC.TXT"
RIGHT_ASCENSION = -1e+32
DECLINATION = -1e+32
OFFSET_ANGLE = -1e+32
SPACECRAFT_SOLAR_DISTANCE = 2.08608e+08
TARGET_NAME = MARS
/* CAMERA DATA ELEMENTS */
DETECTOR_TEMPERATURE = 16.7393
FOCAL_PLANE_TEMPERATURE = 9.195
INST_CMPRS_NAME = "DISCRETE COSINE TRANSFORMATION (DCT)"
INST_CMPRS_RATIO = 15.7639
INST_CMPRS_QUALITY = 0
INST_CMPRS_QUANTZ_TBL_ID = 0
INSTRUMENT_TEMPERATURE = 11.4379
LENS_TEMPERATURE = 9.3989
MACROPIXEL_SIZE = 4
MISSING_FRAMES = 0
PIXEL_SUBSAMPLING_FLAG = N
SIGNAL_CHAIN_ID = 3
/* RADIOMETRIC DATA ELEMENTS */
BANDWIDTH = 174.0
CENTER_FILTER_WAVELENGTH = 675.0
RADIANCE_OFFSET = 5.69841
RADIANCE_SCALING_FACTOR = 0.0168047
REFLECTANCE_SCALING_FACTOR = 0.000393351
MEX:REFLECTANCE_OFFSET = 0.133384
/* IMAGE OBJECT DEFINITIONS */
OBJECT = IMAGE
  INTERCHANGE_FORMAT = BINARY
  LINES = 14417
  LINE_SAMPLES = 1353
  SAMPLE_TYPE = UNSIGNED_INTEGER
  SAMPLE_BITS = 8
  BANDS = 1
  BAND_STORAGE_TYPE = BAND_SEQUENTIAL
  MAXIMUM = 254
  MEAN = 115.527
  MINIMUM = 1
  STANDARD_DEVIATION = 55.5041
END_OBJECT = IMAGE
/* MAP OBJECT DEFINITIONS */
OBJECT = IMAGE_MAP_PROJECTION
  ^DATA_SET_MAP_PROJECTION_CATALOG= "DSMAP.CAT"
  A_AXIS_RADIUS = 3396.0
  B_AXIS_RADIUS = 3396.0
  C_AXIS_RADIUS = 3396.0
  CENTER_LATITUDE = 0.0
  CENTER_LONGITUDE = 72.0
  COORDINATE_SYSTEM_NAME = PLANETOGRAPHIC
  COORDINATE_SYSTEM_TYPE = "BODY-FIXED ROTATING"
  EASTERNMOST_LONGITUDE = 72.2731
  FIRST_STANDARD_PARALLEL = "N/A"
  LINE_FIRST_PIXEL = 1
  LINE_LAST_PIXEL = 14417
  LINE_PROJECTION_OFFSET = -22255.625
  MAP_PROJECTION_ROTATION = 0.0
  MAP_PROJECTION_TYPE = SINUSOIDAL
  MAP_RESOLUTION = 1185.42760773333
  MAP_SCALE = 0.05
  MAXIMUM_LATITUDE = -19.0208
  MINIMUM_LATITUDE = -30.9485
  POSITIVE_LONGITUDE_DIRECTION = EAST
  REFERENCE_LATITUDE = "N/A"
  REFERENCE_LONGITUDE = "N/A"
  SAMPLE_FIRST_PIXEL = 1
  SAMPLE_LAST_PIXEL = 1353
  SAMPLE_PROJECTION_OFFSET = 1053.375
  SECOND_STANDARD_PARALLEL = "N/A"
  WESTERNMOST_LONGITUDE = 70.97029999999999
END_OBJECT = IMAGE_MAP_PROJECTION
END
