PDS_VERSION_ID = PDS3
/* FILE DATA ELEMENTS */
RECORD_TYPE = UNDEFINED
/* POINTERS TO DATA OBJECTS */
^IMAGE = ("H4231_0007_SR4.TIF")
/* IDENTIFICATION DATA ELEMENTS */
DATA_SET_ID = "MEX-M-HRSC-4-REFDR-MAPPROJECT-EXT1-V4.0"
DATA_SET_NAME = "MARS EXPRESS HRSC MAP PROJECTED REFDR EXTENSION1 V4.0"
DETECTOR_ID = MEX_HRSC_SRC
EVENT_TYPE = "MARS-LOCAL-STEREO-Vo-Mw"
INSTRUMENT_HOST_ID = MEX
INSTRUMENT_HOST_NAME = "MARS EXPRESS"
INSTRUMENT_ID = HRSC
INSTRUMENT_NAME = "HIGH RESOLUTION STEREO CAMERA"
MISSION_NAME = "MARS EXPRESS"
MISSION_PHASE_NAME = ME_Phase_7
PROCESSING_LEVEL_ID = 4
PRODUCT_CREATION_TIME = 2023-02-10T03:49:22.000Z
PRODUCT_ID = "H4231_0007_SR4.TIF"
RELEASE_ID = 0006
REVISION_ID = 0000
/* QUALITY DATA ELEMENTS */
DATA_QUALITY_ID = 1
DATA_QUALITY_DESC = "Data calculated based on original SPICE kernels"
/* TIME DATA ELEMENTS */
SPACECRAFT_CLOCK_START_COUNT = "1/0125316389.07307"
SPACECRAFT_CLOCK_STOP_COUNT = "1/0125316670.11581"
IMAGE_TIME = 2007-04-22T10:08:45.437Z
START_TIME = 2007-04-22T10:08:45.435Z
STOP_TIME = 2007-04-22T10:08:45.440Z
/* ORBITAL DATA ELEMENTS */
ASCENDING_NODE_LONGITUDE = 139.67
MAXIMUM_RESOLUTION = 0.003843
FOOTPRINT_POINT_LATITUDE = (-3.08608,-3.08205,-3.07939,-3.07738, -3.07452,-3.07245,-3.06927,-3.06687, -3.06343,-3.06115,-3.05875,-3.05564, -3.05317,-3.04999,-3.04571,-3.04129, -3.03824,-3.03487,-3.02974,-3.02461, -3.02078,-3.02072,-3.02072,-3.02069, -3.02067,-3.02064,-3.02062,-3.02059, -3.02057,-3.02054,-3.02051,-3.02049, -3.02046,-3.02044,-3.02041,-3.02039, -3.02036,-3.02034,-3.02031,-3.02029, -3.02026,-3.02024,-3.02021,-3.02019, -3.02016,-3.02014,-3.02011,-3.02009, -3.02008,-3.02007,-3.02423,-3.02683, -3.03093,-3.03294,-3.03619,-3.03924, -3.04145,-3.0447,-3.04951,-3.05302, -3.05692,-3.05952,-3.06153,-3.06511, -3.06836,-3.07063,-3.07407,-3.07745, -3.07992,-3.08304,-3.08544,-3.08551, -3.08551,-3.08553,-3.08556,-3.08558, -3.0856,-3.08562,-3.08564,-3.08567, -3.08569,-3.08571,-3.08573,-3.08576, -3.08578,-3.0858,-3.08582,-3.08585, -3.08587,-3.08589,-3.08591,-3.08593, -3.08596,-3.08598,-3.086,-3.08602, -3.08605,-3.08607,-3.08607,-3.08608)
FOOTPRINT_POINT_LONGITUDE = (170.632,170.632,170.632,170.632, 170.632,170.632,170.632,170.632,170.632 ,170.632,170.632,170.632,170.632, 170.632,170.632,170.632,170.632,170.632 ,170.632,170.632,170.632,170.632, 170.632,170.634,170.637,170.64,170.642, 170.645,170.648,170.65,170.653,170.655, 170.658,170.661,170.663,170.666,170.669 ,170.671,170.674,170.676,170.679, 170.682,170.684,170.687,170.689,170.692 ,170.695,170.697,170.698,170.698, 170.698,170.698,170.699,170.699,170.699 ,170.699,170.699,170.699,170.699, 170.699,170.699,170.699,170.699,170.699 ,170.699,170.699,170.699,170.699, 170.699,170.699,170.699,170.699,170.699 ,170.696,170.694,170.691,170.688, 170.686,170.683,170.681,170.678,170.675 ,170.673,170.67,170.667,170.665,170.662 ,170.66,170.657,170.654,170.652,170.649 ,170.646,170.644,170.641,170.639, 170.636,170.633,170.633,170.632)
ORBIT_NUMBER = 4231
ORBITAL_ECCENTRICITY = 0.571
ORBITAL_INCLINATION = 86.69
ORBITAL_SEMIMAJOR_AXIS = 8601.59
PERIAPSIS_ALTITUDE = 297.55
PERIAPSIS_ARGUMENT_ANGLE = 332.8
PERIAPSIS_TIME = 2007-04-22T10:02:34.000Z
SPACECRAFT_ORIENTATION = (0.0,1.0,0.0)
^MEX_ORIENTATION_DESC = "MEX_ORIENTATION_DESC.TXT"
SPACECRAFT_POINTING_MODE = ACROSSTRACK
^MEX_POINTING_DESC = "MEX_POINTING_DESC.TXT"
RIGHT_ASCENSION = -1e+32
DECLINATION = -1e+32
OFFSET_ANGLE = -0.75
SPACECRAFT_SOLAR_DISTANCE = 2.08633e+08
TARGET_NAME = MARS
/* CAMERA DATA ELEMENTS */
BUFFER_MODE_ID = BUFFER_8
EXPOSURE_DURATION = 5.04
INST_CMPRS_NAME = NONE
INST_CMPRS_RATIO = 1.0
INST_CMPRS_QUALITY = -2147483648
INST_CMPRS_QUANTZ_TBL_ID = -2147483648
INSTRUMENT_TEMPERATURE = 10.5794
MISSING_FRAMES = 0
START_BIT = 0
/* RADIOMETRIC DATA ELEMENTS */
BANDWIDTH = 250.0
CENTER_FILTER_WAVELENGTH = 600.0
RADIANCE_OFFSET = -9.99e+31
RADIANCE_SCALING_FACTOR = -9.99e+31
REFLECTANCE_SCALING_FACTOR = -9.99e+31
MEX:REFLECTANCE_OFFSET = -9.99e+31
/* IMAGE OBJECT DEFINITIONS */
OBJECT = IMAGE
  INTERCHANGE_FORMAT = BINARY
  LINES = 823
  LINE_SAMPLES = 837
  SAMPLE_TYPE = UNSIGNED_INTEGER
  SAMPLE_BITS = 8
  BANDS = 1
  BAND_STORAGE_TYPE = BAND_SEQUENTIAL
  MAXIMUM = 243
  MEAN = 157.645
  MINIMUM = 20
  STANDARD_DEVIATION = 17.438
END_OBJECT = IMAGE
/* MAP OBJECT DEFINITIONS */
OBJECT = IMAGE_MAP_PROJECTION
  ^DATA_SET_MAP_PROJECTION_CATALOG= "DSMAP.CAT"
  A_AXIS_RADIUS = 3396.19
  B_AXIS_RADIUS = 3396.19
  C_AXIS_RADIUS = 3396.19
  CENTER_LATITUDE = 0.0
  CENTER_LONGITUDE = 171.0
  COORDINATE_SYSTEM_NAME = PLANETOGRAPHIC
  COORDINATE_SYSTEM_TYPE = "BODY-FIXED ROTATING"
  EASTERNMOST_LONGITUDE = 170.699
  FIRST_STANDARD_PARALLEL = "N/A"
  LINE_FIRST_PIXEL = 1
  LINE_LAST_PIXEL = 823
  LINE_PROJECTION_OFFSET = -35783.0
  MAP_PROJECTION_ROTATION = 0.0
  MAP_PROJECTION_TYPE = SINUSOIDAL
  MAP_RESOLUTION = 11854.9393024378
  MAP_SCALE = 0.005
  MAXIMUM_LATITUDE = -3.02007
  MINIMUM_LATITUDE = -3.08608
  POSITIVE_LONGITUDE_DIRECTION = EAST
  REFERENCE_LATITUDE = "N/A"
  REFERENCE_LONGITUDE = "N/A"
  SAMPLE_FIRST_PIXEL = 1
  SAMPLE_LAST_PIXEL = 837
  SAMPLE_PROJECTION_OFFSET = 4382.0
  SECOND_STANDARD_PARALLEL = "N/A"
  WESTERNMOST_LONGITUDE = 170.632
END_OBJECT = IMAGE_MAP_PROJECTION
END
