PDS_VERSION_ID = PDS3
/* FILE DATA ELEMENTS */
RECORD_TYPE = UNDEFINED
/* POINTERS TO DATA OBJECTS */
^IMAGE = ("H4231_0005_SR4.TIF")
/* IDENTIFICATION DATA ELEMENTS */
DATA_SET_ID = "MEX-M-HRSC-4-REFDR-MAPPROJECT-EXT1-V4.0"
DATA_SET_NAME = "MARS EXPRESS HRSC MAP PROJECTED REFDR EXTENSION1 V4.0"
DETECTOR_ID = MEX_HRSC_SRC
EVENT_TYPE = "MARS-LOCAL-STEREO-Vo-Mw"
INSTRUMENT_HOST_ID = MEX
INSTRUMENT_HOST_NAME = "MARS EXPRESS"
INSTRUMENT_ID = HRSC
INSTRUMENT_NAME = "HIGH RESOLUTION STEREO CAMERA"
MISSION_NAME = "MARS EXPRESS"
MISSION_PHASE_NAME = ME_Phase_7
PROCESSING_LEVEL_ID = 4
PRODUCT_CREATION_TIME = 2023-02-10T03:49:22.000Z
PRODUCT_ID = "H4231_0005_SR4.TIF"
RELEASE_ID = 0006
REVISION_ID = 0000
/* QUALITY DATA ELEMENTS */
DATA_QUALITY_ID = 1
DATA_QUALITY_DESC = "Data calculated based on original SPICE kernels"
/* TIME DATA ELEMENTS */
SPACECRAFT_CLOCK_START_COUNT = "1/0125316389.07307"
SPACECRAFT_CLOCK_STOP_COUNT = "1/0125316670.11581"
IMAGE_TIME = 2007-04-22T10:08:44.347Z
START_TIME = 2007-04-22T10:08:44.345Z
STOP_TIME = 2007-04-22T10:08:44.350Z
/* ORBITAL DATA ELEMENTS */
ASCENDING_NODE_LONGITUDE = 139.67
MAXIMUM_RESOLUTION = 0.003837
FOOTPRINT_POINT_LATITUDE = (-3.15376,-3.15065,-3.14689,-3.14384, -3.14164,-3.13898,-3.13464,-3.13237, -3.12946,-3.12615,-3.12213,-3.11961, -3.11734,-3.11494,-3.11176,-3.10891, -3.10457,-3.10133,-3.09906,-3.09595, -3.09174,-3.08857,-3.0885,-3.0885, -3.08848,-3.08845,-3.08843,-3.0884, -3.08838,-3.08835,-3.08833,-3.0883, -3.08827,-3.08825,-3.08822,-3.0882, -3.08817,-3.08815,-3.08812,-3.0881, -3.08807,-3.08805,-3.08802,-3.088, -3.08797,-3.08795,-3.08792,-3.0879, -3.08787,-3.08787,-3.08786,-3.09046, -3.09396,-3.09617,-3.10019,-3.10356, -3.1057,-3.10998,-3.11297,-3.11511, -3.11712,-3.12023,-3.12354,-3.12769, -3.13003,-3.13314,-3.13704,-3.13983, -3.14456,-3.14865,-3.15313,-3.15319, -3.15319,-3.15321,-3.15324,-3.15326, -3.15328,-3.1533,-3.15332,-3.15335, -3.15337,-3.15339,-3.15341,-3.15344, -3.15346,-3.15348,-3.1535,-3.15353, -3.15355,-3.15357,-3.15359,-3.15361, -3.15364,-3.15366,-3.15368,-3.1537, -3.15372,-3.15375,-3.15375,-3.15376)
FOOTPRINT_POINT_LONGITUDE = (170.633,170.633,170.633,170.633, 170.633,170.633,170.633,170.633,170.633 ,170.633,170.633,170.633,170.633, 170.633,170.633,170.633,170.633,170.633 ,170.632,170.632,170.632,170.632, 170.632,170.632,170.635,170.638,170.64, 170.643,170.646,170.648,170.651,170.653 ,170.656,170.659,170.661,170.664, 170.666,170.669,170.672,170.674,170.677 ,170.68,170.682,170.685,170.687,170.69, 170.693,170.695,170.698,170.699,170.699 ,170.699,170.699,170.699,170.699, 170.699,170.699,170.699,170.699,170.699 ,170.699,170.699,170.699,170.699, 170.699,170.699,170.699,170.699,170.699 ,170.699,170.7,170.7,170.699,170.697, 170.694,170.692,170.689,170.686,170.684 ,170.681,170.679,170.676,170.673, 170.671,170.668,170.665,170.663,170.66, 170.658,170.655,170.652,170.65,170.647, 170.645,170.642,170.639,170.637,170.634 ,170.633,170.633)
ORBIT_NUMBER = 4231
ORBITAL_ECCENTRICITY = 0.571
ORBITAL_INCLINATION = 86.69
ORBITAL_SEMIMAJOR_AXIS = 8601.59
PERIAPSIS_ALTITUDE = 297.55
PERIAPSIS_ARGUMENT_ANGLE = 332.8
PERIAPSIS_TIME = 2007-04-22T10:02:34.000Z
SPACECRAFT_ORIENTATION = (0.0,1.0,0.0)
^MEX_ORIENTATION_DESC = "MEX_ORIENTATION_DESC.TXT"
SPACECRAFT_POINTING_MODE = ACROSSTRACK
^MEX_POINTING_DESC = "MEX_POINTING_DESC.TXT"
RIGHT_ASCENSION = -1e+32
DECLINATION = -1e+32
OFFSET_ANGLE = -0.75
SPACECRAFT_SOLAR_DISTANCE = 2.08633e+08
TARGET_NAME = MARS
/* CAMERA DATA ELEMENTS */
BUFFER_MODE_ID = BUFFER_8
EXPOSURE_DURATION = 5.04
INST_CMPRS_NAME = NONE
INST_CMPRS_RATIO = 1.0
INST_CMPRS_QUALITY = -2147483648
INST_CMPRS_QUANTZ_TBL_ID = -2147483648
INSTRUMENT_TEMPERATURE = 10.5536
MISSING_FRAMES = 0
START_BIT = 0
/* RADIOMETRIC DATA ELEMENTS */
BANDWIDTH = 250.0
CENTER_FILTER_WAVELENGTH = 600.0
RADIANCE_OFFSET = -9.99e+31
RADIANCE_SCALING_FACTOR = -9.99e+31
REFLECTANCE_SCALING_FACTOR = -9.99e+31
MEX:REFLECTANCE_OFFSET = -9.99e+31
/* IMAGE OBJECT DEFINITIONS */
OBJECT = IMAGE
  INTERCHANGE_FORMAT = BINARY
  LINES = 822
  LINE_SAMPLES = 835
  SAMPLE_TYPE = UNSIGNED_INTEGER
  SAMPLE_BITS = 8
  BANDS = 1
  BAND_STORAGE_TYPE = BAND_SEQUENTIAL
  MAXIMUM = 240
  MEAN = 159.058
  MINIMUM = 38
  STANDARD_DEVIATION = 17.4993
END_OBJECT = IMAGE
/* MAP OBJECT DEFINITIONS */
OBJECT = IMAGE_MAP_PROJECTION
  ^DATA_SET_MAP_PROJECTION_CATALOG= "DSMAP.CAT"
  A_AXIS_RADIUS = 3396.19
  B_AXIS_RADIUS = 3396.19
  C_AXIS_RADIUS = 3396.19
  CENTER_LATITUDE = 0.0
  CENTER_LONGITUDE = 171.0
  COORDINATE_SYSTEM_NAME = PLANETOGRAPHIC
  COORDINATE_SYSTEM_TYPE = "BODY-FIXED ROTATING"
  EASTERNMOST_LONGITUDE = 170.7
  FIRST_STANDARD_PARALLEL = "N/A"
  LINE_FIRST_PIXEL = 1
  LINE_LAST_PIXEL = 822
  LINE_PROJECTION_OFFSET = -36586.0
  MAP_PROJECTION_ROTATION = 0.0
  MAP_PROJECTION_TYPE = SINUSOIDAL
  MAP_RESOLUTION = 11854.9393024378
  MAP_SCALE = 0.005
  MAXIMUM_LATITUDE = -3.08786
  MINIMUM_LATITUDE = -3.15376
  POSITIVE_LONGITUDE_DIRECTION = EAST
  REFERENCE_LATITUDE = "N/A"
  REFERENCE_LONGITUDE = "N/A"
  SAMPLE_FIRST_PIXEL = 1
  SAMPLE_LAST_PIXEL = 835
  SAMPLE_PROJECTION_OFFSET = 4374.0
  SECOND_STANDARD_PARALLEL = "N/A"
  WESTERNMOST_LONGITUDE = 170.632
END_OBJECT = IMAGE_MAP_PROJECTION
END
