PDS_VERSION_ID = PDS3
/* FILE DATA ELEMENTS */
RECORD_TYPE = UNDEFINED
/* POINTERS TO DATA OBJECTS */
^IMAGE = ("H4231_0001_RE4.TIF")
/* IDENTIFICATION DATA ELEMENTS */
DATA_SET_ID = "MEX-M-HRSC-4-REFDR-MAPPROJECT-EXT1-V4.0"
DATA_SET_NAME = "MARS EXPRESS HRSC MAP PROJECTED REFDR EXTENSION1 V4.0"
DETECTOR_ID = MEX_HRSC_RED
EVENT_TYPE = "MARS-LOCAL-STEREO-Vo-Mw"
INSTRUMENT_HOST_ID = MEX
INSTRUMENT_HOST_NAME = "MARS EXPRESS"
INSTRUMENT_ID = HRSC
INSTRUMENT_NAME = "HIGH RESOLUTION STEREO CAMERA"
MISSION_NAME = "MARS EXPRESS"
MISSION_PHASE_NAME = ME_Phase_7
PROCESSING_LEVEL_ID = 4
PRODUCT_CREATION_TIME = 2023-02-10T03:49:22.000Z
PRODUCT_ID = "H4231_0001_RE4.TIF"
RELEASE_ID = 0006
REVISION_ID = 0000
/* QUALITY DATA ELEMENTS */
DATA_QUALITY_ID = 1
DATA_QUALITY_DESC = "Data calculated based on original SPICE kernels"
/* TIME DATA ELEMENTS */
SPACECRAFT_CLOCK_START_COUNT = "1/0125316389.07307"
SPACECRAFT_CLOCK_STOP_COUNT = "1/0125316670.11581"
START_TIME = 2007-04-22T10:06:38.714Z
STOP_TIME = 2007-04-22T10:09:44.518Z
/* ORBITAL DATA ELEMENTS */
ASCENDING_NODE_LONGITUDE = 139.67
MAXIMUM_RESOLUTION = 0.1174
FOOTPRINT_POINT_LATITUDE = (-9.32914,-9.35342,-9.3706,-9.38638, -9.38685,-9.36513,-8.94999,-8.43165, -8.01746,-7.50032,-7.0872,-6.77759, -6.54074,-6.29498,-6.04962,-5.80388, -5.55766,-5.31151,-5.06503,-4.81912, -4.57336,-4.32775,-4.08248,-3.8379, -3.59321,-3.22587,-2.98144,-2.73721, -2.4931,-2.24917,-2.0055,-1.63376, -1.38389,-1.13412,-0.884592,-0.630703, -0.375023,-0.119548,0.135727,0.526942, 0.788219,1.04927,1.44801,1.715,1.98169, 2.38913,2.66171,2.7979,2.81405,2.82313, 2.83261,2.84243,2.8527,2.86332,2.88066, 2.88138,2.87954,2.60688,2.33395,2.06231 ,1.79542,1.52828,1.1289,0.867645, 0.606178,0.214363,-0.0411076,-0.296814, -0.553024,-0.80782,-1.0577,-1.30772, -1.55758,-1.93006,-2.29592,-2.53999, -2.78402,-3.15079,-3.39538,-3.63992, -3.88505,-4.13023,-4.37573,-4.6217, -4.99037,-5.23611,-5.48222,-5.7289, -5.9758,-6.22181,-6.467,-6.80903, -7.32603,-7.73914,-8.15415,-8.56929, -8.77727,-9.1932,-9.29658,-9.32914)
FOOTPRINT_POINT_LONGITUDE = (171.341,170.852,170.479,170.112, 170.101,170.097,170.09,170.082,170.074, 170.065,170.058,170.052,170.047,170.042 ,170.037,170.033,170.028,170.023, 170.018,170.012,170.007,170.002,169.997 ,169.991,169.986,169.977,169.972, 169.966,169.96,169.955,169.949,169.94, 169.933,169.927,169.921,169.914,169.908 ,169.901,169.894,169.884,169.877,169.87 ,169.859,169.851,169.844,169.832, 169.824,169.82,169.819,170.055,170.295, 170.536,170.779,171.025,171.411,171.427 ,171.437,171.434,171.431,171.429, 171.426,171.423,171.419,171.417,171.414 ,171.411,171.409,171.406,171.404, 171.402,171.4,171.398,171.396,171.393, 171.391,171.389,171.388,171.385,171.384 ,171.383,171.381,171.38,171.378,171.377 ,171.375,171.373,171.372,171.37,171.369 ,171.368,171.368,171.367,171.365, 171.364,171.362,171.36,171.359,171.357, 171.357,171.341)
ORBIT_NUMBER = 4231
ORBITAL_ECCENTRICITY = 0.571
ORBITAL_INCLINATION = 86.69
ORBITAL_SEMIMAJOR_AXIS = 8601.59
PERIAPSIS_ALTITUDE = 297.55
PERIAPSIS_ARGUMENT_ANGLE = 332.8
PERIAPSIS_TIME = 2007-04-22T10:02:34.000Z
SPACECRAFT_ORIENTATION = (0.0,1.0,0.0)
^MEX_ORIENTATION_DESC = "MEX_ORIENTATION_DESC.TXT"
SPACECRAFT_POINTING_MODE = ACROSSTRACK
^MEX_POINTING_DESC = "MEX_POINTING_DESC.TXT"
RIGHT_ASCENSION = -1e+32
DECLINATION = -1e+32
OFFSET_ANGLE = -0.75
SPACECRAFT_SOLAR_DISTANCE = 2.08633e+08
TARGET_NAME = MARS
/* CAMERA DATA ELEMENTS */
DETECTOR_TEMPERATURE = 20.8173
FOCAL_PLANE_TEMPERATURE = 9.195
INST_CMPRS_NAME = "DISCRETE COSINE TRANSFORMATION (DCT)"
INST_CMPRS_RATIO = 17.1732
INST_CMPRS_QUALITY = 0
INST_CMPRS_QUANTZ_TBL_ID = 0
INSTRUMENT_TEMPERATURE = 13.273
LENS_TEMPERATURE = 9.6028
MACROPIXEL_SIZE = 8
MISSING_FRAMES = 0
PIXEL_SUBSAMPLING_FLAG = N
SIGNAL_CHAIN_ID = 2
/* RADIOMETRIC DATA ELEMENTS */
BANDWIDTH = 48.0
CENTER_FILTER_WAVELENGTH = 748.0
RADIANCE_OFFSET = 1.92188
RADIANCE_SCALING_FACTOR = 0.00427936
REFLECTANCE_SCALING_FACTOR = 0.00042508
MEX:REFLECTANCE_OFFSET = 0.190905
/* IMAGE OBJECT DEFINITIONS */
OBJECT = IMAGE
  INTERCHANGE_FORMAT = BINARY
  LINES = 7230
  LINE_SAMPLES = 1018
  SAMPLE_TYPE = UNSIGNED_INTEGER
  SAMPLE_BITS = 8
  BANDS = 1
  BAND_STORAGE_TYPE = BAND_SEQUENTIAL
  MAXIMUM = 255
  MEAN = 134.787
  MINIMUM = 1
  STANDARD_DEVIATION = 36.4158
END_OBJECT = IMAGE
/* MAP OBJECT DEFINITIONS */
OBJECT = IMAGE_MAP_PROJECTION
  ^DATA_SET_MAP_PROJECTION_CATALOG= "DSMAP.CAT"
  A_AXIS_RADIUS = 3396.0
  B_AXIS_RADIUS = 3396.0
  C_AXIS_RADIUS = 3396.0
  CENTER_LATITUDE = 0.0
  CENTER_LONGITUDE = 171.0
  COORDINATE_SYSTEM_NAME = PLANETOGRAPHIC
  COORDINATE_SYSTEM_TYPE = "BODY-FIXED ROTATING"
  EASTERNMOST_LONGITUDE = 171.437
  FIRST_STANDARD_PARALLEL = "N/A"
  LINE_FIRST_PIXEL = 1
  LINE_LAST_PIXEL = 7230
  LINE_PROJECTION_OFFSET = 1672.3125
  MAP_PROJECTION_ROTATION = 0.0
  MAP_PROJECTION_TYPE = SINUSOIDAL
  MAP_RESOLUTION = 592.713803866667
  MAP_SCALE = 0.1
  MAXIMUM_LATITUDE = 2.88138
  MINIMUM_LATITUDE = -9.386850000000001
  POSITIVE_LONGITUDE_DIRECTION = EAST
  REFERENCE_LATITUDE = "N/A"
  REFERENCE_LONGITUDE = "N/A"
  SAMPLE_FIRST_PIXEL = 1
  SAMPLE_LAST_PIXEL = 1018
  SAMPLE_PROJECTION_OFFSET = 733.1875
  SECOND_STANDARD_PARALLEL = "N/A"
  WESTERNMOST_LONGITUDE = 169.819
END_OBJECT = IMAGE_MAP_PROJECTION
END
