PDS_VERSION_ID = PDS3
/* FILE DATA ELEMENTS */
RECORD_TYPE = UNDEFINED
/* POINTERS TO DATA OBJECTS */
^IMAGE = ("H4210_0001_RE4.TIF")
/* IDENTIFICATION DATA ELEMENTS */
DATA_SET_ID = "MEX-M-HRSC-4-REFDR-MAPPROJECT-EXT1-V4.0"
DATA_SET_NAME = "MARS EXPRESS HRSC MAP PROJECTED REFDR EXTENSION1 V4.0"
DETECTOR_ID = MEX_HRSC_RED
EVENT_TYPE = "MARS-REGIONAL-MAPPING-Im-La-Ot"
INSTRUMENT_HOST_ID = MEX
INSTRUMENT_HOST_NAME = "MARS EXPRESS"
INSTRUMENT_ID = HRSC
INSTRUMENT_NAME = "HIGH RESOLUTION STEREO CAMERA"
MISSION_NAME = "MARS EXPRESS"
MISSION_PHASE_NAME = ME_Phase_7
PROCESSING_LEVEL_ID = 4
PRODUCT_CREATION_TIME = 2023-02-10T03:49:22.000Z
PRODUCT_ID = "H4210_0001_RE4.TIF"
RELEASE_ID = 0006
REVISION_ID = 0000
/* QUALITY DATA ELEMENTS */
DATA_QUALITY_ID = 1
DATA_QUALITY_DESC = "Data calculated based on original SPICE kernels"
/* TIME DATA ELEMENTS */
SPACECRAFT_CLOCK_START_COUNT = "1/0124808045.07296"
SPACECRAFT_CLOCK_STOP_COUNT = "1/0124808273.07924"
START_TIME = 2007-04-16T12:54:14.390Z
STOP_TIME = 2007-04-16T12:57:06.707Z
/* ORBITAL DATA ELEMENTS */
ASCENDING_NODE_LONGITUDE = 140.11
MAXIMUM_RESOLUTION = 0.0496
FOOTPRINT_POINT_LATITUDE = (-30.6685,-30.666,-30.6607,-30.652, -30.6517,-30.5918,-30.2559,-30.0289, -29.8018,-29.5758,-29.352,-29.0099, -28.7805,-28.5482,-28.3188,-27.9747, -27.6309,-27.4107,-27.0876,-26.8678, -26.6452,-26.4218,-26.199,-25.9766, -25.7544,-25.5307,-25.1962,-24.9726, -24.7497,-24.2022,-23.8636,-23.6354, -23.4094,-23.1836,-22.9611,-22.7378, -22.5103,-22.2765,-22.0512,-21.8268, -21.603,-21.3777,-21.1602,-20.9396, -20.72,-20.3791,-20.1531,-19.9276, -19.7029,-19.4769,-19.363,-19.3523, -19.3547,-19.3556,-19.3556,-19.3564, -19.6963,-19.922,-20.1493,-20.3748, -20.6008,-20.8258,-21.0426,-21.2674, -21.606,-21.8323,-22.0578,-22.285, -22.5114,-22.8449,-23.0699,-23.2945, -23.524,-23.7512,-23.9723,-24.1947, -24.528,-24.8628,-25.2011,-25.5375, -25.7626,-25.9848,-26.2087,-26.5447, -26.7603,-26.9797,-27.3051,-27.6366, -27.861,-28.0911,-28.323,-28.667, -28.8966,-29.2359,-29.5799,-29.8142, -30.1513,-30.4896,-30.6026,-30.6685)
FOOTPRINT_POINT_LONGITUDE = (74.1257,73.8079,73.3725,72.8781, 72.8663,72.8407,72.853,72.8599,72.8668, 72.874,72.882,72.8915,72.8972,72.9018, 72.9074,72.9157,72.9238,72.9293,72.9403 ,72.9458,72.9503,72.9544,72.9587,72.963 ,72.9674,72.9712,72.9771,72.9808, 72.9846,72.9977,73.0016,73.0032,73.0055 ,73.0079,73.0115,73.0147,73.0162, 73.0154,73.0177,73.0202,73.023,73.025, 73.03,73.0337,73.0377,73.0394,73.0408, 73.0425,73.0443,73.0457,73.046,73.046, 73.7739,74.1331,74.1433,74.1468,74.1462 ,74.1462,74.1455,74.1455,74.1452, 74.1453,74.1485,74.1486,74.1482,74.1477 ,74.1474,74.1465,74.1458,74.147,74.1468 ,74.1466,74.1445,74.1433,74.1443, 74.1449,74.1457,74.1458,74.1444,74.1437 ,74.1428,74.143,74.1424,74.1414,74.144, 74.1451,74.148,74.1484,74.1502,74.1498, 74.1487,74.1485,74.1481,74.1495,74.1487 ,74.146,74.1478,74.1489,74.1492, 74.1257)
ORBIT_NUMBER = 4210
ORBITAL_ECCENTRICITY = 0.571
ORBITAL_INCLINATION = 86.7
ORBITAL_SEMIMAJOR_AXIS = 8612.94
PERIAPSIS_ALTITUDE = 297.81
PERIAPSIS_ARGUMENT_ANGLE = 336.47
PERIAPSIS_TIME = 2007-04-16T12:56:26.000Z
SPACECRAFT_ORIENTATION = (0.0,1.0,0.0)
^MEX_ORIENTATION_DESC = "MEX_ORIENTATION_DESC.TXT"
SPACECRAFT_POINTING_MODE = NADIR
^MEX_POINTING_DESC = "MEX_POINTING_DESC.TXT"
RIGHT_ASCENSION = -1e+32
DECLINATION = -1e+32
OFFSET_ANGLE = -1e+32
SPACECRAFT_SOLAR_DISTANCE = 2.0919e+08
TARGET_NAME = MARS
/* CAMERA DATA ELEMENTS */
DETECTOR_TEMPERATURE = 22.6524
FOCAL_PLANE_TEMPERATURE = 9.6028
INST_CMPRS_NAME = "DISCRETE COSINE TRANSFORMATION (DCT)"
INST_CMPRS_RATIO = 18.2949
INST_CMPRS_QUALITY = 0
INST_CMPRS_QUANTZ_TBL_ID = 0
INSTRUMENT_TEMPERATURE = 15.1081
LENS_TEMPERATURE = 10.2145
MACROPIXEL_SIZE = 4
MISSING_FRAMES = 0
PIXEL_SUBSAMPLING_FLAG = N
SIGNAL_CHAIN_ID = 2
/* RADIOMETRIC DATA ELEMENTS */
BANDWIDTH = 48.0
CENTER_FILTER_WAVELENGTH = 748.0
RADIANCE_OFFSET = 1.83594
RADIANCE_SCALING_FACTOR = 0.00314473
REFLECTANCE_SCALING_FACTOR = 0.000314044
MEX:REFLECTANCE_OFFSET = 0.183344
/* IMAGE OBJECT DEFINITIONS */
OBJECT = IMAGE
  INTERCHANGE_FORMAT = BINARY
  LINES = 13400
  LINE_SAMPLES = 1341
  SAMPLE_TYPE = UNSIGNED_INTEGER
  SAMPLE_BITS = 8
  BANDS = 1
  BAND_STORAGE_TYPE = BAND_SEQUENTIAL
  MAXIMUM = 255
  MEAN = 104.407
  MINIMUM = 1
  STANDARD_DEVIATION = 35.3003
END_OBJECT = IMAGE
/* MAP OBJECT DEFINITIONS */
OBJECT = IMAGE_MAP_PROJECTION
  ^DATA_SET_MAP_PROJECTION_CATALOG= "DSMAP.CAT"
  A_AXIS_RADIUS = 3396.0
  B_AXIS_RADIUS = 3396.0
  C_AXIS_RADIUS = 3396.0
  CENTER_LATITUDE = 0.0
  CENTER_LONGITUDE = 74.0
  COORDINATE_SYSTEM_NAME = PLANETOGRAPHIC
  COORDINATE_SYSTEM_TYPE = "BODY-FIXED ROTATING"
  EASTERNMOST_LONGITUDE = 74.1502
  FIRST_STANDARD_PARALLEL = "N/A"
  LINE_FIRST_PIXEL = 1
  LINE_LAST_PIXEL = 13400
  LINE_PROJECTION_OFFSET = -22922.125
  MAP_PROJECTION_ROTATION = 0.0
  MAP_PROJECTION_TYPE = SINUSOIDAL
  MAP_RESOLUTION = 1185.42760773333
  MAP_SCALE = 0.05
  MAXIMUM_LATITUDE = -19.3523
  MINIMUM_LATITUDE = -30.6685
  POSITIVE_LONGITUDE_DIRECTION = EAST
  REFERENCE_LATITUDE = "N/A"
  REFERENCE_LONGITUDE = "N/A"
  SAMPLE_FIRST_PIXEL = 1
  SAMPLE_LAST_PIXEL = 1341
  SAMPLE_PROJECTION_OFFSET = 1173.375
  SECOND_STANDARD_PARALLEL = "N/A"
  WESTERNMOST_LONGITUDE = 72.8407
END_OBJECT = IMAGE_MAP_PROJECTION
END
