PDS_VERSION_ID = PDS3
/* FILE DATA ELEMENTS */
RECORD_TYPE = UNDEFINED
/* POINTERS TO DATA OBJECTS */
^IMAGE = ("H4207_0000_IR4.TIF")
/* IDENTIFICATION DATA ELEMENTS */
DATA_SET_ID = "MEX-M-HRSC-4-REFDR-MAPPROJECT-EXT1-V4.0"
DATA_SET_NAME = "MARS EXPRESS HRSC MAP PROJECTED REFDR EXTENSION1 V4.0"
DETECTOR_ID = MEX_HRSC_IR
EVENT_TYPE = "MARS-REGIONAL-MAPPING-Im"
INSTRUMENT_HOST_ID = MEX
INSTRUMENT_HOST_NAME = "MARS EXPRESS"
INSTRUMENT_ID = HRSC
INSTRUMENT_NAME = "HIGH RESOLUTION STEREO CAMERA"
MISSION_NAME = "MARS EXPRESS"
MISSION_PHASE_NAME = ME_Phase_7
PROCESSING_LEVEL_ID = 4
PRODUCT_CREATION_TIME = 2023-02-10T03:49:22.000Z
PRODUCT_ID = "H4207_0000_IR4.TIF"
RELEASE_ID = 0006
REVISION_ID = 0000
/* QUALITY DATA ELEMENTS */
DATA_QUALITY_ID = 1
DATA_QUALITY_DESC = "Data calculated based on original SPICE kernels"
/* TIME DATA ELEMENTS */
SPACECRAFT_CLOCK_START_COUNT = "1/0124735499.08424"
SPACECRAFT_CLOCK_STOP_COUNT = "1/0124735679.25775"
START_TIME = 2007-04-15T16:45:53.539Z
STOP_TIME = 2007-04-15T16:47:57.204Z
/* ORBITAL DATA ELEMENTS */
ASCENDING_NODE_LONGITUDE = 140.17
MAXIMUM_RESOLUTION = 0.0995
FOOTPRINT_POINT_LATITUDE = (-28.8518,-28.8491,-28.8457,-28.8427, -28.8404,-28.8403,-28.8535,-28.6912, -28.5278,-28.3647,-28.0423,-27.8799, -27.6364,-27.3926,-27.2301,-27.0675, -26.9047,-26.74,-26.5756,-26.3344, -26.1728,-26.0106,-25.8488,-25.6083, -25.4448,-25.2813,-25.1189,-24.9578, -24.7962,-24.6351,-24.4734,-24.155, -23.9935,-23.8319,-23.6705,-23.5092, -23.2675,-23.1063,-22.8653,-22.7034, -22.5422,-22.2202,-22.0575,-21.8139, -21.5739,-21.2535,-20.7753,-20.6953, -20.6756,-20.6763,-20.6765,-20.6766, -20.677,-20.6768,-20.6768,-20.6783, -20.9188,-21.2394,-21.559,-21.7225, -21.9655,-22.2868,-22.4486,-22.6099, -22.7709,-22.9323,-23.0935,-23.2552, -23.4164,-23.578,-23.8203,-23.9818, -24.1433,-24.3045,-24.5456,-24.7074, -24.9495,-25.1918,-25.435,-25.598, -25.8395,-26.0021,-26.2453,-26.4075, -26.5699,-26.7323,-26.8941,-27.0558, -27.2176,-27.3814,-27.5447,-27.7894, -27.9518,-28.1151,-28.2785,-28.4401, -28.6028,-28.7658,-28.8473,-28.8518)
FOOTPRINT_POINT_LONGITUDE = (8.91335,8.57896,8.22219,7.94362, 7.74278,7.73162,7.71963,7.72331,7.72742 ,7.73136,7.73738,7.74081,7.74586, 7.75091,7.75421,7.7575,7.76082,7.76492, 7.7688,7.77228,7.77491,7.77771,7.78032, 7.78319,7.78641,7.78959,7.79224,7.79432 ,7.79659,7.79862,7.80085,7.80314, 7.80515,7.8072,7.80916,7.81101,7.81365, 7.81539,7.8176,7.81955,7.82121,7.82424, 7.82637,7.8294,7.83092,7.83299,7.83502, 7.83547,7.83558,8.08511,8.26278,8.51353 ,8.69108,8.93092,8.94136,8.94832, 8.94743,8.94617,8.94435,8.94492,8.94476 ,8.94346,8.9432,8.94273,8.94214,8.94164 ,8.94108,8.94066,8.94003,8.93956, 8.93873,8.93815,8.93755,8.93682,8.93537 ,8.93482,8.9337,8.9326,8.93185,8.93165, 8.93013,8.92974,8.92879,8.92819,8.92765 ,8.92709,8.92627,8.92539,8.92456, 8.92449,8.92421,8.92367,8.92295,8.92262 ,8.92233,8.92127,8.92064,8.92012, 8.91984,8.91335)
ORBIT_NUMBER = 4207
ORBITAL_ECCENTRICITY = 0.571
ORBITAL_INCLINATION = 86.68
ORBITAL_SEMIMAJOR_AXIS = 8610.92
PERIAPSIS_ALTITUDE = 298.92
PERIAPSIS_ARGUMENT_ANGLE = 337.0
PERIAPSIS_TIME = 2007-04-15T16:47:01.000Z
SPACECRAFT_ORIENTATION = (0.0,1.0,0.0)
^MEX_ORIENTATION_DESC = "MEX_ORIENTATION_DESC.TXT"
SPACECRAFT_POINTING_MODE = NADIR
^MEX_POINTING_DESC = "MEX_POINTING_DESC.TXT"
RIGHT_ASCENSION = -1e+32
DECLINATION = -1e+32
OFFSET_ANGLE = -1e+32
SPACECRAFT_SOLAR_DISTANCE = 2.09275e+08
TARGET_NAME = MARS
/* CAMERA DATA ELEMENTS */
DETECTOR_TEMPERATURE = 17.9627
FOCAL_PLANE_TEMPERATURE = 9.3989
INST_CMPRS_NAME = "DISCRETE COSINE TRANSFORMATION (DCT)"
INST_CMPRS_RATIO = 10.0675
INST_CMPRS_QUALITY = 0
INST_CMPRS_QUANTZ_TBL_ID = 0
INSTRUMENT_TEMPERATURE = 11.6418
LENS_TEMPERATURE = 9.6028
MACROPIXEL_SIZE = 8
MISSING_FRAMES = 0
PIXEL_SUBSAMPLING_FLAG = N
SIGNAL_CHAIN_ID = 2
/* RADIOMETRIC DATA ELEMENTS */
BANDWIDTH = 81.0
CENTER_FILTER_WAVELENGTH = 955.5
RADIANCE_OFFSET = 1.04368
RADIANCE_SCALING_FACTOR = 0.00397918
REFLECTANCE_SCALING_FACTOR = 0.000375971
MEX:REFLECTANCE_OFFSET = 0.0986119
/* IMAGE OBJECT DEFINITIONS */
OBJECT = IMAGE
  INTERCHANGE_FORMAT = BINARY
  LINES = 4860
  LINE_SAMPLES = 679
  SAMPLE_TYPE = UNSIGNED_INTEGER
  SAMPLE_BITS = 8
  BANDS = 1
  BAND_STORAGE_TYPE = BAND_SEQUENTIAL
  MAXIMUM = 255
  MEAN = 133.851
  MINIMUM = 1
  STANDARD_DEVIATION = 26.1759
END_OBJECT = IMAGE
/* MAP OBJECT DEFINITIONS */
OBJECT = IMAGE_MAP_PROJECTION
  ^DATA_SET_MAP_PROJECTION_CATALOG= "DSMAP.CAT"
  A_AXIS_RADIUS = 3396.0
  B_AXIS_RADIUS = 3396.0
  C_AXIS_RADIUS = 3396.0
  CENTER_LATITUDE = 0.0
  CENTER_LONGITUDE = 8.0
  COORDINATE_SYSTEM_NAME = PLANETOGRAPHIC
  COORDINATE_SYSTEM_TYPE = "BODY-FIXED ROTATING"
  EASTERNMOST_LONGITUDE = 8.948320000000001
  FIRST_STANDARD_PARALLEL = "N/A"
  LINE_FIRST_PIXEL = 1
  LINE_LAST_PIXEL = 4860
  LINE_PROJECTION_OFFSET = -12257.8125
  MAP_PROJECTION_ROTATION = 0.0
  MAP_PROJECTION_TYPE = SINUSOIDAL
  MAP_RESOLUTION = 592.713803866667
  MAP_SCALE = 0.1
  MAXIMUM_LATITUDE = -20.6756
  MINIMUM_LATITUDE = -28.8535
  POSITIVE_LONGITUDE_DIRECTION = EAST
  REFERENCE_LATITUDE = "N/A"
  REFERENCE_LONGITUDE = "N/A"
  SAMPLE_FIRST_PIXEL = 1
  SAMPLE_LAST_PIXEL = 679
  SAMPLE_PROJECTION_OFFSET = 154.5625
  SECOND_STANDARD_PARALLEL = "N/A"
  WESTERNMOST_LONGITUDE = 7.71963
END_OBJECT = IMAGE_MAP_PROJECTION
END
