PDS_VERSION_ID = PDS3
/* FILE DATA ELEMENTS */
RECORD_TYPE = UNDEFINED
/* POINTERS TO DATA OBJECTS */
^IMAGE = ("H4204_0000_GR4.TIF")
/* IDENTIFICATION DATA ELEMENTS */
DATA_SET_ID = "MEX-M-HRSC-4-REFDR-MAPPROJECT-EXT1-V4.0"
DATA_SET_NAME = "MARS EXPRESS HRSC MAP PROJECTED REFDR EXTENSION1 V4.0"
DETECTOR_ID = MEX_HRSC_GREEN
EVENT_TYPE = "MARS-REGIONAL-STEREO-Te-Fl"
INSTRUMENT_HOST_ID = MEX
INSTRUMENT_HOST_NAME = "MARS EXPRESS"
INSTRUMENT_ID = HRSC
INSTRUMENT_NAME = "HIGH RESOLUTION STEREO CAMERA"
MISSION_NAME = "MARS EXPRESS"
MISSION_PHASE_NAME = ME_Phase_7
PROCESSING_LEVEL_ID = 4
PRODUCT_CREATION_TIME = 2023-02-10T03:49:22.000Z
PRODUCT_ID = "H4204_0000_GR4.TIF"
RELEASE_ID = 0006
REVISION_ID = 0000
/* QUALITY DATA ELEMENTS */
DATA_QUALITY_ID = 1
DATA_QUALITY_DESC = "Data calculated based on original SPICE kernels"
/* TIME DATA ELEMENTS */
SPACECRAFT_CLOCK_START_COUNT = "1/0124662927.08398"
SPACECRAFT_CLOCK_STOP_COUNT = "1/0124663168.48339"
START_TIME = 2007-04-14T20:36:04.179Z
STOP_TIME = 2007-04-14T20:39:08.038Z
/* ORBITAL DATA ELEMENTS */
ASCENDING_NODE_LONGITUDE = 140.23
MAXIMUM_RESOLUTION = 0.0946
FOOTPRINT_POINT_LATITUDE = (-28.8227,-28.8183,-28.814,-28.8088, -28.8086,-28.8103,-28.5611,-28.3119, -28.0625,-27.8133,-27.5637,-27.1926, -26.9521,-26.7114,-26.4708,-26.23, -25.8689,-25.6281,-25.267,-24.9058, -24.5447,-24.304,-23.9428,-23.7021, -23.4612,-23.2201,-22.8585,-22.4974, -22.2559,-22.015,-21.7751,-21.5336, -21.2932,-21.0528,-20.8124,-20.5721, -20.2117,-19.9716,-19.731,-19.4909, -19.2507,-19.0107,-18.7707,-18.5309, -18.291,-17.8113,-17.332,-16.8529, -16.7331,-16.6686,-16.6714,-16.6729, -16.6744,-16.6744,-16.676,-17.0361, -17.5155,-17.7553,-17.9953,-18.2353, -18.4753,-18.7155,-19.0762,-19.4363, -19.6767,-19.9172,-20.1577,-20.3983, -20.6389,-20.8796,-21.1203,-21.3611, -21.6019,-21.8428,-22.2042,-22.5655, -22.8064,-23.0474,-23.2884,-23.6498, -23.8908,-24.1318,-24.3729,-24.6138, -24.9752,-25.2162,-25.4572,-25.8186, -26.1802,-26.4211,-26.662,-27.0233, -27.264,-27.5125,-27.7621,-28.0117, -28.3859,-28.6354,-28.76,-28.8227)
FOOTPRINT_POINT_LONGITUDE = (304.302,303.829,303.466,303.108, 303.096,303.091,303.095,303.1,303.104, 303.108,303.112,303.118,303.122,303.125 ,303.129,303.132,303.137,303.14,303.144 ,303.148,303.151,303.154,303.157, 303.159,303.161,303.163,303.166,303.168 ,303.17,303.171,303.172,303.173,303.174 ,303.175,303.176,303.177,303.178, 303.179,303.179,303.179,303.18,303.18, 303.18,303.18,303.18,303.179,303.179, 303.178,303.177,303.177,303.554,303.834 ,304.266,304.277,304.284,304.284, 304.284,304.285,304.285,304.285,304.286 ,304.286,304.288,304.287,304.288, 304.288,304.289,304.289,304.289,304.29, 304.291,304.291,304.292,304.293,304.294 ,304.295,304.295,304.296,304.297, 304.298,304.299,304.299,304.3,304.301, 304.302,304.302,304.303,304.305,304.307 ,304.308,304.309,304.31,304.311,304.312 ,304.313,304.314,304.316,304.317, 304.317,304.302)
ORBIT_NUMBER = 4204
ORBITAL_ECCENTRICITY = 0.571
ORBITAL_INCLINATION = 86.68
ORBITAL_SEMIMAJOR_AXIS = 8610.48
PERIAPSIS_ALTITUDE = 299.02
PERIAPSIS_ARGUMENT_ANGLE = 337.56
PERIAPSIS_TIME = 2007-04-14T20:37:37.000Z
SPACECRAFT_ORIENTATION = (0.0,1.0,0.0)
^MEX_ORIENTATION_DESC = "MEX_ORIENTATION_DESC.TXT"
SPACECRAFT_POINTING_MODE = ACROSSTRACK
^MEX_POINTING_DESC = "MEX_POINTING_DESC.TXT"
RIGHT_ASCENSION = -1e+32
DECLINATION = -1e+32
OFFSET_ANGLE = -0.5
SPACECRAFT_SOLAR_DISTANCE = 2.09361e+08
TARGET_NAME = MARS
/* CAMERA DATA ELEMENTS */
DETECTOR_TEMPERATURE = 18.3705
FOCAL_PLANE_TEMPERATURE = 7.5638
INST_CMPRS_NAME = "DISCRETE COSINE TRANSFORMATION (DCT)"
INST_CMPRS_RATIO = 12.393
INST_CMPRS_QUALITY = 0
INST_CMPRS_QUANTZ_TBL_ID = 0
INSTRUMENT_TEMPERATURE = 10.2145
LENS_TEMPERATURE = 8.1755
MACROPIXEL_SIZE = 8
MISSING_FRAMES = 0
PIXEL_SUBSAMPLING_FLAG = N
SIGNAL_CHAIN_ID = 2
/* RADIOMETRIC DATA ELEMENTS */
BANDWIDTH = 88.0
CENTER_FILTER_WAVELENGTH = 538.0
RADIANCE_OFFSET = 1.5206
RADIANCE_SCALING_FACTOR = 0.00298157
REFLECTANCE_SCALING_FACTOR = 0.000112519
MEX:REFLECTANCE_OFFSET = 0.0573846
/* IMAGE OBJECT DEFINITIONS */
OBJECT = IMAGE
  INTERCHANGE_FORMAT = BINARY
  LINES = 7205
  LINE_SAMPLES = 647
  SAMPLE_TYPE = UNSIGNED_INTEGER
  SAMPLE_BITS = 8
  BANDS = 1
  BAND_STORAGE_TYPE = BAND_SEQUENTIAL
  MAXIMUM = 255
  MEAN = 153.407
  MINIMUM = 1
  STANDARD_DEVIATION = 18.57
END_OBJECT = IMAGE
/* MAP OBJECT DEFINITIONS */
OBJECT = IMAGE_MAP_PROJECTION
  ^DATA_SET_MAP_PROJECTION_CATALOG= "DSMAP.CAT"
  A_AXIS_RADIUS = 3396.0
  B_AXIS_RADIUS = 3396.0
  C_AXIS_RADIUS = 3396.0
  CENTER_LATITUDE = 0.0
  CENTER_LONGITUDE = 304.0
  COORDINATE_SYSTEM_NAME = PLANETOGRAPHIC
  COORDINATE_SYSTEM_TYPE = "BODY-FIXED ROTATING"
  EASTERNMOST_LONGITUDE = 304.317
  FIRST_STANDARD_PARALLEL = "N/A"
  LINE_FIRST_PIXEL = 1
  LINE_LAST_PIXEL = 7205
  LINE_PROJECTION_OFFSET = -9879.3125
  MAP_PROJECTION_ROTATION = 0.0
  MAP_PROJECTION_TYPE = SINUSOIDAL
  MAP_RESOLUTION = 592.713803866667
  MAP_SCALE = 0.1
  MAXIMUM_LATITUDE = -16.6686
  MINIMUM_LATITUDE = -28.8227
  POSITIVE_LONGITUDE_DIRECTION = EAST
  REFERENCE_LATITUDE = "N/A"
  REFERENCE_LONGITUDE = "N/A"
  SAMPLE_FIRST_PIXEL = 1
  SAMPLE_LAST_PIXEL = 647
  SAMPLE_PROJECTION_OFFSET = 480.3125
  SECOND_STANDARD_PARALLEL = "N/A"
  WESTERNMOST_LONGITUDE = 303.091
END_OBJECT = IMAGE_MAP_PROJECTION
END
