PDS_VERSION_ID = PDS3
/* FILE DATA ELEMENTS */
RECORD_TYPE = UNDEFINED
/* POINTERS TO DATA OBJECTS */
^IMAGE = ("H4202_0000_P14.TIF")
/* IDENTIFICATION DATA ELEMENTS */
DATA_SET_ID = "MEX-M-HRSC-4-REFDR-MAPPROJECT-EXT1-V4.0"
DATA_SET_NAME = "MARS EXPRESS HRSC MAP PROJECTED REFDR EXTENSION1 V4.0"
DETECTOR_ID = MEX_HRSC_P1
EVENT_TYPE = "MARS-REGIONAL-MAPPING-Im-Fl"
INSTRUMENT_HOST_ID = MEX
INSTRUMENT_HOST_NAME = "MARS EXPRESS"
INSTRUMENT_ID = HRSC
INSTRUMENT_NAME = "HIGH RESOLUTION STEREO CAMERA"
MISSION_NAME = "MARS EXPRESS"
MISSION_PHASE_NAME = ME_Phase_7
PROCESSING_LEVEL_ID = 4
PRODUCT_CREATION_TIME = 2023-02-10T03:49:22.000Z
PRODUCT_ID = "H4202_0000_P14.TIF"
RELEASE_ID = 0006
REVISION_ID = 0000
/* QUALITY DATA ELEMENTS */
DATA_QUALITY_ID = 1
DATA_QUALITY_DESC = "Data calculated based on original SPICE kernels"
/* TIME DATA ELEMENTS */
SPACECRAFT_CLOCK_START_COUNT = "1/0124614774.09085"
SPACECRAFT_CLOCK_STOP_COUNT = "1/0124614933.24147"
START_TIME = 2007-04-14T07:13:44.043Z
STOP_TIME = 2007-04-14T07:15:24.434Z
/* ORBITAL DATA ELEMENTS */
ASCENDING_NODE_LONGITUDE = 140.27
MAXIMUM_RESOLUTION = 0.0259
FOOTPRINT_POINT_LATITUDE = (-13.6085,-13.6089,-13.6092,-13.6094, -13.6095,-13.6097,-13.6097,-13.6079, -13.3008,-13.1759,-13.0509,-12.8634, -12.7383,-12.6134,-12.4885,-12.2391, -12.0522,-11.8029,-11.554,-11.1853, -11.0602,-10.9321,-10.804,-10.6118, -10.4837,-10.2907,-10.1617,-10.0309, -9.90234,-9.71313,-9.58658,-9.46118, -9.33434,-9.20717,-9.07631,-8.94197, -8.80982,-8.68041,-8.55018,-8.41953, -8.28829,-8.15762,-7.9631,-7.83342, -7.63863,-7.50885,-7.3138,-7.24858, -7.22787,-7.22624,-7.22613,-7.22567, -7.22535,-7.22465,-7.22488,-7.22484, -7.22523,-7.35503,-7.48458,-7.61458, -7.74459,-7.87491,-8.00533,-8.13538, -8.26597,-8.39697,-8.52774,-8.65796, -8.78895,-8.9848,-9.11589,-9.24538, -9.3726,-9.56317,-9.75352,-9.9469, -10.0763,-10.2686,-10.4607,-10.5888, -10.7169,-10.8451,-10.9733,-11.2258, -11.4723,-11.6567,-11.9042,-12.0291, -12.2163,-12.3411,-12.4662,-12.5911, -12.7159,-12.8408,-12.9659,-13.091, -13.2162,-13.5267,-13.5871,-13.6085)
FOOTPRINT_POINT_LONGITUDE = (140.302,139.961,139.675,139.499, 139.323,139.18,139.169,139.167,139.165, 139.164,139.163,139.162,139.161,139.161 ,139.16,139.158,139.157,139.155,139.153 ,139.148,139.147,139.145,139.144, 139.142,139.141,139.14,139.139,139.139, 139.138,139.135,139.133,139.131,139.129 ,139.128,139.126,139.126,139.125, 139.122,139.12,139.118,139.117,139.115, 139.112,139.11,139.107,139.104,139.102, 139.101,139.1,139.328,139.531,139.806, 139.962,140.178,140.322,140.334,140.338 ,140.337,140.336,140.335,140.334, 140.333,140.332,140.331,140.33,140.329, 140.328,140.327,140.326,140.325,140.324 ,140.323,140.322,140.321,140.319, 140.319,140.319,140.318,140.318,140.317 ,140.316,140.316,140.315,140.314, 140.311,140.309,140.308,140.307,140.306 ,140.306,140.305,140.305,140.304, 140.304,140.303,140.303,140.302,140.301 ,140.301,140.302)
ORBIT_NUMBER = 4202
ORBITAL_ECCENTRICITY = 0.571
ORBITAL_INCLINATION = 86.67
ORBITAL_SEMIMAJOR_AXIS = 8611.99
PERIAPSIS_ALTITUDE = 299.37
PERIAPSIS_ARGUMENT_ANGLE = 337.91
PERIAPSIS_TIME = 2007-04-14T07:11:18.000Z
SPACECRAFT_ORIENTATION = (0.0,1.0,0.0)
^MEX_ORIENTATION_DESC = "MEX_ORIENTATION_DESC.TXT"
SPACECRAFT_POINTING_MODE = NADIR
^MEX_POINTING_DESC = "MEX_POINTING_DESC.TXT"
RIGHT_ASCENSION = -1e+32
DECLINATION = -1e+32
OFFSET_ANGLE = -1e+32
SPACECRAFT_SOLAR_DISTANCE = 2.09419e+08
TARGET_NAME = MARS
/* CAMERA DATA ELEMENTS */
DETECTOR_TEMPERATURE = 17.5549
FOCAL_PLANE_TEMPERATURE = 8.9911
INST_CMPRS_NAME = "DISCRETE COSINE TRANSFORMATION (DCT)"
INST_CMPRS_RATIO = 9.56647
INST_CMPRS_QUALITY = 0
INST_CMPRS_QUANTZ_TBL_ID = 0
INSTRUMENT_TEMPERATURE = 11.4379
LENS_TEMPERATURE = 9.3989
MACROPIXEL_SIZE = 2
MISSING_FRAMES = 0
PIXEL_SUBSAMPLING_FLAG = N
SIGNAL_CHAIN_ID = 3
/* RADIOMETRIC DATA ELEMENTS */
BANDWIDTH = 174.0
CENTER_FILTER_WAVELENGTH = 675.0
RADIANCE_OFFSET = 4.24414
RADIANCE_SCALING_FACTOR = 0.0187241
REFLECTANCE_SCALING_FACTOR = 0.00044169
MEX:REFLECTANCE_OFFSET = 0.100116
/* IMAGE OBJECT DEFINITIONS */
OBJECT = IMAGE
  INTERCHANGE_FORMAT = BINARY
  LINES = 15144
  LINE_SAMPLES = 2838
  SAMPLE_TYPE = UNSIGNED_INTEGER
  SAMPLE_BITS = 8
  BANDS = 1
  BAND_STORAGE_TYPE = BAND_SEQUENTIAL
  MAXIMUM = 255
  MEAN = 122.539
  MINIMUM = 1
  STANDARD_DEVIATION = 28.9256
END_OBJECT = IMAGE
/* MAP OBJECT DEFINITIONS */
OBJECT = IMAGE_MAP_PROJECTION
  ^DATA_SET_MAP_PROJECTION_CATALOG= "DSMAP.CAT"
  A_AXIS_RADIUS = 3396.0
  B_AXIS_RADIUS = 3396.0
  C_AXIS_RADIUS = 3396.0
  CENTER_LATITUDE = 0.0
  CENTER_LONGITUDE = 140.0
  COORDINATE_SYSTEM_NAME = PLANETOGRAPHIC
  COORDINATE_SYSTEM_TYPE = "BODY-FIXED ROTATING"
  EASTERNMOST_LONGITUDE = 140.338
  FIRST_STANDARD_PARALLEL = "N/A"
  LINE_FIRST_PIXEL = 1
  LINE_LAST_PIXEL = 15144
  LINE_PROJECTION_OFFSET = -17131.75
  MAP_PROJECTION_ROTATION = 0.0
  MAP_PROJECTION_TYPE = SINUSOIDAL
  MAP_RESOLUTION = 2370.85521546667
  MAP_SCALE = 0.025
  MAXIMUM_LATITUDE = -7.22465
  MINIMUM_LATITUDE = -13.6097
  POSITIVE_LONGITUDE_DIRECTION = EAST
  REFERENCE_LATITUDE = "N/A"
  REFERENCE_LONGITUDE = "N/A"
  SAMPLE_FIRST_PIXEL = 1
  SAMPLE_LAST_PIXEL = 2838
  SAMPLE_PROJECTION_OFFSET = 2080.25
  SECOND_STANDARD_PARALLEL = "N/A"
  WESTERNMOST_LONGITUDE = 139.1
END_OBJECT = IMAGE_MAP_PROJECTION
END
