PDS_VERSION_ID = PDS3
/* FILE DATA ELEMENTS */
RECORD_TYPE = UNDEFINED
/* POINTERS TO DATA OBJECTS */
^IMAGE = ("H4202_0000_GR4.TIF")
/* IDENTIFICATION DATA ELEMENTS */
DATA_SET_ID = "MEX-M-HRSC-4-REFDR-MAPPROJECT-EXT1-V4.0"
DATA_SET_NAME = "MARS EXPRESS HRSC MAP PROJECTED REFDR EXTENSION1 V4.0"
DETECTOR_ID = MEX_HRSC_GREEN
EVENT_TYPE = "MARS-REGIONAL-MAPPING-Im-Fl"
INSTRUMENT_HOST_ID = MEX
INSTRUMENT_HOST_NAME = "MARS EXPRESS"
INSTRUMENT_ID = HRSC
INSTRUMENT_NAME = "HIGH RESOLUTION STEREO CAMERA"
MISSION_NAME = "MARS EXPRESS"
MISSION_PHASE_NAME = ME_Phase_7
PROCESSING_LEVEL_ID = 4
PRODUCT_CREATION_TIME = 2023-02-10T03:49:22.000Z
PRODUCT_ID = "H4202_0000_GR4.TIF"
RELEASE_ID = 0006
REVISION_ID = 0000
/* QUALITY DATA ELEMENTS */
DATA_QUALITY_ID = 1
DATA_QUALITY_DESC = "Data calculated based on original SPICE kernels"
/* TIME DATA ELEMENTS */
SPACECRAFT_CLOCK_START_COUNT = "1/0124614774.09085"
SPACECRAFT_CLOCK_STOP_COUNT = "1/0124614933.24147"
START_TIME = 2007-04-14T07:13:30.461Z
STOP_TIME = 2007-04-14T07:15:08.901Z
/* ORBITAL DATA ELEMENTS */
ASCENDING_NODE_LONGITUDE = 140.27
MAXIMUM_RESOLUTION = 0.0998
FOOTPRINT_POINT_LATITUDE = (-13.5997,-13.6,-13.6001,-13.6,-13.5999 ,-13.5997,-13.5995,-13.5995,-13.5976, -13.2932,-13.1108,-12.8675,-12.6851, -12.4383,-12.3125,-12.1868,-12.0611, -11.9354,-11.8097,-11.6842,-11.5586, -11.4333,-11.1833,-11.0581,-10.9328, -10.745,-10.4946,-10.3068,-10.1814, -10.0516,-9.85758,-9.66376,-9.53498, -9.40609,-9.21276,-9.08433,-8.95495, -8.82609,-8.69764,-8.5693,-8.44073, -8.24785,-8.11553,-7.98319,-7.85069, -7.71833,-7.58593,-7.45364,-7.32131, -7.25512,-7.22453,-7.22383,-7.22354, -7.2232,-7.22266,-7.2222,-7.22137, -7.22132,-7.22299,-7.35524,-7.48759, -7.62001,-7.75248,-7.88502,-8.01766, -8.21663,-8.34592,-8.47449,-8.66734, -8.8604,-9.05351,-9.18237,-9.31131, -9.44034,-9.56933,-9.69839,-9.82738, -9.9572,-10.0869,-10.2153,-10.4656, -10.7161,-10.8414,-10.9667,-11.0921, -11.2174,-11.4054,-11.6559,-11.8439, -11.9697,-12.1584,-12.2842,-12.4101, -12.5973,-12.8404,-13.1447,-13.3274, -13.5101,-13.571,-13.5997)
FOOTPRINT_POINT_LONGITUDE = (140.293,140.012,139.846,139.679, 139.533,139.367,139.2,139.19,139.185, 139.184,139.183,139.181,139.18,139.179, 139.178,139.178,139.177,139.176,139.175 ,139.174,139.174,139.172,139.169, 139.168,139.166,139.165,139.163,139.161 ,139.161,139.161,139.159,139.158, 139.156,139.154,139.152,139.15,139.149, 139.148,139.146,139.144,139.142,139.14, 139.138,139.136,139.134,139.132,139.13, 139.128,139.127,139.126,139.126,139.383 ,139.562,139.72,139.911,140.046,140.305 ,140.317,140.324,140.323,140.322, 140.321,140.32,140.32,140.319,140.317, 140.317,140.316,140.315,140.313,140.312 ,140.311,140.31,140.31,140.309,140.308, 140.307,140.308,140.308,140.308,140.307 ,140.306,140.305,140.304,140.304, 140.303,140.302,140.3,140.298,140.298, 140.297,140.297,140.296,140.296,140.295 ,140.294,140.293,140.293,140.292, 140.293)
ORBIT_NUMBER = 4202
ORBITAL_ECCENTRICITY = 0.571
ORBITAL_INCLINATION = 86.67
ORBITAL_SEMIMAJOR_AXIS = 8611.99
PERIAPSIS_ALTITUDE = 299.37
PERIAPSIS_ARGUMENT_ANGLE = 337.91
PERIAPSIS_TIME = 2007-04-14T07:11:18.000Z
SPACECRAFT_ORIENTATION = (0.0,1.0,0.0)
^MEX_ORIENTATION_DESC = "MEX_ORIENTATION_DESC.TXT"
SPACECRAFT_POINTING_MODE = NADIR
^MEX_POINTING_DESC = "MEX_POINTING_DESC.TXT"
RIGHT_ASCENSION = -1e+32
DECLINATION = -1e+32
OFFSET_ANGLE = -1e+32
SPACECRAFT_SOLAR_DISTANCE = 2.09419e+08
TARGET_NAME = MARS
/* CAMERA DATA ELEMENTS */
DETECTOR_TEMPERATURE = 18.5744
FOCAL_PLANE_TEMPERATURE = 8.9911
INST_CMPRS_NAME = "DISCRETE COSINE TRANSFORMATION (DCT)"
INST_CMPRS_RATIO = 9.96779
INST_CMPRS_QUALITY = 0
INST_CMPRS_QUANTZ_TBL_ID = 0
INSTRUMENT_TEMPERATURE = 11.4379
LENS_TEMPERATURE = 9.3989
MACROPIXEL_SIZE = 8
MISSING_FRAMES = 0
PIXEL_SUBSAMPLING_FLAG = N
SIGNAL_CHAIN_ID = 2
/* RADIOMETRIC DATA ELEMENTS */
BANDWIDTH = 88.0
CENTER_FILTER_WAVELENGTH = 538.0
RADIANCE_OFFSET = 1.50914
RADIANCE_SCALING_FACTOR = 0.00469975
REFLECTANCE_SCALING_FACTOR = 0.000177457
MEX:REFLECTANCE_OFFSET = 0.0569835
/* IMAGE OBJECT DEFINITIONS */
OBJECT = IMAGE
  INTERCHANGE_FORMAT = BINARY
  LINES = 3786
  LINE_SAMPLES = 710
  SAMPLE_TYPE = UNSIGNED_INTEGER
  SAMPLE_BITS = 8
  BANDS = 1
  BAND_STORAGE_TYPE = BAND_SEQUENTIAL
  MAXIMUM = 255
  MEAN = 142.086
  MINIMUM = 1
  STANDARD_DEVIATION = 19.0788
END_OBJECT = IMAGE
/* MAP OBJECT DEFINITIONS */
OBJECT = IMAGE_MAP_PROJECTION
  ^DATA_SET_MAP_PROJECTION_CATALOG= "DSMAP.CAT"
  A_AXIS_RADIUS = 3396.0
  B_AXIS_RADIUS = 3396.0
  C_AXIS_RADIUS = 3396.0
  CENTER_LATITUDE = 0.0
  CENTER_LONGITUDE = 140.0
  COORDINATE_SYSTEM_NAME = PLANETOGRAPHIC
  COORDINATE_SYSTEM_TYPE = "BODY-FIXED ROTATING"
  EASTERNMOST_LONGITUDE = 140.324
  FIRST_STANDARD_PARALLEL = "N/A"
  LINE_FIRST_PIXEL = 1
  LINE_LAST_PIXEL = 3786
  LINE_PROJECTION_OFFSET = -4283.3125
  MAP_PROJECTION_ROTATION = 0.0
  MAP_PROJECTION_TYPE = SINUSOIDAL
  MAP_RESOLUTION = 592.713803866667
  MAP_SCALE = 0.1
  MAXIMUM_LATITUDE = -7.22132
  MINIMUM_LATITUDE = -13.6001
  POSITIVE_LONGITUDE_DIRECTION = EAST
  REFERENCE_LATITUDE = "N/A"
  REFERENCE_LONGITUDE = "N/A"
  SAMPLE_FIRST_PIXEL = 1
  SAMPLE_LAST_PIXEL = 710
  SAMPLE_PROJECTION_OFFSET = 519.6875
  SECOND_STANDARD_PARALLEL = "N/A"
  WESTERNMOST_LONGITUDE = 139.126
END_OBJECT = IMAGE_MAP_PROJECTION
END
