PDS_VERSION_ID = PDS3
/* FILE DATA ELEMENTS */
RECORD_TYPE = UNDEFINED
/* POINTERS TO DATA OBJECTS */
^IMAGE = ("H4201_0000_GR4.TIF")
/* IDENTIFICATION DATA ELEMENTS */
DATA_SET_ID = "MEX-M-HRSC-4-REFDR-MAPPROJECT-EXT1-V4.0"
DATA_SET_NAME = "MARS EXPRESS HRSC MAP PROJECTED REFDR EXTENSION1 V4.0"
DETECTOR_ID = MEX_HRSC_GREEN
EVENT_TYPE = "MARS-REGIONAL-MAPPING-Vo-Te-Im"
INSTRUMENT_HOST_ID = MEX
INSTRUMENT_HOST_NAME = "MARS EXPRESS"
INSTRUMENT_ID = HRSC
INSTRUMENT_NAME = "HIGH RESOLUTION STEREO CAMERA"
MISSION_NAME = "MARS EXPRESS"
MISSION_PHASE_NAME = ME_Phase_7
PROCESSING_LEVEL_ID = 4
PRODUCT_CREATION_TIME = 2023-02-10T03:49:22.000Z
PRODUCT_ID = "H4201_0000_GR4.TIF"
RELEASE_ID = 0006
REVISION_ID = 0000
/* QUALITY DATA ELEMENTS */
DATA_QUALITY_ID = 1
DATA_QUALITY_DESC = "Data calculated based on original SPICE kernels"
/* TIME DATA ELEMENTS */
SPACECRAFT_CLOCK_START_COUNT = "1/0124590066.09050"
SPACECRAFT_CLOCK_STOP_COUNT = "1/0124590375.25327"
START_TIME = 2007-04-14T00:22:00.687Z
STOP_TIME = 2007-04-14T00:25:54.659Z
/* ORBITAL DATA ELEMENTS */
ASCENDING_NODE_LONGITUDE = 140.3
MAXIMUM_RESOLUTION = 0.05
FOOTPRINT_POINT_LATITUDE = (-45.8865,-45.8762,-45.8617,-45.8312, -45.8305,-45.8353,-45.3152,-44.9764, -44.6367,-44.2981,-43.9663,-43.6339, -43.3002,-42.9671,-42.6322,-42.2984, -41.9638,-41.6286,-41.2927,-40.9483, -40.6115,-40.2742,-39.9283,-39.6118, -39.3282,-39.0442,-38.7601,-38.4754, -38.1903,-37.9053,-37.6197,-37.1913, -36.7622,-36.4759,-36.1893,-35.9023, -35.6151,-35.3279,-35.0432,-34.6254, -34.3469,-34.068,-33.7888,-33.5095, -32.9577,-32.4165,-31.8747,-31.3323, -30.9251,-30.7896,-30.7881,-30.8, -30.8037,-30.8038,-30.8046,-31.4839, -32.027,-32.5696,-33.1117,-33.6677, -33.9468,-34.2277,-34.5076,-34.7869, -35.066,-35.3513,-35.6392,-35.9269, -36.2145,-36.5018,-36.789,-37.0758, -37.3623,-37.6486,-37.9347,-38.2205, -38.506,-38.7913,-39.0763,-39.361, -39.6455,-39.9627,-40.3096,-40.6474, -40.9856,-41.4999,-41.8367,-42.173, -42.5089,-42.8443,-43.179,-43.68, -44.0141,-44.3474,-44.6877,-45.0289, -45.3695,-45.7186,-45.8927,-45.8865)
FOOTPRINT_POINT_LONGITUDE = (238.245,237.748,237.174,236.213, 236.194,236.165,236.218,236.249,236.282 ,236.313,236.343,236.372,236.404, 236.431,236.462,236.487,236.512,236.537 ,236.562,236.587,236.611,236.635, 236.659,236.68,236.698,236.716,236.734, 236.752,236.77,236.787,236.804,236.828, 236.851,236.866,236.881,236.896,236.91, 236.924,236.937,236.956,236.968,236.98, 236.992,237.004,237.026,237.047,237.067 ,237.086,237.1,237.104,237.104,237.967, 238.354,238.366,238.37,238.367,238.365, 238.363,238.36,238.356,238.353,238.354, 238.354,238.352,238.351,238.349,238.348 ,238.346,238.345,238.343,238.342,238.34 ,238.338,238.337,238.335,238.333, 238.331,238.329,238.327,238.325,238.323 ,238.32,238.318,238.314,238.312,238.308 ,238.305,238.302,238.299,238.295, 238.291,238.285,238.282,238.279,238.276 ,238.272,238.268,238.266,238.263, 238.245)
ORBIT_NUMBER = 4201
ORBITAL_ECCENTRICITY = 0.572
ORBITAL_INCLINATION = 86.69
ORBITAL_SEMIMAJOR_AXIS = 8618.39
PERIAPSIS_ALTITUDE = 298.61
PERIAPSIS_ARGUMENT_ANGLE = 338.04
PERIAPSIS_TIME = 2007-04-14T00:28:05.000Z
SPACECRAFT_ORIENTATION = (0.0,1.0,0.0)
^MEX_ORIENTATION_DESC = "MEX_ORIENTATION_DESC.TXT"
SPACECRAFT_POINTING_MODE = ACROSSTRACK
^MEX_POINTING_DESC = "MEX_POINTING_DESC.TXT"
RIGHT_ASCENSION = -1e+32
DECLINATION = -1e+32
OFFSET_ANGLE = 0.15
SPACECRAFT_SOLAR_DISTANCE = 2.09448e+08
TARGET_NAME = MARS
/* CAMERA DATA ELEMENTS */
DETECTOR_TEMPERATURE = 18.3705
FOCAL_PLANE_TEMPERATURE = 8.9911
INST_CMPRS_NAME = "DISCRETE COSINE TRANSFORMATION (DCT)"
INST_CMPRS_RATIO = 11.916
INST_CMPRS_QUALITY = 0
INST_CMPRS_QUANTZ_TBL_ID = 0
INSTRUMENT_TEMPERATURE = 11.4379
LENS_TEMPERATURE = 9.195
MACROPIXEL_SIZE = 4
PIXEL_SUBSAMPLING_FLAG = N
SIGNAL_CHAIN_ID = 2
/* RADIOMETRIC DATA ELEMENTS */
BANDWIDTH = 88.0
CENTER_FILTER_WAVELENGTH = 538.0
RADIANCE_OFFSET = 1.39427
RADIANCE_SCALING_FACTOR = 0.00465235
REFLECTANCE_SCALING_FACTOR = 0.000175718
MEX:REFLECTANCE_OFFSET = 0.052661
/* IMAGE OBJECT DEFINITIONS */
OBJECT = IMAGE
  INTERCHANGE_FORMAT = BINARY
  LINES = 17913
  LINE_SAMPLES = 1915
  SAMPLE_TYPE = UNSIGNED_INTEGER
  SAMPLE_BITS = 8
  BANDS = 1
  BAND_STORAGE_TYPE = BAND_SEQUENTIAL
  MAXIMUM = 255
  MEAN = 122.155
  MINIMUM = 1
  STANDARD_DEVIATION = 20.9258
END_OBJECT = IMAGE
/* MAP OBJECT DEFINITIONS */
OBJECT = IMAGE_MAP_PROJECTION
  ^DATA_SET_MAP_PROJECTION_CATALOG= "DSMAP.CAT"
  A_AXIS_RADIUS = 3396.0
  B_AXIS_RADIUS = 3396.0
  C_AXIS_RADIUS = 3396.0
  CENTER_LATITUDE = 0.0
  CENTER_LONGITUDE = 238.0
  COORDINATE_SYSTEM_NAME = PLANETOGRAPHIC
  COORDINATE_SYSTEM_TYPE = "BODY-FIXED ROTATING"
  EASTERNMOST_LONGITUDE = 238.37
  FIRST_STANDARD_PARALLEL = "N/A"
  LINE_FIRST_PIXEL = 1
  LINE_LAST_PIXEL = 17913
  LINE_PROJECTION_OFFSET = -36498.375
  MAP_PROJECTION_ROTATION = 0.0
  MAP_PROJECTION_TYPE = SINUSOIDAL
  MAP_RESOLUTION = 1185.42760773333
  MAP_SCALE = 0.05
  MAXIMUM_LATITUDE = -30.7881
  MINIMUM_LATITUDE = -45.8927
  POSITIVE_LONGITUDE_DIRECTION = EAST
  REFERENCE_LATITUDE = "N/A"
  REFERENCE_LONGITUDE = "N/A"
  SAMPLE_FIRST_PIXEL = 1
  SAMPLE_LAST_PIXEL = 1915
  SAMPLE_PROJECTION_OFFSET = 1533.875
  SECOND_STANDARD_PARALLEL = "N/A"
  WESTERNMOST_LONGITUDE = 236.165
END_OBJECT = IMAGE_MAP_PROJECTION
END
