PDS_VERSION_ID = PDS3
/* FILE DATA ELEMENTS */
RECORD_TYPE = UNDEFINED
/* POINTERS TO DATA OBJECTS */
^IMAGE = ("H4182_0000_S14.TIF")
/* IDENTIFICATION DATA ELEMENTS */
DATA_SET_ID = "MEX-M-HRSC-4-REFDR-MAPPROJECT-EXT1-V4.0"
DATA_SET_NAME = "MARS EXPRESS HRSC MAP PROJECTED REFDR EXTENSION1 V4.0"
DETECTOR_ID = MEX_HRSC_S1
EVENT_TYPE = "MARS-REGIONAL-MAPPING-Vo-Te-Im"
INSTRUMENT_HOST_ID = MEX
INSTRUMENT_HOST_NAME = "MARS EXPRESS"
INSTRUMENT_ID = HRSC
INSTRUMENT_NAME = "HIGH RESOLUTION STEREO CAMERA"
MISSION_NAME = "MARS EXPRESS"
MISSION_PHASE_NAME = ME_Phase_7
PROCESSING_LEVEL_ID = 4
PRODUCT_CREATION_TIME = 2023-02-09T23:17:53.000Z
PRODUCT_ID = "H4182_0000_S14.TIF"
RELEASE_ID = 0005
REVISION_ID = 0000
/* QUALITY DATA ELEMENTS */
DATA_QUALITY_ID = 1
DATA_QUALITY_DESC = "Data calculated based on original SPICE kernels"
/* TIME DATA ELEMENTS */
SPACECRAFT_CLOCK_START_COUNT = "1/0124130770.09034"
SPACECRAFT_CLOCK_STOP_COUNT = "1/0124130976.16588"
START_TIME = 2007-04-08T16:47:11.096Z
STOP_TIME = 2007-04-08T16:49:38.435Z
/* ORBITAL DATA ELEMENTS */
ASCENDING_NODE_LONGITUDE = 140.69
MAXIMUM_RESOLUTION = 0.0255
FOOTPRINT_POINT_LATITUDE = (-25.7949,-25.7712,-25.7513,-25.7316, -25.731,-25.7479,-25.5603,-25.2786, -25.0913,-24.9037,-24.6227,-24.3416, -24.0608,-23.7805,-23.4996,-23.3127, -23.1258,-22.9394,-22.6604,-22.4806, -22.3005,-22.0309,-21.8514,-21.6718, -21.4917,-20.7659,-20.5864,-20.3175, -20.1381,-19.959,-19.7797,-19.6006, -19.4217,-19.243,-18.9749,-18.7071, -18.5286,-18.3501,-18.1721,-17.9939, -17.8157,-17.6376,-17.4597,-17.2818, -17.1041,-16.9262,-16.7482,-16.5704, -16.2973,-16.1138,-16.0224,-15.9905, -16.0086,-16.0199,-16.0471,-16.0477, -16.0485,-16.4144,-16.5965,-16.9517, -17.1298,-17.3109,-17.5765,-17.7552, -17.9334,-18.2011,-18.3795,-18.558, -18.7365,-18.9152,-19.0937,-19.3623, -19.5413,-19.8099,-19.9891,-20.168, -20.4377,-20.7964,-21.523,-21.7028, -21.8827,-22.2425,-22.5124,-22.6925, -22.8765,-23.0636,-23.2504,-23.4377, -23.6249,-23.9057,-24.0929,-24.2801, -24.4675,-24.7484,-25.0299,-25.3114, -25.499,-25.687,-25.781,-25.7949)
FOOTPRINT_POINT_LONGITUDE = (306.528,306.069,305.692,305.323, 305.312,305.311,305.313,305.316,305.318 ,305.32,305.322,305.325,305.327,305.329 ,305.331,305.332,305.334,305.335, 305.336,305.337,305.338,305.34,305.341, 305.341,305.342,305.344,305.345,305.345 ,305.346,305.346,305.346,305.346, 305.347,305.347,305.347,305.347,305.347 ,305.347,305.347,305.346,305.346, 305.346,305.346,305.345,305.345,305.344 ,305.344,305.343,305.342,305.342, 305.342,305.341,305.704,305.933,306.458 ,306.469,306.473,306.474,306.475, 306.476,306.477,306.481,306.481,306.483 ,306.484,306.485,306.486,306.487, 306.489,306.49,306.491,306.492,306.494, 306.495,306.497,306.498,306.5,306.502, 306.508,306.509,306.511,306.513,306.515 ,306.517,306.518,306.519,306.521, 306.523,306.524,306.526,306.528,306.53, 306.531,306.533,306.536,306.539,306.541 ,306.543,306.544,306.528)
ORBIT_NUMBER = 4182
ORBITAL_ECCENTRICITY = 0.571
ORBITAL_INCLINATION = 86.68
ORBITAL_SEMIMAJOR_AXIS = 8614.06
PERIAPSIS_ALTITUDE = 300.59
PERIAPSIS_ARGUMENT_ANGLE = 341.44
PERIAPSIS_TIME = 2007-04-08T16:48:34.000Z
SPACECRAFT_ORIENTATION = (0.0,1.0,0.0)
^MEX_ORIENTATION_DESC = "MEX_ORIENTATION_DESC.TXT"
SPACECRAFT_POINTING_MODE = ACROSSTRACK
^MEX_POINTING_DESC = "MEX_POINTING_DESC.TXT"
RIGHT_ASCENSION = -1e+32
DECLINATION = -1e+32
OFFSET_ANGLE = -0.8
SPACECRAFT_SOLAR_DISTANCE = 2.10029e+08
TARGET_NAME = MARS
/* CAMERA DATA ELEMENTS */
DETECTOR_TEMPERATURE = 18.1666
FOCAL_PLANE_TEMPERATURE = 10.0106
INST_CMPRS_NAME = "DISCRETE COSINE TRANSFORMATION (DCT)"
INST_CMPRS_RATIO = 8.81628
INST_CMPRS_QUALITY = 0
INST_CMPRS_QUANTZ_TBL_ID = 0
INSTRUMENT_TEMPERATURE = 11.8457
LENS_TEMPERATURE = 10.2145
MACROPIXEL_SIZE = 2
PIXEL_SUBSAMPLING_FLAG = N
SIGNAL_CHAIN_ID = 1
/* RADIOMETRIC DATA ELEMENTS */
BANDWIDTH = 180.0
CENTER_FILTER_WAVELENGTH = 677.0
RADIANCE_OFFSET = 3.48683
RADIANCE_SCALING_FACTOR = 0.00921186
REFLECTANCE_SCALING_FACTOR = 0.000212007
MEX:REFLECTANCE_OFFSET = 0.0802479
/* IMAGE OBJECT DEFINITIONS */
OBJECT = IMAGE
  INTERCHANGE_FORMAT = BINARY
  LINES = 23156
  LINE_SAMPLES = 2665
  SAMPLE_TYPE = UNSIGNED_INTEGER
  SAMPLE_BITS = 8
  BANDS = 1
  BAND_STORAGE_TYPE = BAND_SEQUENTIAL
  MAXIMUM = 255
  MEAN = 142.571
  MINIMUM = 1
  STANDARD_DEVIATION = 24.5945
END_OBJECT = IMAGE
/* MAP OBJECT DEFINITIONS */
OBJECT = IMAGE_MAP_PROJECTION
  ^DATA_SET_MAP_PROJECTION_CATALOG= "DSMAP.CAT"
  A_AXIS_RADIUS = 3396.0
  B_AXIS_RADIUS = 3396.0
  C_AXIS_RADIUS = 3396.0
  CENTER_LATITUDE = 0.0
  CENTER_LONGITUDE = 306.0
  COORDINATE_SYSTEM_NAME = PLANETOGRAPHIC
  COORDINATE_SYSTEM_TYPE = "BODY-FIXED ROTATING"
  EASTERNMOST_LONGITUDE = 306.544
  FIRST_STANDARD_PARALLEL = "N/A"
  LINE_FIRST_PIXEL = 1
  LINE_LAST_PIXEL = 23156
  LINE_PROJECTION_OFFSET = -38001.25
  MAP_PROJECTION_ROTATION = 0.0
  MAP_PROJECTION_TYPE = SINUSOIDAL
  MAP_RESOLUTION = 2370.85521546667
  MAP_SCALE = 0.025
  MAXIMUM_LATITUDE = -15.9905
  MINIMUM_LATITUDE = -25.7949
  POSITIVE_LONGITUDE_DIRECTION = EAST
  REFERENCE_LATITUDE = "N/A"
  REFERENCE_LONGITUDE = "N/A"
  SAMPLE_FIRST_PIXEL = 1
  SAMPLE_LAST_PIXEL = 2665
  SAMPLE_PROJECTION_OFFSET = 1505.25
  SECOND_STANDARD_PARALLEL = "N/A"
  WESTERNMOST_LONGITUDE = 305.311
END_OBJECT = IMAGE_MAP_PROJECTION
END
