PDS_VERSION_ID = PDS3
/* FILE DATA ELEMENTS */
RECORD_TYPE = UNDEFINED
/* POINTERS TO DATA OBJECTS */
^IMAGE = ("H4180_0000_S24.TIF")
/* IDENTIFICATION DATA ELEMENTS */
DATA_SET_ID = "MEX-M-HRSC-4-REFDR-MAPPROJECT-EXT1-V4.0"
DATA_SET_NAME = "MARS EXPRESS HRSC MAP PROJECTED REFDR EXTENSION1 V4.0"
DETECTOR_ID = MEX_HRSC_S2
EVENT_TYPE = "MARS-REGIONAL-MAPPING-Im"
INSTRUMENT_HOST_ID = MEX
INSTRUMENT_HOST_NAME = "MARS EXPRESS"
INSTRUMENT_ID = HRSC
INSTRUMENT_NAME = "HIGH RESOLUTION STEREO CAMERA"
MISSION_NAME = "MARS EXPRESS"
MISSION_PHASE_NAME = ME_Phase_7
PROCESSING_LEVEL_ID = 4
PRODUCT_CREATION_TIME = 2023-02-09T23:17:53.000Z
PRODUCT_ID = "H4180_0000_S24.TIF"
RELEASE_ID = 0005
REVISION_ID = 0000
/* QUALITY DATA ELEMENTS */
DATA_QUALITY_ID = 1
DATA_QUALITY_DESC = "Data calculated based on original SPICE kernels"
/* TIME DATA ELEMENTS */
SPACECRAFT_CLOCK_START_COUNT = "1/0124082084.08223"
SPACECRAFT_CLOCK_STOP_COUNT = "1/0124082306.63951"
START_TIME = 2007-04-08T03:14:48.293Z
STOP_TIME = 2007-04-08T03:17:21.951Z
/* ORBITAL DATA ELEMENTS */
ASCENDING_NODE_LONGITUDE = 140.73
MAXIMUM_RESOLUTION = 0.0325
FOOTPRINT_POINT_LATITUDE = (-44.0306,-44.0226,-44.0151,-44.0084, -43.9981,-43.9861,-43.9699,-43.969, -43.928,-43.638,-43.4455,-43.2554, -43.0669,-42.8781,-42.6886,-42.502, -42.3183,-42.0394,-41.8538,-41.5793, -41.3037,-41.1196,-40.9406,-40.7601, -40.4896,-40.3079,-40.1307,-39.953, -39.7753,-39.5975,-39.4208,-39.2476, -39.0733,-38.8995,-38.7255,-38.5522, -38.2112,-38.0415,-37.8698,-37.6117, -37.2769,-36.9403,-36.5196,-36.2638, -36.0108,-35.8407,-35.671,-35.4165, -35.1608,-35.0752,-35.0382,-35.0462, -35.0558,-35.0605,-35.0596,-35.0635, -35.0655,-35.0661,-35.2391,-35.4099, -35.6663,-35.8365,-36.1765,-36.5154, -36.6852,-37.0221,-37.2753,-37.6121, -37.8691,-38.041,-38.2127,-38.3842, -38.5556,-38.7292,-38.9042,-39.0792, -39.3412,-39.5164,-39.6954,-39.9642, -40.137,-40.313,-40.4946,-40.6804, -40.9532,-41.1306,-41.4057,-41.5898, -41.7727,-41.9561,-42.1434,-42.4242, -42.6113,-42.8951,-43.0853,-43.275, -43.561,-43.8506,-43.9468,-44.0306)
FOOTPRINT_POINT_LONGITUDE = (142.254,141.739,141.381,141.112, 140.754,140.396,139.971,139.949,139.928 ,139.955,139.974,139.991,140.009, 140.027,140.044,140.061,140.078,140.102 ,140.118,140.141,140.164,140.178, 140.193,140.207,140.229,140.242,140.255 ,140.268,140.281,140.294,140.307, 140.319,140.331,140.344,140.356,140.368 ,140.391,140.402,140.413,140.429,140.45 ,140.47,140.495,140.509,140.524,140.533 ,140.542,140.556,140.57,140.574,140.576 ,140.877,141.335,141.589,141.97,142.192 ,142.207,142.213,142.213,142.214, 142.216,142.217,142.219,142.221,142.222 ,142.224,142.226,142.228,142.229,142.23 ,142.231,142.233,142.234,142.235, 142.236,142.237,142.239,142.24,142.241, 142.242,142.245,142.247,142.248,142.247 ,142.248,142.251,142.253,142.255, 142.256,142.258,142.259,142.261,142.262 ,142.264,142.266,142.267,142.27,142.272 ,142.273,142.254)
ORBIT_NUMBER = 4180
ORBITAL_ECCENTRICITY = 0.571
ORBITAL_INCLINATION = 86.67
ORBITAL_SEMIMAJOR_AXIS = 8615.75
PERIAPSIS_ALTITUDE = 300.94
PERIAPSIS_ARGUMENT_ANGLE = 341.79
PERIAPSIS_TIME = 2007-04-08T03:22:16.000Z
SPACECRAFT_ORIENTATION = (0.0,1.0,0.0)
^MEX_ORIENTATION_DESC = "MEX_ORIENTATION_DESC.TXT"
SPACECRAFT_POINTING_MODE = NADIR
^MEX_POINTING_DESC = "MEX_POINTING_DESC.TXT"
RIGHT_ASCENSION = -1e+32
DECLINATION = -1e+32
OFFSET_ANGLE = -1e+32
SPACECRAFT_SOLAR_DISTANCE = 2.10093e+08
TARGET_NAME = MARS
/* CAMERA DATA ELEMENTS */
DETECTOR_TEMPERATURE = 18.9822
FOCAL_PLANE_TEMPERATURE = 9.6028
INST_CMPRS_NAME = "DISCRETE COSINE TRANSFORMATION (DCT)"
INST_CMPRS_RATIO = 9.70482
INST_CMPRS_QUALITY = 0
INST_CMPRS_QUANTZ_TBL_ID = 0
INSTRUMENT_TEMPERATURE = 11.4379
LENS_TEMPERATURE = 9.6028
MACROPIXEL_SIZE = 2
MISSING_FRAMES = 0
PIXEL_SUBSAMPLING_FLAG = N
SIGNAL_CHAIN_ID = 1
/* RADIOMETRIC DATA ELEMENTS */
BANDWIDTH = 178.0
CENTER_FILTER_WAVELENGTH = 679.0
RADIANCE_OFFSET = 4.55528
RADIANCE_SCALING_FACTOR = 0.0158444
REFLECTANCE_SCALING_FACTOR = 0.000370368
MEX:REFLECTANCE_OFFSET = 0.106481
/* IMAGE OBJECT DEFINITIONS */
OBJECT = IMAGE
  INTERCHANGE_FORMAT = BINARY
  LINES = 21151
  LINE_SAMPLES = 3948
  SAMPLE_TYPE = UNSIGNED_INTEGER
  SAMPLE_BITS = 8
  BANDS = 1
  BAND_STORAGE_TYPE = BAND_SEQUENTIAL
  MAXIMUM = 255
  MEAN = 130.881
  MINIMUM = 1
  STANDARD_DEVIATION = 36.5161
END_OBJECT = IMAGE
/* MAP OBJECT DEFINITIONS */
OBJECT = IMAGE_MAP_PROJECTION
  ^DATA_SET_MAP_PROJECTION_CATALOG= "DSMAP.CAT"
  A_AXIS_RADIUS = 3396.0
  B_AXIS_RADIUS = 3396.0
  C_AXIS_RADIUS = 3396.0
  CENTER_LATITUDE = 0.0
  CENTER_LONGITUDE = 141.0
  COORDINATE_SYSTEM_NAME = PLANETOGRAPHIC
  COORDINATE_SYSTEM_TYPE = "BODY-FIXED ROTATING"
  EASTERNMOST_LONGITUDE = 142.273
  FIRST_STANDARD_PARALLEL = "N/A"
  LINE_FIRST_PIXEL = 1
  LINE_LAST_PIXEL = 21151
  LINE_PROJECTION_OFFSET = -83044.25
  MAP_PROJECTION_ROTATION = 0.0
  MAP_PROJECTION_TYPE = SINUSOIDAL
  MAP_RESOLUTION = 2370.85521546667
  MAP_SCALE = 0.025
  MAXIMUM_LATITUDE = -35.0382
  MINIMUM_LATITUDE = -44.0306
  POSITIVE_LONGITUDE_DIRECTION = EAST
  REFERENCE_LATITUDE = "N/A"
  REFERENCE_LONGITUDE = "N/A"
  SAMPLE_FIRST_PIXEL = 1
  SAMPLE_LAST_PIXEL = 3948
  SAMPLE_PROJECTION_OFFSET = 1677.75
  SECOND_STANDARD_PARALLEL = "N/A"
  WESTERNMOST_LONGITUDE = 139.928
END_OBJECT = IMAGE_MAP_PROJECTION
END
