PDS_VERSION_ID = PDS3
/* FILE DATA ELEMENTS */
RECORD_TYPE = UNDEFINED
/* POINTERS TO DATA OBJECTS */
^IMAGE = ("H4180_0000_BL4.TIF")
/* IDENTIFICATION DATA ELEMENTS */
DATA_SET_ID = "MEX-M-HRSC-4-REFDR-MAPPROJECT-EXT1-V4.0"
DATA_SET_NAME = "MARS EXPRESS HRSC MAP PROJECTED REFDR EXTENSION1 V4.0"
DETECTOR_ID = MEX_HRSC_BLUE
EVENT_TYPE = "MARS-REGIONAL-MAPPING-Im"
INSTRUMENT_HOST_ID = MEX
INSTRUMENT_HOST_NAME = "MARS EXPRESS"
INSTRUMENT_ID = HRSC
INSTRUMENT_NAME = "HIGH RESOLUTION STEREO CAMERA"
MISSION_NAME = "MARS EXPRESS"
MISSION_PHASE_NAME = ME_Phase_7
PROCESSING_LEVEL_ID = 4
PRODUCT_CREATION_TIME = 2023-02-09T23:17:53.000Z
PRODUCT_ID = "H4180_0000_BL4.TIF"
RELEASE_ID = 0005
REVISION_ID = 0000
/* QUALITY DATA ELEMENTS */
DATA_QUALITY_ID = 1
DATA_QUALITY_DESC = "Data calculated based on original SPICE kernels"
/* TIME DATA ELEMENTS */
SPACECRAFT_CLOCK_START_COUNT = "1/0124082084.08223"
SPACECRAFT_CLOCK_STOP_COUNT = "1/0124082306.63951"
START_TIME = 2007-04-08T03:15:27.805Z
STOP_TIME = 2007-04-08T03:17:51.493Z
/* ORBITAL DATA ELEMENTS */
ASCENDING_NODE_LONGITUDE = 140.73
MAXIMUM_RESOLUTION = 0.0586
FOOTPRINT_POINT_LATITUDE = (-43.9602,-43.9558,-43.9495,-43.9402, -43.9321,-43.9187,-43.909,-43.9083, -43.8994,-43.6176,-43.4295,-43.2424, -43.0584,-42.8743,-42.6899,-42.4133, -42.1427,-41.962,-41.6908,-41.5101, -41.3331,-41.1559,-40.9785,-40.8012, -40.5364,-40.3627,-40.1891,-40.0153, -39.8411,-39.5802,-39.2406,-38.9852, -38.6446,-38.3035,-37.9614,-37.6184, -37.2752,-36.9312,-36.759,-36.5868, -36.328,-36.1554,-35.9823,-35.8093, -35.6361,-35.4628,-35.289,-35.1159, -35.0291,-35.0261,-35.0326,-35.0385, -35.0432,-35.047,-35.05,-35.0501, -35.0511,-35.226,-35.3998,-35.6604, -35.834,-36.094,-36.2671,-36.4402, -36.6131,-36.7859,-36.9585,-37.1309, -37.4756,-37.8195,-38.1629,-38.5057, -38.8478,-39.1894,-39.5302,-39.7027, -39.8775,-40.0506,-40.2246,-40.3988, -40.5732,-40.7507,-40.9293,-41.1958, -41.3737,-41.5511,-41.7321,-41.9139, -42.0955,-42.2768,-42.4579,-42.7357, -42.921,-43.1059,-43.2906,-43.4782, -43.6669,-43.8555,-43.9497,-43.9602)
FOOTPRINT_POINT_LONGITUDE = (142.171,141.892,141.553,141.134, 140.815,140.357,140.058,140.038,140.018 ,140.043,140.06,140.076,140.092,140.108 ,140.123,140.146,140.169,140.183, 140.206,140.22,140.233,140.247,140.26, 140.273,140.293,140.305,140.317,140.329 ,140.341,140.358,140.381,140.398,140.42 ,140.442,140.463,140.483,140.503, 140.522,140.532,140.541,140.555,140.565 ,140.573,140.582,140.591,140.6,140.608, 140.617,140.621,140.621,140.924,141.242 ,141.532,141.821,142.156,142.17,142.175 ,142.174,142.174,142.175,142.175, 142.176,142.176,142.177,142.177,142.177 ,142.178,142.178,142.179,142.18,142.18, 142.181,142.182,142.182,142.183,142.182 ,142.182,142.186,142.187,142.187, 142.186,142.184,142.184,142.185,142.185 ,142.186,142.187,142.187,142.187, 142.187,142.187,142.187,142.187,142.187 ,142.188,142.188,142.188,142.188, 142.188,142.171)
ORBIT_NUMBER = 4180
ORBITAL_ECCENTRICITY = 0.571
ORBITAL_INCLINATION = 86.67
ORBITAL_SEMIMAJOR_AXIS = 8615.75
PERIAPSIS_ALTITUDE = 300.94
PERIAPSIS_ARGUMENT_ANGLE = 341.79
PERIAPSIS_TIME = 2007-04-08T03:22:16.000Z
SPACECRAFT_ORIENTATION = (0.0,1.0,0.0)
^MEX_ORIENTATION_DESC = "MEX_ORIENTATION_DESC.TXT"
SPACECRAFT_POINTING_MODE = NADIR
^MEX_POINTING_DESC = "MEX_POINTING_DESC.TXT"
RIGHT_ASCENSION = -1e+32
DECLINATION = -1e+32
OFFSET_ANGLE = -1e+32
SPACECRAFT_SOLAR_DISTANCE = 2.10093e+08
TARGET_NAME = MARS
/* CAMERA DATA ELEMENTS */
DETECTOR_TEMPERATURE = 18.3705
FOCAL_PLANE_TEMPERATURE = 9.6028
INST_CMPRS_NAME = "DISCRETE COSINE TRANSFORMATION (DCT)"
INST_CMPRS_RATIO = 7.35507
INST_CMPRS_QUALITY = 0
INST_CMPRS_QUANTZ_TBL_ID = 0
INSTRUMENT_TEMPERATURE = 11.4379
LENS_TEMPERATURE = 9.6028
MACROPIXEL_SIZE = 4
MISSING_FRAMES = 0
PIXEL_SUBSAMPLING_FLAG = N
SIGNAL_CHAIN_ID = 2
/* RADIOMETRIC DATA ELEMENTS */
BANDWIDTH = 76.0
CENTER_FILTER_WAVELENGTH = 444.0
RADIANCE_OFFSET = 0.676746
RADIANCE_SCALING_FACTOR = 0.00133757
REFLECTANCE_SCALING_FACTOR = 6.06596e-05
MEX:REFLECTANCE_OFFSET = 0.0306909
/* IMAGE OBJECT DEFINITIONS */
OBJECT = IMAGE
  INTERCHANGE_FORMAT = BINARY
  LINES = 10576
  LINE_SAMPLES = 1974
  SAMPLE_TYPE = UNSIGNED_INTEGER
  SAMPLE_BITS = 8
  BANDS = 1
  BAND_STORAGE_TYPE = BAND_SEQUENTIAL
  MAXIMUM = 255
  MEAN = 141.026
  MINIMUM = 1
  STANDARD_DEVIATION = 21.2333
END_OBJECT = IMAGE
/* MAP OBJECT DEFINITIONS */
OBJECT = IMAGE_MAP_PROJECTION
  ^DATA_SET_MAP_PROJECTION_CATALOG= "DSMAP.CAT"
  A_AXIS_RADIUS = 3396.0
  B_AXIS_RADIUS = 3396.0
  C_AXIS_RADIUS = 3396.0
  CENTER_LATITUDE = 0.0
  CENTER_LONGITUDE = 141.0
  COORDINATE_SYSTEM_NAME = PLANETOGRAPHIC
  COORDINATE_SYSTEM_TYPE = "BODY-FIXED ROTATING"
  EASTERNMOST_LONGITUDE = 142.188
  FIRST_STANDARD_PARALLEL = "N/A"
  LINE_FIRST_PIXEL = 1
  LINE_LAST_PIXEL = 10576
  LINE_PROJECTION_OFFSET = -41522.375
  MAP_PROJECTION_ROTATION = 0.0
  MAP_PROJECTION_TYPE = SINUSOIDAL
  MAP_RESOLUTION = 1185.42760773333
  MAP_SCALE = 0.05
  MAXIMUM_LATITUDE = -35.0261
  MINIMUM_LATITUDE = -43.9602
  POSITIVE_LONGITUDE_DIRECTION = EAST
  REFERENCE_LATITUDE = "N/A"
  REFERENCE_LONGITUDE = "N/A"
  SAMPLE_FIRST_PIXEL = 1
  SAMPLE_LAST_PIXEL = 1974
  SAMPLE_PROJECTION_OFFSET = 838.625
  SECOND_STANDARD_PARALLEL = "N/A"
  WESTERNMOST_LONGITUDE = 140.018
END_OBJECT = IMAGE_MAP_PROJECTION
END
