PDS_VERSION_ID = PDS3
/* FILE DATA ELEMENTS */
RECORD_TYPE = UNDEFINED
/* POINTERS TO DATA OBJECTS */
^IMAGE = ("H4175_0001_BL4.TIF")
/* IDENTIFICATION DATA ELEMENTS */
DATA_SET_ID = "MEX-M-HRSC-4-REFDR-MAPPROJECT-EXT1-V4.0"
DATA_SET_NAME = "MARS EXPRESS HRSC MAP PROJECTED REFDR EXTENSION1 V4.0"
DETECTOR_ID = MEX_HRSC_BLUE
EVENT_TYPE = "MARS-LOCAL-STEREO-Vo-Te-La"
INSTRUMENT_HOST_ID = MEX
INSTRUMENT_HOST_NAME = "MARS EXPRESS"
INSTRUMENT_ID = HRSC
INSTRUMENT_NAME = "HIGH RESOLUTION STEREO CAMERA"
MISSION_NAME = "MARS EXPRESS"
MISSION_PHASE_NAME = ME_Phase_7
PROCESSING_LEVEL_ID = 4
PRODUCT_CREATION_TIME = 2023-02-09T23:17:53.000Z
PRODUCT_ID = "H4175_0001_BL4.TIF"
RELEASE_ID = 0005
REVISION_ID = 0000
/* QUALITY DATA ELEMENTS */
DATA_QUALITY_ID = 1
DATA_QUALITY_DESC = "Data calculated based on original SPICE kernels"
/* TIME DATA ELEMENTS */
SPACECRAFT_CLOCK_START_COUNT = "1/0123961692.08232"
SPACECRAFT_CLOCK_STOP_COUNT = "1/0123961889.01192"
START_TIME = 2007-04-06T17:48:39.352Z
STOP_TIME = 2007-04-06T17:50:51.442Z
/* ORBITAL DATA ELEMENTS */
ASCENDING_NODE_LONGITUDE = 140.83
MAXIMUM_RESOLUTION = 0.0985
FOOTPRINT_POINT_LATITUDE = (-9.06902,-9.07343,-9.0761,-9.08103, -9.08551,-9.08564,-9.08981,-8.76888, -8.52174,-8.35571,-8.18974,-8.02383, -7.85797,-7.60918,-7.27695,-7.10826, -6.9421,-6.69258,-6.52606,-6.2011, -5.86732,-5.69617,-5.52447,-5.35414, -5.18325,-5.01135,-4.83671,-4.6631, -4.49264,-4.15877,-3.98847,-3.81817, -3.64238,-3.4665,-3.20275,-3.02693, -2.76342,-2.50014,-2.32479,-2.14949, -1.88661,-1.71153,-1.53657,-1.36168, -1.18689,-1.01222,-0.837626,-0.575815, -0.488728,-0.463095,-0.459314,-0.456439 ,-0.452009,-0.448271,-0.44466,-0.444477 ,-0.446062,-0.620446,-0.795132,-1.05714 ,-1.31931,-1.49426,-1.66932,-1.84443, -2.01964,-2.19497,-2.45812,-2.63355, -2.80918,-2.98485,-3.16056,-3.33634, -3.51226,-3.68822,-3.86202,-4.11773, -4.28823,-4.45302,-4.62139,-4.79219, -4.96709,-5.14155,-5.31313,-5.56953, -5.74057,-5.91176,-6.2437,-6.57304, -6.89792,-7.06354,-7.39803,-7.64961, -7.81792,-7.98388,-8.14988,-8.39862, -8.73009,-8.97083,-9.0511,-9.06902)
FOOTPRINT_POINT_LONGITUDE = (274.284,274.014,273.844,273.509, 273.181,273.17,273.161,273.158,273.156, 273.154,273.153,273.151,273.149,273.147 ,273.144,273.144,273.143,273.141,273.14 ,273.132,273.128,273.126,273.124, 273.122,273.12,273.118,273.119,273.118, 273.116,273.107,273.105,273.102,273.1, 273.098,273.094,273.091,273.088,273.084 ,273.081,273.079,273.075,273.072, 273.069,273.067,273.064,273.061,273.058 ,273.054,273.052,273.052,273.311, 273.506,273.797,274.044,274.271,274.283 ,274.291,274.29,274.289,274.287,274.285 ,274.284,274.282,274.281,274.28,274.279 ,274.277,274.276,274.275,274.274, 274.273,274.272,274.271,274.271,274.27, 274.269,274.268,274.289,274.297,274.296 ,274.28,274.266,274.263,274.263,274.262 ,274.262,274.261,274.267,274.292, 274.292,274.281,274.271,274.262,274.262 ,274.262,274.263,274.262,274.262, 274.262,274.284)
ORBIT_NUMBER = 4175
ORBITAL_ECCENTRICITY = 0.572
ORBITAL_INCLINATION = 86.67
ORBITAL_SEMIMAJOR_AXIS = 8624.33
PERIAPSIS_ALTITUDE = 300.66
PERIAPSIS_ARGUMENT_ANGLE = 342.65
PERIAPSIS_TIME = 2007-04-06T17:46:40.000Z
SPACECRAFT_ORIENTATION = (0.0,1.0,0.0)
^MEX_ORIENTATION_DESC = "MEX_ORIENTATION_DESC.TXT"
SPACECRAFT_POINTING_MODE = ACROSSTRACK
^MEX_POINTING_DESC = "MEX_POINTING_DESC.TXT"
RIGHT_ASCENSION = -1e+32
DECLINATION = -1e+32
OFFSET_ANGLE = -0.8
SPACECRAFT_SOLAR_DISTANCE = 2.10256e+08
TARGET_NAME = MARS
/* CAMERA DATA ELEMENTS */
DETECTOR_TEMPERATURE = 18.7783
FOCAL_PLANE_TEMPERATURE = 9.6028
INST_CMPRS_NAME = "DISCRETE COSINE TRANSFORMATION (DCT)"
INST_CMPRS_RATIO = 12.1576
INST_CMPRS_QUALITY = 0
INST_CMPRS_QUANTZ_TBL_ID = 0
INSTRUMENT_TEMPERATURE = 13.0691
LENS_TEMPERATURE = 9.8067
MACROPIXEL_SIZE = 8
MISSING_FRAMES = 0
PIXEL_SUBSAMPLING_FLAG = N
SIGNAL_CHAIN_ID = 3
/* RADIOMETRIC DATA ELEMENTS */
BANDWIDTH = 76.0
CENTER_FILTER_WAVELENGTH = 444.0
RADIANCE_OFFSET = 0.388826
RADIANCE_SCALING_FACTOR = 0.00236099
REFLECTANCE_SCALING_FACTOR = 0.000107238
MEX:REFLECTANCE_OFFSET = 0.0176607
/* IMAGE OBJECT DEFINITIONS */
OBJECT = IMAGE
  INTERCHANGE_FORMAT = BINARY
  LINES = 5123
  LINE_SAMPLES = 752
  SAMPLE_TYPE = UNSIGNED_INTEGER
  SAMPLE_BITS = 8
  BANDS = 1
  BAND_STORAGE_TYPE = BAND_SEQUENTIAL
  MAXIMUM = 255
  MEAN = 110.122
  MINIMUM = 1
  STANDARD_DEVIATION = 24.7769
END_OBJECT = IMAGE
/* MAP OBJECT DEFINITIONS */
OBJECT = IMAGE_MAP_PROJECTION
  ^DATA_SET_MAP_PROJECTION_CATALOG= "DSMAP.CAT"
  A_AXIS_RADIUS = 3396.0
  B_AXIS_RADIUS = 3396.0
  C_AXIS_RADIUS = 3396.0
  CENTER_LATITUDE = 0.0
  CENTER_LONGITUDE = 274.0
  COORDINATE_SYSTEM_NAME = PLANETOGRAPHIC
  COORDINATE_SYSTEM_TYPE = "BODY-FIXED ROTATING"
  EASTERNMOST_LONGITUDE = 274.297
  FIRST_STANDARD_PARALLEL = "N/A"
  LINE_FIRST_PIXEL = 1
  LINE_LAST_PIXEL = 5123
  LINE_PROJECTION_OFFSET = -266.5625
  MAP_PROJECTION_ROTATION = 0.0
  MAP_PROJECTION_TYPE = SINUSOIDAL
  MAP_RESOLUTION = 592.713803866667
  MAP_SCALE = 0.1
  MAXIMUM_LATITUDE = -0.444477
  MINIMUM_LATITUDE = -9.08981
  POSITIVE_LONGITUDE_DIRECTION = EAST
  REFERENCE_LATITUDE = "N/A"
  REFERENCE_LONGITUDE = "N/A"
  SAMPLE_FIRST_PIXEL = 1
  SAMPLE_LAST_PIXEL = 752
  SAMPLE_PROJECTION_OFFSET = 573.5625
  SECOND_STANDARD_PARALLEL = "N/A"
  WESTERNMOST_LONGITUDE = 273.052
END_OBJECT = IMAGE_MAP_PROJECTION
END
