PDS_VERSION_ID = PDS3
/* FILE DATA ELEMENTS */
RECORD_TYPE = UNDEFINED
/* POINTERS TO DATA OBJECTS */
^IMAGE = ("H4174_0000_S14.TIF")
/* IDENTIFICATION DATA ELEMENTS */
DATA_SET_ID = "MEX-M-HRSC-4-REFDR-MAPPROJECT-EXT1-V4.0"
DATA_SET_NAME = "MARS EXPRESS HRSC MAP PROJECTED REFDR EXTENSION1 V4.0"
DETECTOR_ID = MEX_HRSC_S1
EVENT_TYPE = "MARS-REGIONAL-MAPPING-Im"
INSTRUMENT_HOST_ID = MEX
INSTRUMENT_HOST_NAME = "MARS EXPRESS"
INSTRUMENT_ID = HRSC
INSTRUMENT_NAME = "HIGH RESOLUTION STEREO CAMERA"
MISSION_NAME = "MARS EXPRESS"
MISSION_PHASE_NAME = ME_Phase_7
PROCESSING_LEVEL_ID = 4
PRODUCT_CREATION_TIME = 2023-02-09T23:17:53.000Z
PRODUCT_ID = "H4174_0000_S14.TIF"
RELEASE_ID = 0005
REVISION_ID = 0000
/* QUALITY DATA ELEMENTS */
DATA_QUALITY_ID = 1
DATA_QUALITY_DESC = "Data calculated based on original SPICE kernels"
/* TIME DATA ELEMENTS */
SPACECRAFT_CLOCK_START_COUNT = "1/0123937197.07286"
SPACECRAFT_CLOCK_STOP_COUNT = "1/0123937413.46514"
START_TIME = 2007-04-06T11:01:05.053Z
STOP_TIME = 2007-04-06T11:03:35.896Z
/* ORBITAL DATA ELEMENTS */
ASCENDING_NODE_LONGITUDE = 140.86
MAXIMUM_RESOLUTION = 0.0265
FOOTPRINT_POINT_LATITUDE = (-28.4943,-28.4587,-28.4335,-28.4088, -28.3847,-28.3379,-28.3364,-28.3531, -28.1441,-27.9337,-27.7244,-27.5142, -27.1999,-26.9904,-26.7813,-26.5746, -26.3712,-26.1681,-25.9655,-25.7634, -25.5605,-25.3582,-25.0542,-24.8516, -24.548,-24.3452,-24.0414,-23.8387, -23.637,-23.434,-23.1312,-22.8274, -22.625,-22.3241,-21.8355,-21.5434, -21.3484,-21.0565,-20.8604,-20.6656, -20.374,-20.1795,-19.8861,-19.6908, -19.4064,-19.2086,-18.9136,-18.432, -18.3326,-18.3058,-18.3468,-18.3969, -18.4262,-18.4663,-18.468,-18.469, -18.6625,-18.8562,-19.146,-19.3399, -19.631,-19.9228,-20.1163,-20.3134, -20.7001,-20.8946,-21.1858,-21.3798, -21.5753,-21.7704,-22.0627,-22.2566, -22.4514,-22.6512,-22.8541,-23.0552, -23.2598,-23.4615,-23.664,-23.8663, -24.0681,-24.2712,-24.5739,-24.7773, -25.0825,-25.2863,-25.5909,-25.8942, -26.1963,-26.3959,-26.6012,-26.9093, -27.1165,-27.4318,-27.642,-27.8515, -28.061,-28.3765,-28.4811,-28.4943)
FOOTPRINT_POINT_LONGITUDE = (14.1883,13.8496,13.6118,13.3808, 13.1567,12.7261,12.713,12.7239,12.725, 12.7249,12.7256,12.7255,12.7261,12.7264 ,12.727,12.7274,12.727,12.7267,12.7268, 12.7273,12.727,12.7271,12.7268,12.7264, 12.7261,12.7254,12.7246,12.7238,12.7239 ,12.7226,12.7222,12.7207,12.7196, 12.7197,12.717,12.7161,12.7151,12.714, 12.7118,12.7107,12.7094,12.7083,12.7051 ,12.7031,12.7073,12.7029,12.6976, 12.6968,12.694,12.694,13.0267,13.4297, 13.6673,13.997,14.011,14.0161,14.0186, 14.0215,14.0243,14.0271,14.0315,14.0369 ,14.0387,14.0459,14.049,14.0521,14.0557 ,14.0579,14.0624,14.0661,14.0712,14.073 ,14.0761,14.0791,14.0843,14.0868, 14.0945,14.0978,14.1024,14.1064,14.1099 ,14.1151,14.1201,14.1259,14.1346, 14.1409,14.1486,14.1544,14.1582,14.1581 ,14.1668,14.1748,14.1761,14.1849, 14.1909,14.1958,14.2007,14.2102,14.2125 ,14.1883)
ORBIT_NUMBER = 4174
ORBITAL_ECCENTRICITY = 0.571
ORBITAL_INCLINATION = 86.67
ORBITAL_SEMIMAJOR_AXIS = 8617.54
PERIAPSIS_ALTITUDE = 301.27
PERIAPSIS_ARGUMENT_ANGLE = 342.82
PERIAPSIS_TIME = 2007-04-06T11:03:27.000Z
SPACECRAFT_ORIENTATION = (0.0,1.0,0.0)
^MEX_ORIENTATION_DESC = "MEX_ORIENTATION_DESC.TXT"
SPACECRAFT_POINTING_MODE = ACROSSTRACK
^MEX_POINTING_DESC = "MEX_POINTING_DESC.TXT"
RIGHT_ASCENSION = -1e+32
DECLINATION = -1e+32
OFFSET_ANGLE = -2.0
SPACECRAFT_SOLAR_DISTANCE = 2.10289e+08
TARGET_NAME = MARS
/* CAMERA DATA ELEMENTS */
DETECTOR_TEMPERATURE = 17.5549
FOCAL_PLANE_TEMPERATURE = 8.7872
INST_CMPRS_NAME = "DISCRETE COSINE TRANSFORMATION (DCT)"
INST_CMPRS_RATIO = 8.99693
INST_CMPRS_QUALITY = 0
INST_CMPRS_QUANTZ_TBL_ID = 0
INSTRUMENT_TEMPERATURE = 11.4379
LENS_TEMPERATURE = 9.6028
MACROPIXEL_SIZE = 2
MISSING_FRAMES = 0
PIXEL_SUBSAMPLING_FLAG = N
SIGNAL_CHAIN_ID = 1
/* RADIOMETRIC DATA ELEMENTS */
BANDWIDTH = 180.0
CENTER_FILTER_WAVELENGTH = 677.0
RADIANCE_OFFSET = 4.09976
RADIANCE_SCALING_FACTOR = 0.0145991
REFLECTANCE_SCALING_FACTOR = 0.000336822
MEX:REFLECTANCE_OFFSET = 0.0945873
/* IMAGE OBJECT DEFINITIONS */
OBJECT = IMAGE
  INTERCHANGE_FORMAT = BINARY
  LINES = 23864
  LINE_SAMPLES = 3228
  SAMPLE_TYPE = UNSIGNED_INTEGER
  SAMPLE_BITS = 8
  BANDS = 1
  BAND_STORAGE_TYPE = BAND_SEQUENTIAL
  MAXIMUM = 255
  MEAN = 120.392
  MINIMUM = 1
  STANDARD_DEVIATION = 19.0149
END_OBJECT = IMAGE
/* MAP OBJECT DEFINITIONS */
OBJECT = IMAGE_MAP_PROJECTION
  ^DATA_SET_MAP_PROJECTION_CATALOG= "DSMAP.CAT"
  A_AXIS_RADIUS = 3396.0
  B_AXIS_RADIUS = 3396.0
  C_AXIS_RADIUS = 3396.0
  CENTER_LATITUDE = 0.0
  CENTER_LONGITUDE = 13.0
  COORDINATE_SYSTEM_NAME = PLANETOGRAPHIC
  COORDINATE_SYSTEM_TYPE = "BODY-FIXED ROTATING"
  EASTERNMOST_LONGITUDE = 14.2125
  FIRST_STANDARD_PARALLEL = "N/A"
  LINE_FIRST_PIXEL = 1
  LINE_LAST_PIXEL = 23864
  LINE_PROJECTION_OFFSET = -43585.25
  MAP_PROJECTION_ROTATION = 0.0
  MAP_PROJECTION_TYPE = SINUSOIDAL
  MAP_RESOLUTION = 2370.85521546667
  MAP_SCALE = 0.025
  MAXIMUM_LATITUDE = -18.3058
  MINIMUM_LATITUDE = -28.4943
  POSITIVE_LONGITUDE_DIRECTION = EAST
  REFERENCE_LATITUDE = "N/A"
  REFERENCE_LONGITUDE = "N/A"
  SAMPLE_FIRST_PIXEL = 1
  SAMPLE_LAST_PIXEL = 3228
  SAMPLE_PROJECTION_OFFSET = 713.75
  SECOND_STANDARD_PARALLEL = "N/A"
  WESTERNMOST_LONGITUDE = 12.694
END_OBJECT = IMAGE_MAP_PROJECTION
END
