PDS_VERSION_ID = PDS3
/* FILE DATA ELEMENTS */
RECORD_TYPE = UNDEFINED
/* POINTERS TO DATA OBJECTS */
^IMAGE = ("H4174_0000_P24.TIF")
/* IDENTIFICATION DATA ELEMENTS */
DATA_SET_ID = "MEX-M-HRSC-4-REFDR-MAPPROJECT-EXT1-V4.0"
DATA_SET_NAME = "MARS EXPRESS HRSC MAP PROJECTED REFDR EXTENSION1 V4.0"
DETECTOR_ID = MEX_HRSC_P2
EVENT_TYPE = "MARS-REGIONAL-MAPPING-Im"
INSTRUMENT_HOST_ID = MEX
INSTRUMENT_HOST_NAME = "MARS EXPRESS"
INSTRUMENT_ID = HRSC
INSTRUMENT_NAME = "HIGH RESOLUTION STEREO CAMERA"
MISSION_NAME = "MARS EXPRESS"
MISSION_PHASE_NAME = ME_Phase_7
PROCESSING_LEVEL_ID = 4
PRODUCT_CREATION_TIME = 2023-02-09T23:17:53.000Z
PRODUCT_ID = "H4174_0000_P24.TIF"
RELEASE_ID = 0005
REVISION_ID = 0000
/* QUALITY DATA ELEMENTS */
DATA_QUALITY_ID = 1
DATA_QUALITY_DESC = "Data calculated based on original SPICE kernels"
/* TIME DATA ELEMENTS */
SPACECRAFT_CLOCK_START_COUNT = "1/0123937197.07286"
SPACECRAFT_CLOCK_STOP_COUNT = "1/0123937413.46514"
START_TIME = 2007-04-06T11:00:12.775Z
STOP_TIME = 2007-04-06T11:02:48.123Z
/* ORBITAL DATA ELEMENTS */
ASCENDING_NODE_LONGITUDE = 140.86
MAXIMUM_RESOLUTION = 0.0518
FOOTPRINT_POINT_LATITUDE = (-28.4022,-28.4373,-28.4573,-28.4942, -28.5273,-28.5282,-28.5154,-28.3153, -28.1146,-27.8138,-27.613,-27.4124, -27.2113,-27.0097,-26.808,-26.6062, -26.4047,-26.2029,-25.8992,-25.5956, -25.3931,-25.1904,-24.9871,-24.7842, -24.479,-24.1741,-23.9707,-23.767, -23.463,-23.2651,-22.87,-22.6721, -22.4743,-22.2737,-22.0739,-21.7794, -21.5809,-21.3819,-21.0836,-20.7858, -20.5868,-20.3875,-20.1881,-19.9889, -19.7907,-19.5914,-19.2909,-19.0033, -18.6157,-18.5188,-18.4583,-18.425, -18.4016,-18.3717,-18.3304,-18.3289, -18.3292,-18.9096,-19.301,-19.5001, -19.7997,-19.9993,-20.297,-20.4977, -20.7967,-20.9961,-21.1953,-21.3947, -21.5929,-21.8902,-22.0891,-22.2878, -22.487,-22.7835,-23.2766,-23.477, -23.6809,-23.8849,-24.0891,-24.2919, -24.4955,-24.6998,-24.9014,-25.2043, -25.5071,-25.7094,-25.9124,-26.217, -26.4205,-26.6201,-26.8217,-27.0257, -27.2262,-27.4269,-27.6274,-27.8282, -28.0286,-28.229,-28.329,-28.4022)
FOOTPRINT_POINT_LONGITUDE = (14.2019,13.8075,13.5733,13.1226, 12.6936,12.6805,12.6914,12.6926,12.6942 ,12.6957,12.6968,12.6973,12.6982, 12.6994,12.7004,12.7013,12.7016,12.7021 ,12.7033,12.7041,12.7043,12.7046, 12.7053,12.7053,12.706,12.7059,12.7056, 12.7055,12.7054,12.7057,12.7048,12.7045 ,12.704,12.7065,12.708,12.7036,12.703, 12.7029,12.7021,12.7002,12.6995,12.6988 ,12.6982,12.6971,12.6948,12.6935, 12.6942,12.6901,12.6892,12.6889,12.6891 ,13.0435,13.2832,13.5825,13.9877, 14.0015,14.006,14.0157,14.0201,14.025, 14.03,14.0334,14.0418,14.0426,14.0477, 14.0505,14.0538,14.0565,14.0614,14.0683 ,14.0714,14.0746,14.0764,14.0838,14.097 ,14.1008,14.1055,14.1095,14.1131, 14.1194,14.1236,14.1262,14.134,14.1442, 14.1541,14.1594,14.163,14.1677,14.1693, 14.179,14.1841,14.1842,14.1909,14.197, 14.2031,14.2084,14.2141,14.2195,14.2226 ,14.2019)
ORBIT_NUMBER = 4174
ORBITAL_ECCENTRICITY = 0.571
ORBITAL_INCLINATION = 86.67
ORBITAL_SEMIMAJOR_AXIS = 8617.54
PERIAPSIS_ALTITUDE = 301.27
PERIAPSIS_ARGUMENT_ANGLE = 342.82
PERIAPSIS_TIME = 2007-04-06T11:03:27.000Z
SPACECRAFT_ORIENTATION = (0.0,1.0,0.0)
^MEX_ORIENTATION_DESC = "MEX_ORIENTATION_DESC.TXT"
SPACECRAFT_POINTING_MODE = ACROSSTRACK
^MEX_POINTING_DESC = "MEX_POINTING_DESC.TXT"
RIGHT_ASCENSION = -1e+32
DECLINATION = -1e+32
OFFSET_ANGLE = -2.0
SPACECRAFT_SOLAR_DISTANCE = 2.10289e+08
TARGET_NAME = MARS
/* CAMERA DATA ELEMENTS */
DETECTOR_TEMPERATURE = 18.7783
FOCAL_PLANE_TEMPERATURE = 8.7872
INST_CMPRS_NAME = "DISCRETE COSINE TRANSFORMATION (DCT)"
INST_CMPRS_RATIO = 8.1366
INST_CMPRS_QUALITY = 0
INST_CMPRS_QUANTZ_TBL_ID = 0
INSTRUMENT_TEMPERATURE = 11.4379
LENS_TEMPERATURE = 9.6028
MACROPIXEL_SIZE = 4
MISSING_FRAMES = 0
PIXEL_SUBSAMPLING_FLAG = N
SIGNAL_CHAIN_ID = 3
/* RADIOMETRIC DATA ELEMENTS */
BANDWIDTH = 177.0
CENTER_FILTER_WAVELENGTH = 676.5
RADIANCE_OFFSET = 3.63565
RADIANCE_SCALING_FACTOR = 0.0142574
REFLECTANCE_SCALING_FACTOR = 0.000334297
MEX:REFLECTANCE_OFFSET = 0.0852458
/* IMAGE OBJECT DEFINITIONS */
OBJECT = IMAGE
  INTERCHANGE_FORMAT = BINARY
  LINES = 11932
  LINE_SAMPLES = 1614
  SAMPLE_TYPE = UNSIGNED_INTEGER
  SAMPLE_BITS = 8
  BANDS = 1
  BAND_STORAGE_TYPE = BAND_SEQUENTIAL
  MAXIMUM = 255
  MEAN = 123.632
  MINIMUM = 1
  STANDARD_DEVIATION = 19.3246
END_OBJECT = IMAGE
/* MAP OBJECT DEFINITIONS */
OBJECT = IMAGE_MAP_PROJECTION
  ^DATA_SET_MAP_PROJECTION_CATALOG= "DSMAP.CAT"
  A_AXIS_RADIUS = 3396.0
  B_AXIS_RADIUS = 3396.0
  C_AXIS_RADIUS = 3396.0
  CENTER_LATITUDE = 0.0
  CENTER_LONGITUDE = 13.0
  COORDINATE_SYSTEM_NAME = PLANETOGRAPHIC
  COORDINATE_SYSTEM_TYPE = "BODY-FIXED ROTATING"
  EASTERNMOST_LONGITUDE = 14.2226
  FIRST_STANDARD_PARALLEL = "N/A"
  LINE_FIRST_PIXEL = 1
  LINE_LAST_PIXEL = 11932
  LINE_PROJECTION_OFFSET = -21792.875
  MAP_PROJECTION_ROTATION = 0.0
  MAP_PROJECTION_TYPE = SINUSOIDAL
  MAP_RESOLUTION = 1185.42760773333
  MAP_SCALE = 0.05
  MAXIMUM_LATITUDE = -18.3289
  MINIMUM_LATITUDE = -28.5282
  POSITIVE_LONGITUDE_DIRECTION = EAST
  REFERENCE_LATITUDE = "N/A"
  REFERENCE_LONGITUDE = "N/A"
  SAMPLE_FIRST_PIXEL = 1
  SAMPLE_LAST_PIXEL = 1614
  SAMPLE_PROJECTION_OFFSET = 356.625
  SECOND_STANDARD_PARALLEL = "N/A"
  WESTERNMOST_LONGITUDE = 12.6805
END_OBJECT = IMAGE_MAP_PROJECTION
END
