PDS_VERSION_ID = PDS3
/* FILE DATA ELEMENTS */
RECORD_TYPE = UNDEFINED
/* POINTERS TO DATA OBJECTS */
^IMAGE = ("H4171_0000_P24.TIF")
/* IDENTIFICATION DATA ELEMENTS */
DATA_SET_ID = "MEX-M-HRSC-4-REFDR-MAPPROJECT-EXT1-V4.0"
DATA_SET_NAME = "MARS EXPRESS HRSC MAP PROJECTED REFDR EXTENSION1 V4.0"
DETECTOR_ID = MEX_HRSC_P2
EVENT_TYPE = "MARS-LOCAL-STEREO-Fl-Lc-La"
INSTRUMENT_HOST_ID = MEX
INSTRUMENT_HOST_NAME = "MARS EXPRESS"
INSTRUMENT_ID = HRSC
INSTRUMENT_NAME = "HIGH RESOLUTION STEREO CAMERA"
MISSION_NAME = "MARS EXPRESS"
MISSION_PHASE_NAME = ME_Phase_7
PROCESSING_LEVEL_ID = 4
PRODUCT_CREATION_TIME = 2023-02-09T23:17:53.000Z
PRODUCT_ID = "H4171_0000_P24.TIF"
RELEASE_ID = 0005
REVISION_ID = 0000
/* QUALITY DATA ELEMENTS */
DATA_QUALITY_ID = 1
DATA_QUALITY_DESC = "Data calculated based on original SPICE kernels"
/* TIME DATA ELEMENTS */
SPACECRAFT_CLOCK_START_COUNT = "1/0123864789.07308"
SPACECRAFT_CLOCK_STOP_COUNT = "1/0123865039.63366"
START_TIME = 2007-04-05T14:53:22.523Z
STOP_TIME = 2007-04-05T14:56:33.281Z
/* ORBITAL DATA ELEMENTS */
ASCENDING_NODE_LONGITUDE = 140.92
MAXIMUM_RESOLUTION = 0.0247
FOOTPRINT_POINT_LATITUDE = (-18.0241,-18.0356,-18.0438,-18.0508, -18.051,-18.0496,-17.8273,-17.605, -17.3808,-17.0436,-16.6049,-16.3817, -16.1581,-15.9346,-15.586,-15.3494, -14.9231,-14.6898,-14.4519,-14.0308, -13.8101,-13.4741,-13.25,-13.0257, -12.802,-12.5776,-12.2418,-11.1094, -10.8504,-10.6213,-10.2713,-10.0375, -9.80394,-9.57075,-9.33732,-8.9876, -8.75424,-8.52068,-8.28758,-8.05418, -7.70428,-7.35453,-7.12128,-6.8883, -6.65538,-6.29336,-5.93125,-5.56898, -5.44823,-5.42606,-5.41159,-5.40091, -5.39312,-5.39276,-5.39305,-5.75621, -5.99787,-6.2392,-6.48053,-6.71831, -6.95137,-7.3009,-7.53415,-7.88387, -8.11759,-8.3509,-8.70076,-8.93425, -9.16823,-9.4025,-9.75363,-9.98728, -10.2202,-10.4527,-10.7995,-11.0583, -12.1901,-12.4142,-12.6383,-12.8626, -13.0866,-13.311,-13.5355,-13.7599, -14.203,-14.6259,-14.9757,-15.2968, -15.5204,-15.7575,-15.9888,-16.2195, -16.4457,-16.8912,-17.1131,-17.336, -17.5582,-17.8914,-18.0026,-18.0241)
FOOTPRINT_POINT_LONGITUDE = (307.081,306.661,306.314,305.971,305.96 ,305.957,305.958,305.959,305.96,305.961 ,305.962,305.963,305.963,305.964, 305.964,305.964,305.964,305.964,305.964 ,305.964,305.964,305.963,305.963, 305.962,305.962,305.961,305.96,305.956, 305.955,305.954,305.952,305.95,305.949, 305.947,305.946,305.944,305.942,305.94, 305.938,305.936,305.934,305.931,305.928 ,305.926,305.924,305.921,305.917, 305.913,305.912,305.911,306.431,306.784 ,307.03,307.041,307.045,307.044,307.043 ,307.044,307.044,307.044,307.044, 307.044,307.045,307.045,307.045,307.045 ,307.045,307.045,307.045,307.045, 307.044,307.044,307.045,307.046,307.047 ,307.048,307.052,307.053,307.054, 307.055,307.056,307.057,307.058,307.058 ,307.065,307.089,307.078,307.092, 307.094,307.083,307.077,307.071,307.07, 307.073,307.075,307.076,307.078,307.081 ,307.082,307.081)
ORBIT_NUMBER = 4171
ORBITAL_ECCENTRICITY = 0.571
ORBITAL_INCLINATION = 86.68
ORBITAL_SEMIMAJOR_AXIS = 8615.58
PERIAPSIS_ALTITUDE = 301.41
PERIAPSIS_ARGUMENT_ANGLE = 343.38
PERIAPSIS_TIME = 2007-04-05T14:54:03.000Z
SPACECRAFT_ORIENTATION = (0.0,1.0,0.0)
^MEX_ORIENTATION_DESC = "MEX_ORIENTATION_DESC.TXT"
SPACECRAFT_POINTING_MODE = ACROSSTRACK
^MEX_POINTING_DESC = "MEX_POINTING_DESC.TXT"
RIGHT_ASCENSION = -1e+32
DECLINATION = -1e+32
OFFSET_ANGLE = -0.5
SPACECRAFT_SOLAR_DISTANCE = 2.10388e+08
TARGET_NAME = MARS
/* CAMERA DATA ELEMENTS */
DETECTOR_TEMPERATURE = 18.7783
FOCAL_PLANE_TEMPERATURE = 8.9911
INST_CMPRS_NAME = "DISCRETE COSINE TRANSFORMATION (DCT)"
INST_CMPRS_RATIO = 6.76007
INST_CMPRS_QUALITY = 0
INST_CMPRS_QUANTZ_TBL_ID = 0
INSTRUMENT_TEMPERATURE = 11.4379
LENS_TEMPERATURE = 9.195
MACROPIXEL_SIZE = 2
MISSING_FRAMES = 382
PIXEL_SUBSAMPLING_FLAG = N
SIGNAL_CHAIN_ID = 3
/* RADIOMETRIC DATA ELEMENTS */
BANDWIDTH = 177.0
CENTER_FILTER_WAVELENGTH = 676.5
RADIANCE_OFFSET = 2.91713
RADIANCE_SCALING_FACTOR = 0.0110859
REFLECTANCE_SCALING_FACTOR = 0.000260179
MEX:REFLECTANCE_OFFSET = 0.068463
/* IMAGE OBJECT DEFINITIONS */
OBJECT = IMAGE
  INTERCHANGE_FORMAT = BINARY
  LINES = 29953
  LINE_SAMPLES = 2723
  SAMPLE_TYPE = UNSIGNED_INTEGER
  SAMPLE_BITS = 8
  BANDS = 1
  BAND_STORAGE_TYPE = BAND_SEQUENTIAL
  MAXIMUM = 255
  MEAN = 98.3089
  MINIMUM = 1
  STANDARD_DEVIATION = 25.2672
END_OBJECT = IMAGE
/* MAP OBJECT DEFINITIONS */
OBJECT = IMAGE_MAP_PROJECTION
  ^DATA_SET_MAP_PROJECTION_CATALOG= "DSMAP.CAT"
  A_AXIS_RADIUS = 3396.0
  B_AXIS_RADIUS = 3396.0
  C_AXIS_RADIUS = 3396.0
  CENTER_LATITUDE = 0.0
  CENTER_LONGITUDE = 306.0
  COORDINATE_SYSTEM_NAME = PLANETOGRAPHIC
  COORDINATE_SYSTEM_TYPE = "BODY-FIXED ROTATING"
  EASTERNMOST_LONGITUDE = 307.094
  FIRST_STANDARD_PARALLEL = "N/A"
  LINE_FIRST_PIXEL = 1
  LINE_LAST_PIXEL = 29953
  LINE_PROJECTION_OFFSET = -12805.25
  MAP_PROJECTION_ROTATION = 0.0
  MAP_PROJECTION_TYPE = SINUSOIDAL
  MAP_RESOLUTION = 2370.85521546667
  MAP_SCALE = 0.025
  MAXIMUM_LATITUDE = -5.39276
  MINIMUM_LATITUDE = -18.051
  POSITIVE_LONGITUDE_DIRECTION = EAST
  REFERENCE_LATITUDE = "N/A"
  REFERENCE_LONGITUDE = "N/A"
  SAMPLE_FIRST_PIXEL = 1
  SAMPLE_LAST_PIXEL = 2723
  SAMPLE_PROJECTION_OFFSET = 229.25
  SECOND_STANDARD_PARALLEL = "N/A"
  WESTERNMOST_LONGITUDE = 305.911
END_OBJECT = IMAGE_MAP_PROJECTION
END
