PDS_VERSION_ID = PDS3
/* FILE DATA ELEMENTS */
RECORD_TYPE = UNDEFINED
/* POINTERS TO DATA OBJECTS */
^IMAGE = ("H4167_0000_RE4.TIF")
/* IDENTIFICATION DATA ELEMENTS */
DATA_SET_ID = "MEX-M-HRSC-4-REFDR-MAPPROJECT-EXT1-V4.0"
DATA_SET_NAME = "MARS EXPRESS HRSC MAP PROJECTED REFDR EXTENSION1 V4.0"
DETECTOR_ID = MEX_HRSC_RED
EVENT_TYPE = "MARS-LOCAL-STEREO-Fl-Mw-La"
INSTRUMENT_HOST_ID = MEX
INSTRUMENT_HOST_NAME = "MARS EXPRESS"
INSTRUMENT_ID = HRSC
INSTRUMENT_NAME = "HIGH RESOLUTION STEREO CAMERA"
MISSION_NAME = "MARS EXPRESS"
MISSION_PHASE_NAME = ME_Phase_7
PROCESSING_LEVEL_ID = 4
PRODUCT_CREATION_TIME = 2023-02-09T23:17:53.000Z
PRODUCT_ID = "H4167_0000_RE4.TIF"
RELEASE_ID = 0005
REVISION_ID = 0000
/* QUALITY DATA ELEMENTS */
DATA_QUALITY_ID = 1
DATA_QUALITY_DESC = "Data calculated based on original SPICE kernels"
/* TIME DATA ELEMENTS */
SPACECRAFT_CLOCK_START_COUNT = "1/0123768042.09034"
SPACECRAFT_CLOCK_STOP_COUNT = "1/0123768282.58578"
START_TIME = 2007-04-04T12:00:50.799Z
STOP_TIME = 2007-04-04T12:03:51.482Z
/* ORBITAL DATA ELEMENTS */
ASCENDING_NODE_LONGITUDE = 141.01
MAXIMUM_RESOLUTION = 0.1016
FOOTPRINT_POINT_LATITUDE = (-16.7077,-16.7041,-16.6982,-16.6981, -16.6772,-16.445,-16.0966,-15.8636, -15.6303,-15.3972,-15.1649,-14.9305, -14.6947,-14.3439,-14.1107,-13.8765, -13.6409,-13.4069,-13.1719,-12.9367, -12.5838,-12.2314,-11.8794,-11.5258, -11.2903,-11.0541,-10.8184,-10.5826, -10.3477,-10.1135,-9.87654,-9.52336, -9.28857,-8.92214,-8.67603,-8.42981, -8.18746,-7.82412,-7.58055,-7.33601, -7.08712,-6.71787,-6.47306,-6.11019, -5.74187,-5.49627,-5.24511,-4.86459, -4.73771,-4.70803,-4.70885,-4.71061, -4.71087,-4.71086,-4.7125,-5.09293, -5.47257,-5.71737,-5.95942,-6.20769, -6.56896,-6.8186,-7.17761,-7.42579, -7.67421,-7.9165,-8.1667,-8.41291, -8.65213,-8.89649,-9.13905,-9.37961, -9.62041,-9.97316,-10.2091,-10.4454, -10.6812,-10.9179,-11.153,-11.3904, -11.6263,-12.0912,-12.3264,-12.5621, -12.8028,-13.1565,-13.5085,-13.8591, -14.0929,-14.3256,-14.5613,-14.7959, -15.0303,-15.4896,-15.8451,-16.0824, -16.3153,-16.5482,-16.6647,-16.7077)
FOOTPRINT_POINT_LONGITUDE = (339.517,338.943,338.439,338.428, 338.415,338.417,338.419,338.421,338.422 ,338.423,338.425,338.425,338.425, 338.427,338.428,338.428,338.428,338.429 ,338.429,338.429,338.429,338.429, 338.429,338.428,338.428,338.427,338.427 ,338.426,338.426,338.426,338.424, 338.423,338.423,338.421,338.42,338.418, 338.417,338.417,338.416,338.414,338.411 ,338.408,338.406,338.405,338.402, 338.399,338.397,338.394,338.392,338.392 ,338.718,339.192,339.497,339.508, 339.515,339.514,339.513,339.513,339.514 ,339.513,339.514,339.512,339.515, 339.514,339.512,339.513,339.511,339.511 ,339.513,339.513,339.513,339.514, 339.512,339.513,339.513,339.513,339.513 ,339.513,339.513,339.513,339.513, 339.515,339.515,339.515,339.514,339.514 ,339.515,339.516,339.516,339.517, 339.517,339.518,339.518,339.521,339.521 ,339.52,339.521,339.522,339.522, 339.517)
ORBIT_NUMBER = 4167
ORBITAL_ECCENTRICITY = 0.571
ORBITAL_INCLINATION = 86.69
ORBITAL_SEMIMAJOR_AXIS = 8613.92
PERIAPSIS_ALTITUDE = 301.78
PERIAPSIS_ARGUMENT_ANGLE = 344.05
PERIAPSIS_TIME = 2007-04-04T12:01:25.000Z
SPACECRAFT_ORIENTATION = (0.0,1.0,0.0)
^MEX_ORIENTATION_DESC = "MEX_ORIENTATION_DESC.TXT"
SPACECRAFT_POINTING_MODE = ACROSSTRACK
^MEX_POINTING_DESC = "MEX_POINTING_DESC.TXT"
RIGHT_ASCENSION = -1e+32
DECLINATION = -1e+32
OFFSET_ANGLE = 0.1
SPACECRAFT_SOLAR_DISTANCE = 2.10523e+08
TARGET_NAME = MARS
/* CAMERA DATA ELEMENTS */
DETECTOR_TEMPERATURE = 18.5744
FOCAL_PLANE_TEMPERATURE = 9.195
INST_CMPRS_NAME = "DISCRETE COSINE TRANSFORMATION (DCT)"
INST_CMPRS_RATIO = 12.693
INST_CMPRS_QUALITY = 0
INST_CMPRS_QUANTZ_TBL_ID = 0
INSTRUMENT_TEMPERATURE = 11.6418
LENS_TEMPERATURE = 9.8067
MACROPIXEL_SIZE = 8
MISSING_FRAMES = 0
PIXEL_SUBSAMPLING_FLAG = N
SIGNAL_CHAIN_ID = 3
/* RADIOMETRIC DATA ELEMENTS */
BANDWIDTH = 48.0
CENTER_FILTER_WAVELENGTH = 748.0
RADIANCE_OFFSET = 0.799752
RADIANCE_SCALING_FACTOR = 0.00249391
REFLECTANCE_SCALING_FACTOR = 0.000252235
MEX:REFLECTANCE_OFFSET = 0.0808871
/* IMAGE OBJECT DEFINITIONS */
OBJECT = IMAGE
  INTERCHANGE_FORMAT = BINARY
  LINES = 7094
  LINE_SAMPLES = 681
  SAMPLE_TYPE = UNSIGNED_INTEGER
  SAMPLE_BITS = 8
  BANDS = 1
  BAND_STORAGE_TYPE = BAND_SEQUENTIAL
  MAXIMUM = 255
  MEAN = 111.853
  MINIMUM = 2
  STANDARD_DEVIATION = 28.5155
END_OBJECT = IMAGE
/* MAP OBJECT DEFINITIONS */
OBJECT = IMAGE_MAP_PROJECTION
  ^DATA_SET_MAP_PROJECTION_CATALOG= "DSMAP.CAT"
  A_AXIS_RADIUS = 3396.0
  B_AXIS_RADIUS = 3396.0
  C_AXIS_RADIUS = 3396.0
  CENTER_LATITUDE = 0.0
  CENTER_LONGITUDE = 339.0
  COORDINATE_SYSTEM_NAME = PLANETOGRAPHIC
  COORDINATE_SYSTEM_TYPE = "BODY-FIXED ROTATING"
  EASTERNMOST_LONGITUDE = 339.522
  FIRST_STANDARD_PARALLEL = "N/A"
  LINE_FIRST_PIXEL = 1
  LINE_LAST_PIXEL = 7094
  LINE_PROJECTION_OFFSET = -2800.3125
  MAP_PROJECTION_ROTATION = 0.0
  MAP_PROJECTION_TYPE = SINUSOIDAL
  MAP_RESOLUTION = 592.713803866667
  MAP_SCALE = 0.1
  MAXIMUM_LATITUDE = -4.70803
  MINIMUM_LATITUDE = -16.7077
  POSITIVE_LONGITUDE_DIRECTION = EAST
  REFERENCE_LATITUDE = "N/A"
  REFERENCE_LONGITUDE = "N/A"
  SAMPLE_FIRST_PIXEL = 1
  SAMPLE_LAST_PIXEL = 681
  SAMPLE_PROJECTION_OFFSET = 369.5625
  SECOND_STANDARD_PARALLEL = "N/A"
  WESTERNMOST_LONGITUDE = 338.392
END_OBJECT = IMAGE_MAP_PROJECTION
END
